BEGIN:VCALENDAR
VERSION:2.0
PRODID:-//Chassell Farmers Market &amp; Houghton Indoor Farm and Craft Market - ECPv6.15.17//NONSGML v1.0//EN
CALSCALE:GREGORIAN
METHOD:PUBLISH
X-ORIGINAL-URL:https://chassellmarket.com
X-WR-CALDESC:Events for Chassell Farmers Market &amp; Houghton Indoor Farm and Craft Market
REFRESH-INTERVAL;VALUE=DURATION:PT1H
X-Robots-Tag:noindex
X-PUBLISHED-TTL:PT1H
BEGIN:VTIMEZONE
TZID:America/New_York
BEGIN:DAYLIGHT
TZOFFSETFROM:-0500
TZOFFSETTO:-0400
TZNAME:EDT
DTSTART:20240310T070000
END:DAYLIGHT
BEGIN:STANDARD
TZOFFSETFROM:-0400
TZOFFSETTO:-0500
TZNAME:EST
DTSTART:20241103T060000
END:STANDARD
BEGIN:DAYLIGHT
TZOFFSETFROM:-0500
TZOFFSETTO:-0400
TZNAME:EDT
DTSTART:20250309T070000
END:DAYLIGHT
BEGIN:STANDARD
TZOFFSETFROM:-0400
TZOFFSETTO:-0500
TZNAME:EST
DTSTART:20251102T060000
END:STANDARD
BEGIN:DAYLIGHT
TZOFFSETFROM:-0500
TZOFFSETTO:-0400
TZNAME:EDT
DTSTART:20260308T070000
END:DAYLIGHT
BEGIN:STANDARD
TZOFFSETFROM:-0400
TZOFFSETTO:-0500
TZNAME:EST
DTSTART:20261101T060000
END:STANDARD
END:VTIMEZONE
BEGIN:VEVENT
DTSTART;TZID=America/New_York:20250724T170000
DTEND;TZID=America/New_York:20250724T170000
DTSTAMP:20260421T235805
CREATED:20250706T044318Z
LAST-MODIFIED:20250720T102457Z
UID:10006463-1753376400-1753376400@chassellmarket.com
SUMMARY:Meeting of the Makers
DESCRIPTION:Keweenaw Fab Lab will host a Meeting of the Makers at the Orpheum in Hancock. Bring a project to share or just come to share ideas. \nSchedule: • 5-6pm – get food & drinks\, socialize\, sign up to present if you've brought something to share • 6-? – "Open Make Night" – People with something to share will have the group's attention for a short time to demo\, discuss their project\, or ask for help. We will have a laptop connected to a projector\, if you'd like to share something you have stored online or on a usb stick. \nAll skill levels and ages are welcome. Food and drinks will be available for purchase from 5th & Elm inside The Orpheum.
URL:https://chassellmarket.com/community-calendar/meeting-of-the-makers-8/
LOCATION:The Orpheum Theater\, 426 Quincy St\, Hancock\, MI\, United States
CATEGORIES:Events
GEO:47.126506;-88.585467
X-APPLE-STRUCTURED-LOCATION;VALUE=URI;X-ADDRESS=The Orpheum Theater 426 Quincy St Hancock MI United States;X-APPLE-RADIUS=500;X-TITLE=426 Quincy St:geo:-88.585467,47.126506
END:VEVENT
BEGIN:VEVENT
DTSTART;TZID=America/New_York:20250626T170000
DTEND;TZID=America/New_York:20250626T170000
DTSTAMP:20260421T235805
CREATED:20250608T044422Z
LAST-MODIFIED:20250622T044017Z
UID:10006328-1750957200-1750957200@chassellmarket.com
SUMMARY:Meeting of the Makers
DESCRIPTION:Keweenaw Fab Lab will host a Meeting of the Makers at the Orpheum in Hancock. Bring a project to share or just come to share ideas. \nSchedule: • 5-6pm – get food & drinks\, socialize\, sign up to present if you've brought something to share • 6-? – "Open Make Night" – People with something to share will have the group's attention for a short time to demo\, discuss their project\, or ask for help. We will have a laptop connected to a projector\, if you'd like to share something you have stored online or on a usb stick. \nAll skill levels and ages are welcome. Food and drinks will be available for purchase from 5th & Elm inside The Orpheum.
URL:https://chassellmarket.com/community-calendar/meeting-of-the-makers-7/
LOCATION:The Orpheum Theater\, 426 Quincy St\, Hancock\, MI\, United States
CATEGORIES:Events
GEO:47.126506;-88.585467
X-APPLE-STRUCTURED-LOCATION;VALUE=URI;X-ADDRESS=The Orpheum Theater 426 Quincy St Hancock MI United States;X-APPLE-RADIUS=500;X-TITLE=426 Quincy St:geo:-88.585467,47.126506
END:VEVENT
BEGIN:VEVENT
DTSTART;TZID=America/New_York:20250522T170000
DTEND;TZID=America/New_York:20250522T170000
DTSTAMP:20260421T235805
CREATED:20250511T044158Z
LAST-MODIFIED:20250518T044221Z
UID:10006133-1747933200-1747933200@chassellmarket.com
SUMMARY:Meeting of the Makers
DESCRIPTION:Keweenaw Fab Lab will host a Meeting of the Makers at the Orpheum in Hancock. Bring a project to share or just come to share ideas. \nSchedule: • 5-6pm – get food & drinks\, socialize\, sign up to present if you've brought something to share • 6-? – "Open Make Night" – People with something to share will have the group's attention for a short time to demo\, discuss their project\, or ask for help. We will have a laptop connected to a projector\, if you'd like to share something you have stored online or on a usb stick. \nAll skill levels and ages are welcome. Food and drinks will be available for purchase from 5th & Elm inside The Orpheum.
URL:https://chassellmarket.com/community-calendar/meeting-of-the-makers-6/
LOCATION:The Orpheum Theater\, 426 Quincy St\, Hancock\, MI\, United States
CATEGORIES:Events
GEO:47.126506;-88.585467
X-APPLE-STRUCTURED-LOCATION;VALUE=URI;X-ADDRESS=The Orpheum Theater 426 Quincy St Hancock MI United States;X-APPLE-RADIUS=500;X-TITLE=426 Quincy St:geo:-88.585467,47.126506
END:VEVENT
BEGIN:VEVENT
DTSTART;TZID=America/New_York:20250507T190000
DTEND;TZID=America/New_York:20250507T190000
DTSTAMP:20260421T235805
CREATED:20250427T042801Z
LAST-MODIFIED:20250504T042628Z
UID:10006036-1746644400-1746644400@chassellmarket.com
SUMMARY:Is It Really Recycled?
DESCRIPTION:The Copper Country Recycling Initiative will host Josh Wales\, Materials Management Supervisor at Recycle906 in Marquette\, for a discussion about what items and substances really get recycled\, and how it happens. The public is welcome\, and a Q&A session sill follow the presentation. Doors open at 6:30\, and the program begins at 7.
URL:https://chassellmarket.com/community-calendar/is-it-really-recycled/
LOCATION:The Orpheum Theater\, 426 Quincy St\, Hancock\, MI\, United States
CATEGORIES:Events
GEO:47.126506;-88.585467
X-APPLE-STRUCTURED-LOCATION;VALUE=URI;X-ADDRESS=The Orpheum Theater 426 Quincy St Hancock MI United States;X-APPLE-RADIUS=500;X-TITLE=426 Quincy St:geo:-88.585467,47.126506
END:VEVENT
END:VCALENDAR