BEGIN:VCALENDAR
VERSION:2.0
PRODID:-//Chassell Farmers Market &amp; Houghton Indoor Farm and Craft Market - ECPv6.15.17//NONSGML v1.0//EN
CALSCALE:GREGORIAN
METHOD:PUBLISH
X-ORIGINAL-URL:https://chassellmarket.com
X-WR-CALDESC:Events for Chassell Farmers Market &amp; Houghton Indoor Farm and Craft Market
REFRESH-INTERVAL;VALUE=DURATION:PT1H
X-Robots-Tag:noindex
X-PUBLISHED-TTL:PT1H
BEGIN:VTIMEZONE
TZID:America/New_York
BEGIN:DAYLIGHT
TZOFFSETFROM:-0500
TZOFFSETTO:-0400
TZNAME:EDT
DTSTART:20240310T070000
END:DAYLIGHT
BEGIN:STANDARD
TZOFFSETFROM:-0400
TZOFFSETTO:-0500
TZNAME:EST
DTSTART:20241103T060000
END:STANDARD
BEGIN:DAYLIGHT
TZOFFSETFROM:-0500
TZOFFSETTO:-0400
TZNAME:EDT
DTSTART:20250309T070000
END:DAYLIGHT
BEGIN:STANDARD
TZOFFSETFROM:-0400
TZOFFSETTO:-0500
TZNAME:EST
DTSTART:20251102T060000
END:STANDARD
BEGIN:DAYLIGHT
TZOFFSETFROM:-0500
TZOFFSETTO:-0400
TZNAME:EDT
DTSTART:20260308T070000
END:DAYLIGHT
BEGIN:STANDARD
TZOFFSETFROM:-0400
TZOFFSETTO:-0500
TZNAME:EST
DTSTART:20261101T060000
END:STANDARD
END:VTIMEZONE
BEGIN:VEVENT
DTSTART;TZID=America/New_York:20251214T140000
DTEND;TZID=America/New_York:20251214T170000
DTSTAMP:20260421T074631
CREATED:20251123T110008Z
LAST-MODIFIED:20251214T105437Z
UID:10007160-1765720800-1765731600@chassellmarket.com
SUMMARY:Polka Dance - South Range
DESCRIPTION:The South Range Eagles Club hosts polka dances with live music each Sunday. All are welcome.
URL:https://chassellmarket.com/community-calendar/polka-dance-south-range-141/
LOCATION:South Range Eagles\, 8 Baltic Ave\, South Range\, MI\, United States
CATEGORIES:Events
GEO:47.070836;-88.640432
X-APPLE-STRUCTURED-LOCATION;VALUE=URI;X-ADDRESS=South Range Eagles 8 Baltic Ave South Range MI United States;X-APPLE-RADIUS=500;X-TITLE=8 Baltic Ave:geo:-88.640432,47.070836
END:VEVENT
BEGIN:VEVENT
DTSTART;TZID=America/New_York:20251210T140000
DTEND;TZID=America/New_York:20251210T140000
DTSTAMP:20260421T074631
CREATED:20251116T104316Z
LAST-MODIFIED:20251207T105527Z
UID:10007107-1765375200-1765375200@chassellmarket.com
SUMMARY:Bingo - South Range
DESCRIPTION:The South Range Eagles Hall hosts Bingo every Wednesday. All are welcome.
URL:https://chassellmarket.com/community-calendar/bingo-south-range-141/
LOCATION:South Range Eagles\, 8 Baltic Ave\, South Range\, MI\, United States
CATEGORIES:Events
GEO:47.070836;-88.640432
X-APPLE-STRUCTURED-LOCATION;VALUE=URI;X-ADDRESS=South Range Eagles 8 Baltic Ave South Range MI United States;X-APPLE-RADIUS=500;X-TITLE=8 Baltic Ave:geo:-88.640432,47.070836
END:VEVENT
BEGIN:VEVENT
DTSTART;TZID=America/New_York:20251207T140000
DTEND;TZID=America/New_York:20251207T170000
DTSTAMP:20260421T074631
CREATED:20251116T104243Z
LAST-MODIFIED:20251207T105456Z
UID:10007097-1765116000-1765126800@chassellmarket.com
SUMMARY:Polka Dance - South Range
DESCRIPTION:The South Range Eagles Club hosts polka dances with live music each Sunday. All are welcome.
URL:https://chassellmarket.com/community-calendar/polka-dance-south-range-140/
LOCATION:South Range Eagles\, 8 Baltic Ave\, South Range\, MI\, United States
CATEGORIES:Events
GEO:47.070836;-88.640432
X-APPLE-STRUCTURED-LOCATION;VALUE=URI;X-ADDRESS=South Range Eagles 8 Baltic Ave South Range MI United States;X-APPLE-RADIUS=500;X-TITLE=8 Baltic Ave:geo:-88.640432,47.070836
END:VEVENT
BEGIN:VEVENT
DTSTART;TZID=America/New_York:20251203T140000
DTEND;TZID=America/New_York:20251203T140000
DTSTAMP:20260421T074631
CREATED:20251109T105038Z
LAST-MODIFIED:20251130T105816Z
UID:10007081-1764770400-1764770400@chassellmarket.com
SUMMARY:Bingo - South Range
DESCRIPTION:The South Range Eagles Hall hosts Bingo every Wednesday. All are welcome.
URL:https://chassellmarket.com/community-calendar/bingo-south-range-140/
LOCATION:South Range Eagles\, 8 Baltic Ave\, South Range\, MI\, United States
CATEGORIES:Events
GEO:47.070836;-88.640432
X-APPLE-STRUCTURED-LOCATION;VALUE=URI;X-ADDRESS=South Range Eagles 8 Baltic Ave South Range MI United States;X-APPLE-RADIUS=500;X-TITLE=8 Baltic Ave:geo:-88.640432,47.070836
END:VEVENT
BEGIN:VEVENT
DTSTART;TZID=America/New_York:20251130T140000
DTEND;TZID=America/New_York:20251130T170000
DTSTAMP:20260421T074631
CREATED:20251109T104915Z
LAST-MODIFIED:20251130T105605Z
UID:10007067-1764511200-1764522000@chassellmarket.com
SUMMARY:Polka Dance - South Range
DESCRIPTION:The South Range Eagles Club hosts polka dances with live music each Sunday. All are welcome.
URL:https://chassellmarket.com/community-calendar/polka-dance-south-range-139/
LOCATION:South Range Eagles\, 8 Baltic Ave\, South Range\, MI\, United States
CATEGORIES:Events
GEO:47.070836;-88.640432
X-APPLE-STRUCTURED-LOCATION;VALUE=URI;X-ADDRESS=South Range Eagles 8 Baltic Ave South Range MI United States;X-APPLE-RADIUS=500;X-TITLE=8 Baltic Ave:geo:-88.640432,47.070836
END:VEVENT
BEGIN:VEVENT
DTSTART;TZID=America/New_York:20251126T140000
DTEND;TZID=America/New_York:20251126T140000
DTSTAMP:20260421T074631
CREATED:20251102T104551Z
LAST-MODIFIED:20251123T105645Z
UID:10007058-1764165600-1764165600@chassellmarket.com
SUMMARY:Bingo - South Range
DESCRIPTION:The South Range Eagles Hall hosts Bingo every Wednesday. All are welcome.
URL:https://chassellmarket.com/community-calendar/bingo-south-range-139/
LOCATION:South Range Eagles\, 8 Baltic Ave\, South Range\, MI\, United States
CATEGORIES:Events
GEO:47.070836;-88.640432
X-APPLE-STRUCTURED-LOCATION;VALUE=URI;X-ADDRESS=South Range Eagles 8 Baltic Ave South Range MI United States;X-APPLE-RADIUS=500;X-TITLE=8 Baltic Ave:geo:-88.640432,47.070836
END:VEVENT
BEGIN:VEVENT
DTSTART;TZID=America/New_York:20251123T140000
DTEND;TZID=America/New_York:20251123T170000
DTSTAMP:20260421T074631
CREATED:20251102T104429Z
LAST-MODIFIED:20251123T105457Z
UID:10007042-1763906400-1763917200@chassellmarket.com
SUMMARY:Polka Dance - South Range
DESCRIPTION:The South Range Eagles Club hosts polka dances with live music each Sunday. All are welcome.
URL:https://chassellmarket.com/community-calendar/polka-dance-south-range-138/
LOCATION:South Range Eagles\, 8 Baltic Ave\, South Range\, MI\, United States
CATEGORIES:Events
GEO:47.070836;-88.640432
X-APPLE-STRUCTURED-LOCATION;VALUE=URI;X-ADDRESS=South Range Eagles 8 Baltic Ave South Range MI United States;X-APPLE-RADIUS=500;X-TITLE=8 Baltic Ave:geo:-88.640432,47.070836
END:VEVENT
BEGIN:VEVENT
DTSTART;TZID=America/New_York:20251119T140000
DTEND;TZID=America/New_York:20251119T140000
DTSTAMP:20260421T074631
CREATED:20251026T104506Z
LAST-MODIFIED:20251116T104009Z
UID:10007034-1763560800-1763560800@chassellmarket.com
SUMMARY:Bingo - South Range
DESCRIPTION:The South Range Eagles Hall hosts Bingo every Wednesday. All are welcome.
URL:https://chassellmarket.com/community-calendar/bingo-south-range-138/
LOCATION:South Range Eagles\, 8 Baltic Ave\, South Range\, MI\, United States
CATEGORIES:Events
GEO:47.070836;-88.640432
X-APPLE-STRUCTURED-LOCATION;VALUE=URI;X-ADDRESS=South Range Eagles 8 Baltic Ave South Range MI United States;X-APPLE-RADIUS=500;X-TITLE=8 Baltic Ave:geo:-88.640432,47.070836
END:VEVENT
BEGIN:VEVENT
DTSTART;TZID=America/New_York:20251116T140000
DTEND;TZID=America/New_York:20251116T170000
DTSTAMP:20260421T074631
CREATED:20251026T104341Z
LAST-MODIFIED:20251116T103934Z
UID:10007020-1763301600-1763312400@chassellmarket.com
SUMMARY:Polka Dance - South Range
DESCRIPTION:The South Range Eagles Club hosts polka dances with live music each Sunday. All are welcome.
URL:https://chassellmarket.com/community-calendar/polka-dance-south-range-137/
LOCATION:South Range Eagles\, 8 Baltic Ave\, South Range\, MI\, United States
CATEGORIES:Events
GEO:47.070836;-88.640432
X-APPLE-STRUCTURED-LOCATION;VALUE=URI;X-ADDRESS=South Range Eagles 8 Baltic Ave South Range MI United States;X-APPLE-RADIUS=500;X-TITLE=8 Baltic Ave:geo:-88.640432,47.070836
END:VEVENT
BEGIN:VEVENT
DTSTART;TZID=America/New_York:20251112T140000
DTEND;TZID=America/New_York:20251112T140000
DTSTAMP:20260421T074631
CREATED:20251019T104343Z
LAST-MODIFIED:20251109T104248Z
UID:10006961-1762956000-1762956000@chassellmarket.com
SUMMARY:Bingo - South Range
DESCRIPTION:The South Range Eagles Hall hosts Bingo every Wednesday. All are welcome.
URL:https://chassellmarket.com/community-calendar/bingo-south-range-137/
LOCATION:South Range Eagles\, 8 Baltic Ave\, South Range\, MI\, United States
CATEGORIES:Events
GEO:47.070836;-88.640432
X-APPLE-STRUCTURED-LOCATION;VALUE=URI;X-ADDRESS=South Range Eagles 8 Baltic Ave South Range MI United States;X-APPLE-RADIUS=500;X-TITLE=8 Baltic Ave:geo:-88.640432,47.070836
END:VEVENT
BEGIN:VEVENT
DTSTART;TZID=America/New_York:20251109T140000
DTEND;TZID=America/New_York:20251109T170000
DTSTAMP:20260421T074631
CREATED:20251012T104726Z
LAST-MODIFIED:20251109T104012Z
UID:10006947-1762696800-1762707600@chassellmarket.com
SUMMARY:Polka Dance - South Range
DESCRIPTION:The South Range Eagles Club hosts polka dances with live music each Sunday. All are welcome.
URL:https://chassellmarket.com/community-calendar/polka-dance-south-range-136/
LOCATION:South Range Eagles\, 8 Baltic Ave\, South Range\, MI\, United States
CATEGORIES:Events
GEO:47.070836;-88.640432
X-APPLE-STRUCTURED-LOCATION;VALUE=URI;X-ADDRESS=South Range Eagles 8 Baltic Ave South Range MI United States;X-APPLE-RADIUS=500;X-TITLE=8 Baltic Ave:geo:-88.640432,47.070836
END:VEVENT
BEGIN:VEVENT
DTSTART;TZID=America/New_York:20251105T140000
DTEND;TZID=America/New_York:20251105T140000
DTSTAMP:20260421T074631
CREATED:20251012T104700Z
LAST-MODIFIED:20251102T104031Z
UID:10006936-1762351200-1762351200@chassellmarket.com
SUMMARY:Bingo - South Range
DESCRIPTION:The South Range Eagles Hall hosts Bingo every Wednesday. All are welcome.
URL:https://chassellmarket.com/community-calendar/bingo-south-range-136/
LOCATION:South Range Eagles\, 8 Baltic Ave\, South Range\, MI\, United States
CATEGORIES:Events
GEO:47.070836;-88.640432
X-APPLE-STRUCTURED-LOCATION;VALUE=URI;X-ADDRESS=South Range Eagles 8 Baltic Ave South Range MI United States;X-APPLE-RADIUS=500;X-TITLE=8 Baltic Ave:geo:-88.640432,47.070836
END:VEVENT
BEGIN:VEVENT
DTSTART;TZID=America/New_York:20251102T140000
DTEND;TZID=America/New_York:20251102T170000
DTSTAMP:20260421T074631
CREATED:20251012T104559Z
LAST-MODIFIED:20251102T103941Z
UID:10006921-1762092000-1762102800@chassellmarket.com
SUMMARY:Polka Dance - South Range
DESCRIPTION:The South Range Eagles Club hosts polka dances with live music each Sunday. All are welcome.
URL:https://chassellmarket.com/community-calendar/polka-dance-south-range-135/
LOCATION:South Range Eagles\, 8 Baltic Ave\, South Range\, MI\, United States
CATEGORIES:Events
GEO:47.070836;-88.640432
X-APPLE-STRUCTURED-LOCATION;VALUE=URI;X-ADDRESS=South Range Eagles 8 Baltic Ave South Range MI United States;X-APPLE-RADIUS=500;X-TITLE=8 Baltic Ave:geo:-88.640432,47.070836
END:VEVENT
BEGIN:VEVENT
DTSTART;TZID=America/New_York:20251029T140000
DTEND;TZID=America/New_York:20251029T140000
DTSTAMP:20260421T074631
CREATED:20251005T104808Z
LAST-MODIFIED:20251026T104012Z
UID:10006909-1761746400-1761746400@chassellmarket.com
SUMMARY:Bingo - South Range
DESCRIPTION:The South Range Eagles Hall hosts Bingo every Wednesday. All are welcome.
URL:https://chassellmarket.com/community-calendar/bingo-south-range-135/
LOCATION:South Range Eagles\, 8 Baltic Ave\, South Range\, MI\, United States
CATEGORIES:Events
GEO:47.070836;-88.640432
X-APPLE-STRUCTURED-LOCATION;VALUE=URI;X-ADDRESS=South Range Eagles 8 Baltic Ave South Range MI United States;X-APPLE-RADIUS=500;X-TITLE=8 Baltic Ave:geo:-88.640432,47.070836
END:VEVENT
BEGIN:VEVENT
DTSTART;TZID=America/New_York:20251026T140000
DTEND;TZID=America/New_York:20251026T170000
DTSTAMP:20260421T074631
CREATED:20251005T104746Z
LAST-MODIFIED:20251026T103945Z
UID:10006896-1761487200-1761498000@chassellmarket.com
SUMMARY:Polka Dance - South Range
DESCRIPTION:The South Range Eagles Club hosts polka dances with live music each Sunday. All are welcome.
URL:https://chassellmarket.com/community-calendar/polka-dance-south-range-134/
LOCATION:South Range Eagles\, 8 Baltic Ave\, South Range\, MI\, United States
CATEGORIES:Events
GEO:47.070836;-88.640432
X-APPLE-STRUCTURED-LOCATION;VALUE=URI;X-ADDRESS=South Range Eagles 8 Baltic Ave South Range MI United States;X-APPLE-RADIUS=500;X-TITLE=8 Baltic Ave:geo:-88.640432,47.070836
END:VEVENT
BEGIN:VEVENT
DTSTART;TZID=America/New_York:20251022T140000
DTEND;TZID=America/New_York:20251022T140000
DTSTAMP:20260421T074631
CREATED:20250928T104504Z
LAST-MODIFIED:20251019T104013Z
UID:10006889-1761141600-1761141600@chassellmarket.com
SUMMARY:Bingo - South Range
DESCRIPTION:The South Range Eagles Hall hosts Bingo every Wednesday. All are welcome.
URL:https://chassellmarket.com/community-calendar/bingo-south-range-134/
LOCATION:South Range Eagles\, 8 Baltic Ave\, South Range\, MI\, United States
CATEGORIES:Events
GEO:47.070836;-88.640432
X-APPLE-STRUCTURED-LOCATION;VALUE=URI;X-ADDRESS=South Range Eagles 8 Baltic Ave South Range MI United States;X-APPLE-RADIUS=500;X-TITLE=8 Baltic Ave:geo:-88.640432,47.070836
END:VEVENT
BEGIN:VEVENT
DTSTART;TZID=America/New_York:20251019T140000
DTEND;TZID=America/New_York:20251019T170000
DTSTAMP:20260421T074631
CREATED:20250928T104431Z
LAST-MODIFIED:20251019T103951Z
UID:10006875-1760882400-1760893200@chassellmarket.com
SUMMARY:Polka Dance - South Range
DESCRIPTION:The South Range Eagles Club hosts polka dances with live music each Sunday. All are welcome.
URL:https://chassellmarket.com/community-calendar/polka-dance-south-range-133/
LOCATION:South Range Eagles\, 8 Baltic Ave\, South Range\, MI\, United States
CATEGORIES:Events
GEO:47.070836;-88.640432
X-APPLE-STRUCTURED-LOCATION;VALUE=URI;X-ADDRESS=South Range Eagles 8 Baltic Ave South Range MI United States;X-APPLE-RADIUS=500;X-TITLE=8 Baltic Ave:geo:-88.640432,47.070836
END:VEVENT
BEGIN:VEVENT
DTSTART;TZID=America/New_York:20251015T140000
DTEND;TZID=America/New_York:20251015T140000
DTSTAMP:20260421T074631
CREATED:20250921T104442Z
LAST-MODIFIED:20251012T104113Z
UID:10006863-1760536800-1760536800@chassellmarket.com
SUMMARY:Bingo - South Range
DESCRIPTION:The South Range Eagles Hall hosts Bingo every Wednesday. All are welcome.
URL:https://chassellmarket.com/community-calendar/bingo-south-range-133/
LOCATION:South Range Eagles\, 8 Baltic Ave\, South Range\, MI\, United States
CATEGORIES:Events
GEO:47.070836;-88.640432
X-APPLE-STRUCTURED-LOCATION;VALUE=URI;X-ADDRESS=South Range Eagles 8 Baltic Ave South Range MI United States;X-APPLE-RADIUS=500;X-TITLE=8 Baltic Ave:geo:-88.640432,47.070836
END:VEVENT
BEGIN:VEVENT
DTSTART;TZID=America/New_York:20251012T140000
DTEND;TZID=America/New_York:20251012T170000
DTSTAMP:20260421T074631
CREATED:20250921T104400Z
LAST-MODIFIED:20251012T103950Z
UID:10006849-1760277600-1760288400@chassellmarket.com
SUMMARY:Polka Dance - South Range
DESCRIPTION:The South Range Eagles Club hosts polka dances with live music each Sunday. All are welcome.
URL:https://chassellmarket.com/community-calendar/polka-dance-south-range-132/
LOCATION:South Range Eagles\, 8 Baltic Ave\, South Range\, MI\, United States
CATEGORIES:Events
GEO:47.070836;-88.640432
X-APPLE-STRUCTURED-LOCATION;VALUE=URI;X-ADDRESS=South Range Eagles 8 Baltic Ave South Range MI United States;X-APPLE-RADIUS=500;X-TITLE=8 Baltic Ave:geo:-88.640432,47.070836
END:VEVENT
BEGIN:VEVENT
DTSTART;TZID=America/New_York:20251008T140000
DTEND;TZID=America/New_York:20251008T140000
DTSTAMP:20260421T074631
CREATED:20250914T104507Z
LAST-MODIFIED:20251005T104240Z
UID:10006789-1759932000-1759932000@chassellmarket.com
SUMMARY:Bingo - South Range
DESCRIPTION:The South Range Eagles Hall hosts Bingo every Wednesday. All are welcome.
URL:https://chassellmarket.com/community-calendar/bingo-south-range-132/
LOCATION:South Range Eagles\, 8 Baltic Ave\, South Range\, MI\, United States
CATEGORIES:Events
GEO:47.070836;-88.640432
X-APPLE-STRUCTURED-LOCATION;VALUE=URI;X-ADDRESS=South Range Eagles 8 Baltic Ave South Range MI United States;X-APPLE-RADIUS=500;X-TITLE=8 Baltic Ave:geo:-88.640432,47.070836
END:VEVENT
BEGIN:VEVENT
DTSTART;TZID=America/New_York:20251005T140000
DTEND;TZID=America/New_York:20251005T170000
DTSTAMP:20260421T074631
CREATED:20250914T104432Z
LAST-MODIFIED:20251005T104039Z
UID:10006772-1759672800-1759683600@chassellmarket.com
SUMMARY:Polka Dance - South Range
DESCRIPTION:The South Range Eagles Club hosts polka dances with live music each Sunday. All are welcome.
URL:https://chassellmarket.com/community-calendar/polka-dance-south-range-131/
LOCATION:South Range Eagles\, 8 Baltic Ave\, South Range\, MI\, United States
CATEGORIES:Events
GEO:47.070836;-88.640432
X-APPLE-STRUCTURED-LOCATION;VALUE=URI;X-ADDRESS=South Range Eagles 8 Baltic Ave South Range MI United States;X-APPLE-RADIUS=500;X-TITLE=8 Baltic Ave:geo:-88.640432,47.070836
END:VEVENT
BEGIN:VEVENT
DTSTART;TZID=America/New_York:20251001T140000
DTEND;TZID=America/New_York:20251001T140000
DTSTAMP:20260421T074631
CREATED:20250907T105037Z
LAST-MODIFIED:20250928T104142Z
UID:10006762-1759327200-1759327200@chassellmarket.com
SUMMARY:Bingo - South Range
DESCRIPTION:The South Range Eagles Hall hosts Bingo every Wednesday. All are welcome.
URL:https://chassellmarket.com/community-calendar/bingo-south-range-131/
LOCATION:South Range Eagles\, 8 Baltic Ave\, South Range\, MI\, United States
CATEGORIES:Events
GEO:47.070836;-88.640432
X-APPLE-STRUCTURED-LOCATION;VALUE=URI;X-ADDRESS=South Range Eagles 8 Baltic Ave South Range MI United States;X-APPLE-RADIUS=500;X-TITLE=8 Baltic Ave:geo:-88.640432,47.070836
END:VEVENT
BEGIN:VEVENT
DTSTART;TZID=America/New_York:20250928T140000
DTEND;TZID=America/New_York:20250928T170000
DTSTAMP:20260421T074631
CREATED:20250907T105010Z
LAST-MODIFIED:20250928T104022Z
UID:10006746-1759068000-1759078800@chassellmarket.com
SUMMARY:Polka Dance - South Range
DESCRIPTION:The South Range Eagles Club hosts polka dances with live music each Sunday. All are welcome.
URL:https://chassellmarket.com/community-calendar/polka-dance-south-range-130/
LOCATION:South Range Eagles\, 8 Baltic Ave\, South Range\, MI\, United States
CATEGORIES:Events
GEO:47.070836;-88.640432
X-APPLE-STRUCTURED-LOCATION;VALUE=URI;X-ADDRESS=South Range Eagles 8 Baltic Ave South Range MI United States;X-APPLE-RADIUS=500;X-TITLE=8 Baltic Ave:geo:-88.640432,47.070836
END:VEVENT
BEGIN:VEVENT
DTSTART;TZID=America/New_York:20250924T140000
DTEND;TZID=America/New_York:20250924T140000
DTSTAMP:20260421T074631
CREATED:20250831T104847Z
LAST-MODIFIED:20250921T104013Z
UID:10006738-1758722400-1758722400@chassellmarket.com
SUMMARY:Bingo - South Range
DESCRIPTION:The South Range Eagles Hall hosts Bingo every Wednesday. All are welcome.
URL:https://chassellmarket.com/community-calendar/bingo-south-range-130/
LOCATION:South Range Eagles\, 8 Baltic Ave\, South Range\, MI\, United States
CATEGORIES:Events
GEO:47.070836;-88.640432
X-APPLE-STRUCTURED-LOCATION;VALUE=URI;X-ADDRESS=South Range Eagles 8 Baltic Ave South Range MI United States;X-APPLE-RADIUS=500;X-TITLE=8 Baltic Ave:geo:-88.640432,47.070836
END:VEVENT
BEGIN:VEVENT
DTSTART;TZID=America/New_York:20250921T140000
DTEND;TZID=America/New_York:20250921T170000
DTSTAMP:20260421T074631
CREATED:20250831T104652Z
LAST-MODIFIED:20250921T103959Z
UID:10006723-1758463200-1758474000@chassellmarket.com
SUMMARY:Polka Dance - South Range
DESCRIPTION:The South Range Eagles Club hosts polka dances with live music each Sunday. All are welcome.
URL:https://chassellmarket.com/community-calendar/polka-dance-south-range-129/
LOCATION:South Range Eagles\, 8 Baltic Ave\, South Range\, MI\, United States
CATEGORIES:Events
GEO:47.070836;-88.640432
X-APPLE-STRUCTURED-LOCATION;VALUE=URI;X-ADDRESS=South Range Eagles 8 Baltic Ave South Range MI United States;X-APPLE-RADIUS=500;X-TITLE=8 Baltic Ave:geo:-88.640432,47.070836
END:VEVENT
BEGIN:VEVENT
DTSTART;TZID=America/New_York:20250917T140000
DTEND;TZID=America/New_York:20250917T140000
DTSTAMP:20260421T074631
CREATED:20250824T103019Z
LAST-MODIFIED:20250914T104009Z
UID:10006712-1758117600-1758117600@chassellmarket.com
SUMMARY:Bingo - South Range
DESCRIPTION:The South Range Eagles Hall hosts Bingo every Wednesday. All are welcome.
URL:https://chassellmarket.com/community-calendar/bingo-south-range-129/
LOCATION:South Range Eagles\, 8 Baltic Ave\, South Range\, MI\, United States
CATEGORIES:Events
GEO:47.070836;-88.640432
X-APPLE-STRUCTURED-LOCATION;VALUE=URI;X-ADDRESS=South Range Eagles 8 Baltic Ave South Range MI United States;X-APPLE-RADIUS=500;X-TITLE=8 Baltic Ave:geo:-88.640432,47.070836
END:VEVENT
BEGIN:VEVENT
DTSTART;TZID=America/New_York:20250914T140000
DTEND;TZID=America/New_York:20250914T170000
DTSTAMP:20260421T074631
CREATED:20250824T102950Z
LAST-MODIFIED:20250914T103947Z
UID:10006699-1757858400-1757869200@chassellmarket.com
SUMMARY:Polka Dance - South Range
DESCRIPTION:The South Range Eagles Club hosts polka dances with live music each Sunday. All are welcome.
URL:https://chassellmarket.com/community-calendar/polka-dance-south-range-128/
LOCATION:South Range Eagles\, 8 Baltic Ave\, South Range\, MI\, United States
CATEGORIES:Events
GEO:47.070836;-88.640432
X-APPLE-STRUCTURED-LOCATION;VALUE=URI;X-ADDRESS=South Range Eagles 8 Baltic Ave South Range MI United States;X-APPLE-RADIUS=500;X-TITLE=8 Baltic Ave:geo:-88.640432,47.070836
END:VEVENT
BEGIN:VEVENT
DTSTART;TZID=America/New_York:20250910T140000
DTEND;TZID=America/New_York:20250910T140000
DTSTAMP:20260421T074631
CREATED:20250817T103029Z
LAST-MODIFIED:20250907T104328Z
UID:10006660-1757512800-1757512800@chassellmarket.com
SUMMARY:Bingo - South Range
DESCRIPTION:The South Range Eagles Hall hosts Bingo every Wednesday. All are welcome.
URL:https://chassellmarket.com/community-calendar/bingo-south-range-128/
LOCATION:South Range Eagles\, 8 Baltic Ave\, South Range\, MI\, United States
CATEGORIES:Events
GEO:47.070836;-88.640432
X-APPLE-STRUCTURED-LOCATION;VALUE=URI;X-ADDRESS=South Range Eagles 8 Baltic Ave South Range MI United States;X-APPLE-RADIUS=500;X-TITLE=8 Baltic Ave:geo:-88.640432,47.070836
END:VEVENT
BEGIN:VEVENT
DTSTART;TZID=America/New_York:20250907T140000
DTEND;TZID=America/New_York:20250907T170000
DTSTAMP:20260421T074631
CREATED:20250817T103015Z
LAST-MODIFIED:20250907T104218Z
UID:10006647-1757253600-1757264400@chassellmarket.com
SUMMARY:Polka Dance - South Range
DESCRIPTION:The South Range Eagles Club hosts polka dances with live music each Sunday. All are welcome.
URL:https://chassellmarket.com/community-calendar/polka-dance-south-range-127/
LOCATION:South Range Eagles\, 8 Baltic Ave\, South Range\, MI\, United States
CATEGORIES:Events
GEO:47.070836;-88.640432
X-APPLE-STRUCTURED-LOCATION;VALUE=URI;X-ADDRESS=South Range Eagles 8 Baltic Ave South Range MI United States;X-APPLE-RADIUS=500;X-TITLE=8 Baltic Ave:geo:-88.640432,47.070836
END:VEVENT
BEGIN:VEVENT
DTSTART;TZID=America/New_York:20250903T140000
DTEND;TZID=America/New_York:20250903T140000
DTSTAMP:20260421T074631
CREATED:20250810T103010Z
LAST-MODIFIED:20250831T104301Z
UID:10006635-1756908000-1756908000@chassellmarket.com
SUMMARY:Bingo - South Range
DESCRIPTION:The South Range Eagles Hall hosts Bingo every Wednesday. All are welcome.
URL:https://chassellmarket.com/community-calendar/bingo-south-range-127/
LOCATION:South Range Eagles\, 8 Baltic Ave\, South Range\, MI\, United States
CATEGORIES:Events
GEO:47.070836;-88.640432
X-APPLE-STRUCTURED-LOCATION;VALUE=URI;X-ADDRESS=South Range Eagles 8 Baltic Ave South Range MI United States;X-APPLE-RADIUS=500;X-TITLE=8 Baltic Ave:geo:-88.640432,47.070836
END:VEVENT
END:VCALENDAR