BEGIN:VCALENDAR
VERSION:2.0
PRODID:-//Chassell Farmers Market &amp; Houghton Indoor Farm and Craft Market - ECPv6.15.17//NONSGML v1.0//EN
CALSCALE:GREGORIAN
METHOD:PUBLISH
X-ORIGINAL-URL:https://chassellmarket.com
X-WR-CALDESC:Events for Chassell Farmers Market &amp; Houghton Indoor Farm and Craft Market
REFRESH-INTERVAL;VALUE=DURATION:PT1H
X-Robots-Tag:noindex
X-PUBLISHED-TTL:PT1H
BEGIN:VTIMEZONE
TZID:America/New_York
BEGIN:DAYLIGHT
TZOFFSETFROM:-0500
TZOFFSETTO:-0400
TZNAME:EDT
DTSTART:20240310T070000
END:DAYLIGHT
BEGIN:STANDARD
TZOFFSETFROM:-0400
TZOFFSETTO:-0500
TZNAME:EST
DTSTART:20241103T060000
END:STANDARD
BEGIN:DAYLIGHT
TZOFFSETFROM:-0500
TZOFFSETTO:-0400
TZNAME:EDT
DTSTART:20250309T070000
END:DAYLIGHT
BEGIN:STANDARD
TZOFFSETFROM:-0400
TZOFFSETTO:-0500
TZNAME:EST
DTSTART:20251102T060000
END:STANDARD
BEGIN:DAYLIGHT
TZOFFSETFROM:-0500
TZOFFSETTO:-0400
TZNAME:EDT
DTSTART:20260308T070000
END:DAYLIGHT
BEGIN:STANDARD
TZOFFSETFROM:-0400
TZOFFSETTO:-0500
TZNAME:EST
DTSTART:20261101T060000
END:STANDARD
END:VTIMEZONE
BEGIN:VEVENT
DTSTART;TZID=America/New_York:20250720T160000
DTEND;TZID=America/New_York:20250720T173000
DTSTAMP:20260421T163305
CREATED:20250629T044536Z
LAST-MODIFIED:20250720T102435Z
UID:10006443-1753027200-1753032600@chassellmarket.com
SUMMARY:"Let's Eat" Community Meal
DESCRIPTION:The “Let’s Eat” community meal program offers a free dinner at Gloria Dei Lutheran Church in Hancock. All are welcome.
URL:https://chassellmarket.com/community-calendar/lets-eat-community-meal-5/
LOCATION:Gloria Dei Lutheran Church\, 1000 Quincy St\, Hancock\, MI\, United States
CATEGORIES:Events
GEO:47.126739;-88.597298
X-APPLE-STRUCTURED-LOCATION;VALUE=URI;X-ADDRESS=Gloria Dei Lutheran Church 1000 Quincy St Hancock MI United States;X-APPLE-RADIUS=500;X-TITLE=1000 Quincy St:geo:-88.597298,47.126739
END:VEVENT
BEGIN:VEVENT
DTSTART;TZID=America/New_York:20250518T150000
DTEND;TZID=America/New_York:20250518T150000
DTSTAMP:20260421T163305
CREATED:20250511T044114Z
LAST-MODIFIED:20250518T044009Z
UID:10006112-1747580400-1747580400@chassellmarket.com
SUMMARY:Copper Country Chorale Concert
DESCRIPTION:The Copper Country Chorale will present a 60th anniversary concert at Gloria Dei Lutheran Church in Hancock.  Guest groups performing on the concert are the Marquette Male Chorus and the St. Paul Evangelical Lutheran Church Choir of Laurium. There will be a Free Will Donation at the door. Refreshments follow the concert in the church’s fellowship hall.
URL:https://chassellmarket.com/community-calendar/copper-country-chorale-concert-2/
LOCATION:Gloria Dei Lutheran Church\, 1000 Quincy St\, Hancock\, MI\, United States
CATEGORIES:Events
GEO:47.126739;-88.597298
X-APPLE-STRUCTURED-LOCATION;VALUE=URI;X-ADDRESS=Gloria Dei Lutheran Church 1000 Quincy St Hancock MI United States;X-APPLE-RADIUS=500;X-TITLE=1000 Quincy St:geo:-88.597298,47.126739
END:VEVENT
END:VCALENDAR