BEGIN:VCALENDAR
VERSION:2.0
PRODID:-//Chassell Farmers Market &amp; Houghton Indoor Farm and Craft Market - ECPv6.15.17//NONSGML v1.0//EN
CALSCALE:GREGORIAN
METHOD:PUBLISH
X-ORIGINAL-URL:https://chassellmarket.com
X-WR-CALDESC:Events for Chassell Farmers Market &amp; Houghton Indoor Farm and Craft Market
REFRESH-INTERVAL;VALUE=DURATION:PT1H
X-Robots-Tag:noindex
X-PUBLISHED-TTL:PT1H
BEGIN:VTIMEZONE
TZID:America/New_York
BEGIN:DAYLIGHT
TZOFFSETFROM:-0500
TZOFFSETTO:-0400
TZNAME:EDT
DTSTART:20240310T070000
END:DAYLIGHT
BEGIN:STANDARD
TZOFFSETFROM:-0400
TZOFFSETTO:-0500
TZNAME:EST
DTSTART:20241103T060000
END:STANDARD
BEGIN:DAYLIGHT
TZOFFSETFROM:-0500
TZOFFSETTO:-0400
TZNAME:EDT
DTSTART:20250309T070000
END:DAYLIGHT
BEGIN:STANDARD
TZOFFSETFROM:-0400
TZOFFSETTO:-0500
TZNAME:EST
DTSTART:20251102T060000
END:STANDARD
BEGIN:DAYLIGHT
TZOFFSETFROM:-0500
TZOFFSETTO:-0400
TZNAME:EDT
DTSTART:20260308T070000
END:DAYLIGHT
BEGIN:STANDARD
TZOFFSETFROM:-0400
TZOFFSETTO:-0500
TZNAME:EST
DTSTART:20261101T060000
END:STANDARD
END:VTIMEZONE
BEGIN:VEVENT
DTSTART;TZID=America/New_York:20251030T150000
DTEND;TZID=America/New_York:20251030T150000
DTSTAMP:20260420T024139
CREATED:20251005T104835Z
LAST-MODIFIED:20251026T104017Z
UID:10006914-1761836400-1761836400@chassellmarket.com
SUMMARY:Caregivers Support Group
DESCRIPTION:The Baragaland Senior Center Caregiver’s Support Group meets every other Thursday at 3:00 (unless otherwise announced). Anyone caring for a loved one with dementia or Alzheimer’s is welcome. For more details\, call (906) 524-6711 or (906) 524-6922.
URL:https://chassellmarket.com/community-calendar/caregivers-support-group-29/
LOCATION:Baragaland Senior Citizens Center\, 6 N Main St\, L'Anse\, MI\, United States
CATEGORIES:Events
GEO:46.757969;-88.454464
X-APPLE-STRUCTURED-LOCATION;VALUE=URI;X-ADDRESS=Baragaland Senior Citizens Center 6 N Main St L'Anse MI United States;X-APPLE-RADIUS=500;X-TITLE=6 N Main St:geo:-88.454464,46.757969
END:VEVENT
BEGIN:VEVENT
DTSTART;TZID=America/New_York:20251028T130000
DTEND;TZID=America/New_York:20251028T130000
DTSTAMP:20260420T024139
CREATED:20251005T104802Z
LAST-MODIFIED:20251026T103953Z
UID:10006904-1761656400-1761656400@chassellmarket.com
SUMMARY:Bridge Games
DESCRIPTION:The Baragaland Senior Center hosts Bridge games each Tuesday at 1.
URL:https://chassellmarket.com/community-calendar/bridge-games-41/
LOCATION:Baragaland Senior Citizens Center\, 6 N Main St\, L'Anse\, MI\, United States
CATEGORIES:Events
GEO:46.757969;-88.454464
X-APPLE-STRUCTURED-LOCATION;VALUE=URI;X-ADDRESS=Baragaland Senior Citizens Center 6 N Main St L'Anse MI United States;X-APPLE-RADIUS=500;X-TITLE=6 N Main St:geo:-88.454464,46.757969
END:VEVENT
BEGIN:VEVENT
DTSTART;TZID=America/New_York:20251021T130000
DTEND;TZID=America/New_York:20251021T130000
DTSTAMP:20260420T024139
CREATED:20250928T104435Z
LAST-MODIFIED:20251019T103956Z
UID:10006882-1761051600-1761051600@chassellmarket.com
SUMMARY:Bridge Games
DESCRIPTION:The Baragaland Senior Center hosts Bridge games each Tuesday at 1.
URL:https://chassellmarket.com/community-calendar/bridge-games-40/
LOCATION:Baragaland Senior Citizens Center\, 6 N Main St\, L'Anse\, MI\, United States
CATEGORIES:Events
GEO:46.757969;-88.454464
X-APPLE-STRUCTURED-LOCATION;VALUE=URI;X-ADDRESS=Baragaland Senior Citizens Center 6 N Main St L'Anse MI United States;X-APPLE-RADIUS=500;X-TITLE=6 N Main St:geo:-88.454464,46.757969
END:VEVENT
BEGIN:VEVENT
DTSTART;TZID=America/New_York:20251016T150000
DTEND;TZID=America/New_York:20251016T150000
DTSTAMP:20260420T024139
CREATED:20250921T104501Z
LAST-MODIFIED:20251012T104113Z
UID:10006867-1760626800-1760626800@chassellmarket.com
SUMMARY:Caregivers Support Group
DESCRIPTION:The Baragaland Senior Center Caregiver’s Support Group meets every other Thursday at 3:00 (unless otherwise announced). Anyone caring for a loved one with dementia or Alzheimer’s is welcome. For more details\, call (906) 524-6711 or (906) 524-6922.
URL:https://chassellmarket.com/community-calendar/caregivers-support-group-28/
LOCATION:Baragaland Senior Citizens Center\, 6 N Main St\, L'Anse\, MI\, United States
CATEGORIES:Events
GEO:46.757969;-88.454464
X-APPLE-STRUCTURED-LOCATION;VALUE=URI;X-ADDRESS=Baragaland Senior Citizens Center 6 N Main St L'Anse MI United States;X-APPLE-RADIUS=500;X-TITLE=6 N Main St:geo:-88.454464,46.757969
END:VEVENT
BEGIN:VEVENT
DTSTART;TZID=America/New_York:20251014T130000
DTEND;TZID=America/New_York:20251014T130000
DTSTAMP:20260420T024139
CREATED:20250921T104421Z
LAST-MODIFIED:20251012T104033Z
UID:10006855-1760446800-1760446800@chassellmarket.com
SUMMARY:Bridge Games
DESCRIPTION:The Baragaland Senior Center hosts Bridge games each Tuesday at 1.
URL:https://chassellmarket.com/community-calendar/bridge-games-39/
LOCATION:Baragaland Senior Citizens Center\, 6 N Main St\, L'Anse\, MI\, United States
CATEGORIES:Events
GEO:46.757969;-88.454464
X-APPLE-STRUCTURED-LOCATION;VALUE=URI;X-ADDRESS=Baragaland Senior Citizens Center 6 N Main St L'Anse MI United States;X-APPLE-RADIUS=500;X-TITLE=6 N Main St:geo:-88.454464,46.757969
END:VEVENT
BEGIN:VEVENT
DTSTART;TZID=America/New_York:20251007T130000
DTEND;TZID=America/New_York:20251007T130000
DTSTAMP:20260420T024139
CREATED:20250914T104455Z
LAST-MODIFIED:20251005T104127Z
UID:10006779-1759842000-1759842000@chassellmarket.com
SUMMARY:Bridge Games
DESCRIPTION:The Baragaland Senior Center hosts Bridge games each Tuesday at 1.
URL:https://chassellmarket.com/community-calendar/bridge-games-38/
LOCATION:Baragaland Senior Citizens Center\, 6 N Main St\, L'Anse\, MI\, United States
CATEGORIES:Events
GEO:46.757969;-88.454464
X-APPLE-STRUCTURED-LOCATION;VALUE=URI;X-ADDRESS=Baragaland Senior Citizens Center 6 N Main St L'Anse MI United States;X-APPLE-RADIUS=500;X-TITLE=6 N Main St:geo:-88.454464,46.757969
END:VEVENT
BEGIN:VEVENT
DTSTART;TZID=America/New_York:20251002T150000
DTEND;TZID=America/New_York:20251002T150000
DTSTAMP:20260420T024139
CREATED:20250907T105105Z
LAST-MODIFIED:20250928T104152Z
UID:10006769-1759417200-1759417200@chassellmarket.com
SUMMARY:Caregivers Support Group
DESCRIPTION:The Baragaland Senior Center Caregiver’s Support Group meets every other Thursday at 3:00 (unless otherwise announced). Anyone caring for a loved one with dementia or Alzheimer’s is welcome. For more details\, call (906) 524-6711 or (906) 524-6922.
URL:https://chassellmarket.com/community-calendar/caregivers-support-group-27/
LOCATION:Baragaland Senior Citizens Center\, 6 N Main St\, L'Anse\, MI\, United States
CATEGORIES:Events
GEO:46.757969;-88.454464
X-APPLE-STRUCTURED-LOCATION;VALUE=URI;X-ADDRESS=Baragaland Senior Citizens Center 6 N Main St L'Anse MI United States;X-APPLE-RADIUS=500;X-TITLE=6 N Main St:geo:-88.454464,46.757969
END:VEVENT
BEGIN:VEVENT
DTSTART;TZID=America/New_York:20250930T130000
DTEND;TZID=America/New_York:20250930T130000
DTSTAMP:20260420T024139
CREATED:20250907T105016Z
LAST-MODIFIED:20250928T104104Z
UID:10006754-1759237200-1759237200@chassellmarket.com
SUMMARY:Bridge Games
DESCRIPTION:The Baragaland Senior Center hosts Bridge games each Tuesday at 1.
URL:https://chassellmarket.com/community-calendar/bridge-games-37/
LOCATION:Baragaland Senior Citizens Center\, 6 N Main St\, L'Anse\, MI\, United States
CATEGORIES:Events
GEO:46.757969;-88.454464
X-APPLE-STRUCTURED-LOCATION;VALUE=URI;X-ADDRESS=Baragaland Senior Citizens Center 6 N Main St L'Anse MI United States;X-APPLE-RADIUS=500;X-TITLE=6 N Main St:geo:-88.454464,46.757969
END:VEVENT
BEGIN:VEVENT
DTSTART;TZID=America/New_York:20250923T130000
DTEND;TZID=America/New_York:20250923T130000
DTSTAMP:20260420T024139
CREATED:20250831T104838Z
LAST-MODIFIED:20250921T104003Z
UID:10006733-1758632400-1758632400@chassellmarket.com
SUMMARY:Bridge Games
DESCRIPTION:The Baragaland Senior Center hosts Bridge games each Tuesday at 1.
URL:https://chassellmarket.com/community-calendar/bridge-games-36/
LOCATION:Baragaland Senior Citizens Center\, 6 N Main St\, L'Anse\, MI\, United States
CATEGORIES:Events
GEO:46.757969;-88.454464
X-APPLE-STRUCTURED-LOCATION;VALUE=URI;X-ADDRESS=Baragaland Senior Citizens Center 6 N Main St L'Anse MI United States;X-APPLE-RADIUS=500;X-TITLE=6 N Main St:geo:-88.454464,46.757969
END:VEVENT
BEGIN:VEVENT
DTSTART;TZID=America/New_York:20250918T150000
DTEND;TZID=America/New_York:20250918T150000
DTSTAMP:20260420T024139
CREATED:20250824T103019Z
LAST-MODIFIED:20250914T104030Z
UID:10006715-1758207600-1758207600@chassellmarket.com
SUMMARY:Caregivers Support Group
DESCRIPTION:The Baragaland Senior Center Caregiver’s Support Group meets every other Thursday at 3:00 (unless otherwise announced). Anyone caring for a loved one with dementia or Alzheimer’s is welcome. For more details\, call (906) 524-6711 or (906) 524-6922.
URL:https://chassellmarket.com/community-calendar/caregivers-support-group-26/
LOCATION:Baragaland Senior Citizens Center\, 6 N Main St\, L'Anse\, MI\, United States
CATEGORIES:Events
GEO:46.757969;-88.454464
X-APPLE-STRUCTURED-LOCATION;VALUE=URI;X-ADDRESS=Baragaland Senior Citizens Center 6 N Main St L'Anse MI United States;X-APPLE-RADIUS=500;X-TITLE=6 N Main St:geo:-88.454464,46.757969
END:VEVENT
BEGIN:VEVENT
DTSTART;TZID=America/New_York:20250916T130000
DTEND;TZID=America/New_York:20250916T130000
DTSTAMP:20260420T024139
CREATED:20250824T102954Z
LAST-MODIFIED:20250914T103953Z
UID:10006704-1758027600-1758027600@chassellmarket.com
SUMMARY:Bridge Games
DESCRIPTION:The Baragaland Senior Center hosts Bridge games each Tuesday at 1.
URL:https://chassellmarket.com/community-calendar/bridge-games-35/
LOCATION:Baragaland Senior Citizens Center\, 6 N Main St\, L'Anse\, MI\, United States
CATEGORIES:Events
GEO:46.757969;-88.454464
X-APPLE-STRUCTURED-LOCATION;VALUE=URI;X-ADDRESS=Baragaland Senior Citizens Center 6 N Main St L'Anse MI United States;X-APPLE-RADIUS=500;X-TITLE=6 N Main St:geo:-88.454464,46.757969
END:VEVENT
BEGIN:VEVENT
DTSTART;TZID=America/New_York:20250909T130000
DTEND;TZID=America/New_York:20250909T130000
DTSTAMP:20260420T024139
CREATED:20250817T103025Z
LAST-MODIFIED:20250907T104229Z
UID:10006652-1757422800-1757422800@chassellmarket.com
SUMMARY:Bridge Games
DESCRIPTION:The Baragaland Senior Center hosts Bridge games each Tuesday at 1.
URL:https://chassellmarket.com/community-calendar/bridge-games-34/
LOCATION:Baragaland Senior Citizens Center\, 6 N Main St\, L'Anse\, MI\, United States
CATEGORIES:Events
GEO:46.757969;-88.454464
X-APPLE-STRUCTURED-LOCATION;VALUE=URI;X-ADDRESS=Baragaland Senior Citizens Center 6 N Main St L'Anse MI United States;X-APPLE-RADIUS=500;X-TITLE=6 N Main St:geo:-88.454464,46.757969
END:VEVENT
BEGIN:VEVENT
DTSTART;TZID=America/New_York:20250904T150000
DTEND;TZID=America/New_York:20250904T150000
DTSTAMP:20260420T024139
CREATED:20250810T103029Z
LAST-MODIFIED:20250831T104324Z
UID:10006641-1756998000-1756998000@chassellmarket.com
SUMMARY:Caregivers Support Group
DESCRIPTION:The Baragaland Senior Center Caregiver’s Support Group meets every other Thursday at 3:00 (unless otherwise announced). Anyone caring for a loved one with dementia or Alzheimer’s is welcome. For more details\, call (906) 524-6711 or (906) 524-6922.
URL:https://chassellmarket.com/community-calendar/caregivers-support-group-25/
LOCATION:Baragaland Senior Citizens Center\, 6 N Main St\, L'Anse\, MI\, United States
CATEGORIES:Events
GEO:46.757969;-88.454464
X-APPLE-STRUCTURED-LOCATION;VALUE=URI;X-ADDRESS=Baragaland Senior Citizens Center 6 N Main St L'Anse MI United States;X-APPLE-RADIUS=500;X-TITLE=6 N Main St:geo:-88.454464,46.757969
END:VEVENT
BEGIN:VEVENT
DTSTART;TZID=America/New_York:20250902T130000
DTEND;TZID=America/New_York:20250902T130000
DTSTAMP:20260420T024139
CREATED:20250810T102917Z
LAST-MODIFIED:20250831T104100Z
UID:10006626-1756818000-1756818000@chassellmarket.com
SUMMARY:Bridge Games
DESCRIPTION:The Baragaland Senior Center hosts Bridge games each Tuesday at 1.
URL:https://chassellmarket.com/community-calendar/bridge-games-33/
LOCATION:Baragaland Senior Citizens Center\, 6 N Main St\, L'Anse\, MI\, United States
CATEGORIES:Events
GEO:46.757969;-88.454464
X-APPLE-STRUCTURED-LOCATION;VALUE=URI;X-ADDRESS=Baragaland Senior Citizens Center 6 N Main St L'Anse MI United States;X-APPLE-RADIUS=500;X-TITLE=6 N Main St:geo:-88.454464,46.757969
END:VEVENT
BEGIN:VEVENT
DTSTART;TZID=America/New_York:20250826T130000
DTEND;TZID=America/New_York:20250826T130000
DTSTAMP:20260420T024139
CREATED:20250803T102636Z
LAST-MODIFIED:20250824T102621Z
UID:10006605-1756213200-1756213200@chassellmarket.com
SUMMARY:Bridge Games
DESCRIPTION:The Baragaland Senior Center hosts Bridge games each Tuesday at 1.
URL:https://chassellmarket.com/community-calendar/bridge-games-32/
LOCATION:Baragaland Senior Citizens Center\, 6 N Main St\, L'Anse\, MI\, United States
CATEGORIES:Events
GEO:46.757969;-88.454464
X-APPLE-STRUCTURED-LOCATION;VALUE=URI;X-ADDRESS=Baragaland Senior Citizens Center 6 N Main St L'Anse MI United States;X-APPLE-RADIUS=500;X-TITLE=6 N Main St:geo:-88.454464,46.757969
END:VEVENT
BEGIN:VEVENT
DTSTART;TZID=America/New_York:20250821T150000
DTEND;TZID=America/New_York:20250821T150000
DTSTAMP:20260420T024139
CREATED:20250727T102841Z
LAST-MODIFIED:20250817T102628Z
UID:10006592-1755788400-1755788400@chassellmarket.com
SUMMARY:Caregivers Support Group
DESCRIPTION:The Baragaland Senior Center Caregiver’s Support Group meets every other Thursday at 3:00 (unless otherwise announced). Anyone caring for a loved one with dementia or Alzheimer’s is welcome. For more details\, call (906) 524-6711 or (906) 524-6922.
URL:https://chassellmarket.com/community-calendar/caregivers-support-group-24/
LOCATION:Baragaland Senior Citizens Center\, 6 N Main St\, L'Anse\, MI\, United States
CATEGORIES:Events
GEO:46.757969;-88.454464
X-APPLE-STRUCTURED-LOCATION;VALUE=URI;X-ADDRESS=Baragaland Senior Citizens Center 6 N Main St L'Anse MI United States;X-APPLE-RADIUS=500;X-TITLE=6 N Main St:geo:-88.454464,46.757969
END:VEVENT
BEGIN:VEVENT
DTSTART;TZID=America/New_York:20250819T130000
DTEND;TZID=America/New_York:20250819T130000
DTSTAMP:20260420T024139
CREATED:20250727T102826Z
LAST-MODIFIED:20250817T102529Z
UID:10006580-1755608400-1755608400@chassellmarket.com
SUMMARY:Bridge Games
DESCRIPTION:The Baragaland Senior Center hosts Bridge games each Tuesday at 1.
URL:https://chassellmarket.com/community-calendar/bridge-games-31/
LOCATION:Baragaland Senior Citizens Center\, 6 N Main St\, L'Anse\, MI\, United States
CATEGORIES:Events
GEO:46.757969;-88.454464
X-APPLE-STRUCTURED-LOCATION;VALUE=URI;X-ADDRESS=Baragaland Senior Citizens Center 6 N Main St L'Anse MI United States;X-APPLE-RADIUS=500;X-TITLE=6 N Main St:geo:-88.454464,46.757969
END:VEVENT
BEGIN:VEVENT
DTSTART;TZID=America/New_York:20250812T130000
DTEND;TZID=America/New_York:20250812T130000
DTSTAMP:20260420T024139
CREATED:20250720T102617Z
LAST-MODIFIED:20250810T102628Z
UID:10006526-1755003600-1755003600@chassellmarket.com
SUMMARY:Bridge Games
DESCRIPTION:The Baragaland Senior Center hosts Bridge games each Tuesday at 1.
URL:https://chassellmarket.com/community-calendar/bridge-games-30/
LOCATION:Baragaland Senior Citizens Center\, 6 N Main St\, L'Anse\, MI\, United States
CATEGORIES:Events
GEO:46.757969;-88.454464
X-APPLE-STRUCTURED-LOCATION;VALUE=URI;X-ADDRESS=Baragaland Senior Citizens Center 6 N Main St L'Anse MI United States;X-APPLE-RADIUS=500;X-TITLE=6 N Main St:geo:-88.454464,46.757969
END:VEVENT
BEGIN:VEVENT
DTSTART;TZID=America/New_York:20250807T150000
DTEND;TZID=America/New_York:20250807T150000
DTSTAMP:20260420T024139
CREATED:20250720T102602Z
LAST-MODIFIED:20250803T102507Z
UID:10006513-1754578800-1754578800@chassellmarket.com
SUMMARY:Caregivers Support Group
DESCRIPTION:The Baragaland Senior Center Caregiver’s Support Group meets every other Thursday at 3:00 (unless otherwise announced). Anyone caring for a loved one with dementia or Alzheimer’s is welcome. For more details\, call (906) 524-6711 or (906) 524-6922.
URL:https://chassellmarket.com/community-calendar/caregivers-support-group-23/
LOCATION:Baragaland Senior Citizens Center\, 6 N Main St\, L'Anse\, MI\, United States
CATEGORIES:Events
GEO:46.757969;-88.454464
X-APPLE-STRUCTURED-LOCATION;VALUE=URI;X-ADDRESS=Baragaland Senior Citizens Center 6 N Main St L'Anse MI United States;X-APPLE-RADIUS=500;X-TITLE=6 N Main St:geo:-88.454464,46.757969
END:VEVENT
BEGIN:VEVENT
DTSTART;TZID=America/New_York:20250805T130000
DTEND;TZID=America/New_York:20250805T130000
DTSTAMP:20260420T024139
CREATED:20250720T102539Z
LAST-MODIFIED:20250803T102449Z
UID:10006498-1754398800-1754398800@chassellmarket.com
SUMMARY:Bridge Games
DESCRIPTION:The Baragaland Senior Center hosts Bridge games each Tuesday at 1.
URL:https://chassellmarket.com/community-calendar/bridge-games-29/
LOCATION:Baragaland Senior Citizens Center\, 6 N Main St\, L'Anse\, MI\, United States
CATEGORIES:Events
GEO:46.757969;-88.454464
X-APPLE-STRUCTURED-LOCATION;VALUE=URI;X-ADDRESS=Baragaland Senior Citizens Center 6 N Main St L'Anse MI United States;X-APPLE-RADIUS=500;X-TITLE=6 N Main St:geo:-88.454464,46.757969
END:VEVENT
BEGIN:VEVENT
DTSTART;TZID=America/New_York:20250729T130000
DTEND;TZID=America/New_York:20250729T130000
DTSTAMP:20260420T024139
CREATED:20250706T044331Z
LAST-MODIFIED:20250727T102453Z
UID:10006476-1753794000-1753794000@chassellmarket.com
SUMMARY:Bridge Games
DESCRIPTION:The Baragaland Senior Center hosts Bridge games each Tuesday at 1.
URL:https://chassellmarket.com/community-calendar/bridge-games-28/
LOCATION:Baragaland Senior Citizens Center\, 6 N Main St\, L'Anse\, MI\, United States
CATEGORIES:Events
GEO:46.757969;-88.454464
X-APPLE-STRUCTURED-LOCATION;VALUE=URI;X-ADDRESS=Baragaland Senior Citizens Center 6 N Main St L'Anse MI United States;X-APPLE-RADIUS=500;X-TITLE=6 N Main St:geo:-88.454464,46.757969
END:VEVENT
BEGIN:VEVENT
DTSTART;TZID=America/New_York:20250724T150000
DTEND;TZID=America/New_York:20250724T150000
DTSTAMP:20260420T024139
CREATED:20250706T044318Z
LAST-MODIFIED:20250720T102456Z
UID:10006462-1753369200-1753369200@chassellmarket.com
SUMMARY:Caregivers Support Group
DESCRIPTION:The Baragaland Senior Center Caregiver’s Support Group meets every other Thursday at 3:00 (unless otherwise announced). Anyone caring for a loved one with dementia or Alzheimer’s is welcome. For more details\, call (906) 524-6711 or (906) 524-6922.
URL:https://chassellmarket.com/community-calendar/caregivers-support-group-22/
LOCATION:Baragaland Senior Citizens Center\, 6 N Main St\, L'Anse\, MI\, United States
CATEGORIES:Events
GEO:46.757969;-88.454464
X-APPLE-STRUCTURED-LOCATION;VALUE=URI;X-ADDRESS=Baragaland Senior Citizens Center 6 N Main St L'Anse MI United States;X-APPLE-RADIUS=500;X-TITLE=6 N Main St:geo:-88.454464,46.757969
END:VEVENT
BEGIN:VEVENT
DTSTART;TZID=America/New_York:20250722T130000
DTEND;TZID=America/New_York:20250722T130000
DTSTAMP:20260420T024139
CREATED:20250629T044635Z
LAST-MODIFIED:20250720T102445Z
UID:10006451-1753189200-1753189200@chassellmarket.com
SUMMARY:Bridge Games
DESCRIPTION:The Baragaland Senior Center hosts Bridge games each Tuesday at 1.
URL:https://chassellmarket.com/community-calendar/bridge-games-27/
LOCATION:Baragaland Senior Citizens Center\, 6 N Main St\, L'Anse\, MI\, United States
CATEGORIES:Events
GEO:46.757969;-88.454464
X-APPLE-STRUCTURED-LOCATION;VALUE=URI;X-ADDRESS=Baragaland Senior Citizens Center 6 N Main St L'Anse MI United States;X-APPLE-RADIUS=500;X-TITLE=6 N Main St:geo:-88.454464,46.757969
END:VEVENT
BEGIN:VEVENT
DTSTART;TZID=America/New_York:20250715T130000
DTEND;TZID=America/New_York:20250715T130000
DTSTAMP:20260420T024139
CREATED:20250622T044228Z
LAST-MODIFIED:20250706T044127Z
UID:10006396-1752584400-1752584400@chassellmarket.com
SUMMARY:Bridge Games
DESCRIPTION:The Baragaland Senior Center hosts Bridge games each Tuesday at 1.
URL:https://chassellmarket.com/community-calendar/bridge-games-26/
LOCATION:Baragaland Senior Citizens Center\, 6 N Main St\, L'Anse\, MI\, United States
CATEGORIES:Events
GEO:46.757969;-88.454464
X-APPLE-STRUCTURED-LOCATION;VALUE=URI;X-ADDRESS=Baragaland Senior Citizens Center 6 N Main St L'Anse MI United States;X-APPLE-RADIUS=500;X-TITLE=6 N Main St:geo:-88.454464,46.757969
END:VEVENT
BEGIN:VEVENT
DTSTART;TZID=America/New_York:20250710T150000
DTEND;TZID=America/New_York:20250710T150000
DTSTAMP:20260420T024139
CREATED:20250622T044203Z
LAST-MODIFIED:20250706T044054Z
UID:10006382-1752159600-1752159600@chassellmarket.com
SUMMARY:Caregivers Support Group
DESCRIPTION:The Baragaland Senior Center Caregiver’s Support Group meets every other Thursday at 3:00 (unless otherwise announced). Anyone caring for a loved one with dementia or Alzheimer’s is welcome. For more details\, call (906) 524-6711 or (906) 524-6922.
URL:https://chassellmarket.com/community-calendar/caregivers-support-group-21/
LOCATION:Baragaland Senior Citizens Center\, 6 N Main St\, L'Anse\, MI\, United States
CATEGORIES:Events
GEO:46.757969;-88.454464
X-APPLE-STRUCTURED-LOCATION;VALUE=URI;X-ADDRESS=Baragaland Senior Citizens Center 6 N Main St L'Anse MI United States;X-APPLE-RADIUS=500;X-TITLE=6 N Main St:geo:-88.454464,46.757969
END:VEVENT
BEGIN:VEVENT
DTSTART;TZID=America/New_York:20250708T130000
DTEND;TZID=America/New_York:20250708T130000
DTSTAMP:20260420T024139
CREATED:20250615T044507Z
LAST-MODIFIED:20250706T044021Z
UID:10006367-1751979600-1751979600@chassellmarket.com
SUMMARY:Bridge Games
DESCRIPTION:The Baragaland Senior Center hosts Bridge games each Tuesday at 1.
URL:https://chassellmarket.com/community-calendar/bridge-games-25/
LOCATION:Baragaland Senior Citizens Center\, 6 N Main St\, L'Anse\, MI\, United States
CATEGORIES:Events
GEO:46.757969;-88.454464
X-APPLE-STRUCTURED-LOCATION;VALUE=URI;X-ADDRESS=Baragaland Senior Citizens Center 6 N Main St L'Anse MI United States;X-APPLE-RADIUS=500;X-TITLE=6 N Main St:geo:-88.454464,46.757969
END:VEVENT
BEGIN:VEVENT
DTSTART;TZID=America/New_York:20250701T130000
DTEND;TZID=America/New_York:20250701T130000
DTSTAMP:20260420T024139
CREATED:20250608T044634Z
LAST-MODIFIED:20250629T044054Z
UID:10006340-1751374800-1751374800@chassellmarket.com
SUMMARY:Bridge Games
DESCRIPTION:The Baragaland Senior Center hosts Bridge games each Tuesday at 1.
URL:https://chassellmarket.com/community-calendar/bridge-games-24/
LOCATION:Baragaland Senior Citizens Center\, 6 N Main St\, L'Anse\, MI\, United States
CATEGORIES:Events
GEO:46.757969;-88.454464
X-APPLE-STRUCTURED-LOCATION;VALUE=URI;X-ADDRESS=Baragaland Senior Citizens Center 6 N Main St L'Anse MI United States;X-APPLE-RADIUS=500;X-TITLE=6 N Main St:geo:-88.454464,46.757969
END:VEVENT
BEGIN:VEVENT
DTSTART;TZID=America/New_York:20250626T150000
DTEND;TZID=America/New_York:20250626T150000
DTSTAMP:20260420T024139
CREATED:20250608T044422Z
LAST-MODIFIED:20250622T044017Z
UID:10006327-1750950000-1750950000@chassellmarket.com
SUMMARY:Caregivers Support Group
DESCRIPTION:The Baragaland Senior Center Caregiver’s Support Group meets every other Thursday at 3:00 (unless otherwise announced). Anyone caring for a loved one with dementia or Alzheimer’s is welcome. For more details\, call (906) 524-6711 or (906) 524-6922.
URL:https://chassellmarket.com/community-calendar/caregivers-support-group-20/
LOCATION:Baragaland Senior Citizens Center\, 6 N Main St\, L'Anse\, MI\, United States
CATEGORIES:Events
GEO:46.757969;-88.454464
X-APPLE-STRUCTURED-LOCATION;VALUE=URI;X-ADDRESS=Baragaland Senior Citizens Center 6 N Main St L'Anse MI United States;X-APPLE-RADIUS=500;X-TITLE=6 N Main St:geo:-88.454464,46.757969
END:VEVENT
BEGIN:VEVENT
DTSTART;TZID=America/New_York:20250624T130000
DTEND;TZID=America/New_York:20250624T130000
DTSTAMP:20260420T024139
CREATED:20250608T044406Z
LAST-MODIFIED:20250622T043953Z
UID:10006315-1750770000-1750770000@chassellmarket.com
SUMMARY:Bridge Games
DESCRIPTION:The Baragaland Senior Center hosts Bridge games each Tuesday at 1.
URL:https://chassellmarket.com/community-calendar/bridge-games-23/
LOCATION:Baragaland Senior Citizens Center\, 6 N Main St\, L'Anse\, MI\, United States
CATEGORIES:Events
GEO:46.757969;-88.454464
X-APPLE-STRUCTURED-LOCATION;VALUE=URI;X-ADDRESS=Baragaland Senior Citizens Center 6 N Main St L'Anse MI United States;X-APPLE-RADIUS=500;X-TITLE=6 N Main St:geo:-88.454464,46.757969
END:VEVENT
BEGIN:VEVENT
DTSTART;TZID=America/New_York:20250617T130000
DTEND;TZID=America/New_York:20250617T130000
DTSTAMP:20260420T024139
CREATED:20250601T044231Z
LAST-MODIFIED:20250615T043947Z
UID:10006287-1750165200-1750165200@chassellmarket.com
SUMMARY:Bridge Games
DESCRIPTION:The Baragaland Senior Center hosts Bridge games each Tuesday at 1.
URL:https://chassellmarket.com/community-calendar/bridge-games-22/
LOCATION:Baragaland Senior Citizens Center\, 6 N Main St\, L'Anse\, MI\, United States
CATEGORIES:Events
GEO:46.757969;-88.454464
X-APPLE-STRUCTURED-LOCATION;VALUE=URI;X-ADDRESS=Baragaland Senior Citizens Center 6 N Main St L'Anse MI United States;X-APPLE-RADIUS=500;X-TITLE=6 N Main St:geo:-88.454464,46.757969
END:VEVENT
END:VCALENDAR