BEGIN:VCALENDAR
VERSION:2.0
PRODID:-//Chassell Farmers Market &amp; Houghton Indoor Farm and Craft Market - ECPv6.15.17//NONSGML v1.0//EN
CALSCALE:GREGORIAN
METHOD:PUBLISH
X-ORIGINAL-URL:https://chassellmarket.com
X-WR-CALDESC:Events for Chassell Farmers Market &amp; Houghton Indoor Farm and Craft Market
REFRESH-INTERVAL;VALUE=DURATION:PT1H
X-Robots-Tag:noindex
X-PUBLISHED-TTL:PT1H
BEGIN:VTIMEZONE
TZID:America/New_York
BEGIN:DAYLIGHT
TZOFFSETFROM:-0500
TZOFFSETTO:-0400
TZNAME:EDT
DTSTART:20250309T070000
END:DAYLIGHT
BEGIN:STANDARD
TZOFFSETFROM:-0400
TZOFFSETTO:-0500
TZNAME:EST
DTSTART:20251102T060000
END:STANDARD
BEGIN:DAYLIGHT
TZOFFSETFROM:-0500
TZOFFSETTO:-0400
TZNAME:EDT
DTSTART:20260308T070000
END:DAYLIGHT
BEGIN:STANDARD
TZOFFSETFROM:-0400
TZOFFSETTO:-0500
TZNAME:EST
DTSTART:20261101T060000
END:STANDARD
BEGIN:DAYLIGHT
TZOFFSETFROM:-0500
TZOFFSETTO:-0400
TZNAME:EDT
DTSTART:20270314T070000
END:DAYLIGHT
BEGIN:STANDARD
TZOFFSETFROM:-0400
TZOFFSETTO:-0500
TZNAME:EST
DTSTART:20271107T060000
END:STANDARD
END:VTIMEZONE
BEGIN:VEVENT
DTSTART;TZID=America/New_York:20260518T133000
DTEND;TZID=America/New_York:20260518T143000
DTSTAMP:20260421T132728
CREATED:20260319T085302Z
LAST-MODIFIED:20260319T085302Z
UID:10007671-1779111000-1779114600@chassellmarket.com
SUMMARY:Houghton Co. Road Commission
DESCRIPTION:
URL:https://chassellmarket.com/community-calendar/houghton-co-road-commission-38/
LOCATION:Houghton County Road Commission\, 5398 Gagnon Rd\, Atlantic Mine\, MI\, United States
CATEGORIES:Events
GEO:47.127017;-88.679413
X-APPLE-STRUCTURED-LOCATION;VALUE=URI;X-ADDRESS=Houghton County Road Commission 5398 Gagnon Rd Atlantic Mine MI United States;X-APPLE-RADIUS=500;X-TITLE=5398 Gagnon Rd:geo:-88.679413,47.127017
END:VEVENT
BEGIN:VEVENT
DTSTART;TZID=America/New_York:20260518T160000
DTEND;TZID=America/New_York:20260518T183000
DTSTAMP:20260421T132728
CREATED:20260319T085302Z
LAST-MODIFIED:20260319T085302Z
UID:10007672-1779120000-1779129000@chassellmarket.com
SUMMARY:W/S Clerk Hours
DESCRIPTION:
URL:https://chassellmarket.com/community-calendar/w-s-clerk-hours-122/
LOCATION:41950 Willson Memorial Dr\, Chassell\, MI\, United States
CATEGORIES:Events
GEO:47.020152;-88.572499
END:VEVENT
BEGIN:VEVENT
DTSTART;TZID=America/New_York:20260520T090000
DTEND;TZID=America/New_York:20260520T123000
DTSTAMP:20260421T132728
CREATED:20260319T085314Z
LAST-MODIFIED:20260319T085314Z
UID:10007673-1779267600-1779280200@chassellmarket.com
SUMMARY:Treasurer Hours
DESCRIPTION:
URL:https://chassellmarket.com/community-calendar/treasurer-hours-107/
LOCATION:MI
CATEGORIES:Events
END:VEVENT
BEGIN:VEVENT
DTSTART;TZID=America/New_York:20260520T110000
DTEND;TZID=America/New_York:20260520T133000
DTSTAMP:20260421T132728
CREATED:20260319T085315Z
LAST-MODIFIED:20260319T085315Z
UID:10007675-1779274800-1779283800@chassellmarket.com
SUMMARY:Senior Meals at the Fire Hall
DESCRIPTION:
URL:https://chassellmarket.com/community-calendar/senior-meals-at-the-fire-hall-320/
LOCATION:Chassell Township Fire Department\, 22098 7th St\, Chassell\, MI\, United States
CATEGORIES:Events
GEO:47.0219;-88.530903
X-APPLE-STRUCTURED-LOCATION;VALUE=URI;X-ADDRESS=Chassell Township Fire Department 22098 7th St Chassell MI United States;X-APPLE-RADIUS=500;X-TITLE=22098 7th St:geo:-88.530903,47.0219
END:VEVENT
BEGIN:VEVENT
DTSTART;TZID=America/New_York:20260520T123000
DTEND;TZID=America/New_York:20260520T150000
DTSTAMP:20260421T132728
CREATED:20260319T085314Z
LAST-MODIFIED:20260319T085314Z
UID:10007674-1779280200-1779289200@chassellmarket.com
SUMMARY:W/S Clerk Hours
DESCRIPTION:
URL:https://chassellmarket.com/community-calendar/w-s-clerk-hours-123/
LOCATION:41950 Willson Memorial Dr\, Chassell\, MI\, United States
CATEGORIES:Events
GEO:47.020152;-88.572499
END:VEVENT
BEGIN:VEVENT
DTSTART;TZID=America/New_York:20260520T160000
DTEND;TZID=America/New_York:20260520T183000
DTSTAMP:20260421T132728
CREATED:20260319T085315Z
LAST-MODIFIED:20260319T085315Z
UID:10007676-1779292800-1779301800@chassellmarket.com
SUMMARY:W/S Clerk Hours
DESCRIPTION:
URL:https://chassellmarket.com/community-calendar/w-s-clerk-hours-124/
LOCATION:41950 Willson Memorial Dr\, Chassell\, MI\, United States
CATEGORIES:Events
GEO:47.020152;-88.572499
END:VEVENT
BEGIN:VEVENT
DTSTART;TZID=America/New_York:20260520T180000
DTEND;TZID=America/New_York:20260520T190000
DTSTAMP:20260421T132728
CREATED:20260319T085315Z
LAST-MODIFIED:20260319T085315Z
UID:10007677-1779300000-1779303600@chassellmarket.com
SUMMARY:Fire Responder Meeting
DESCRIPTION:
URL:https://chassellmarket.com/community-calendar/fire-responder-meeting-37/
LOCATION:Chassell Township Fire Department\, 22098 7th St\, Chassell\, MI\, United States
CATEGORIES:Events
GEO:47.0219;-88.530903
X-APPLE-STRUCTURED-LOCATION;VALUE=URI;X-ADDRESS=Chassell Township Fire Department 22098 7th St Chassell MI United States;X-APPLE-RADIUS=500;X-TITLE=22098 7th St:geo:-88.530903,47.0219
END:VEVENT
BEGIN:VEVENT
DTSTART;TZID=America/New_York:20260520T190000
DTEND;TZID=America/New_York:20260520T200000
DTSTAMP:20260421T132728
CREATED:20260319T085315Z
LAST-MODIFIED:20260319T085315Z
UID:10007678-1779303600-1779307200@chassellmarket.com
SUMMARY:Fire Department Meeting
DESCRIPTION:
URL:https://chassellmarket.com/community-calendar/fire-department-meeting-37/
LOCATION:Chassell Township Fire Department\, 22098 7th St\, Chassell\, MI\, United States
CATEGORIES:Events
GEO:47.0219;-88.530903
X-APPLE-STRUCTURED-LOCATION;VALUE=URI;X-ADDRESS=Chassell Township Fire Department 22098 7th St Chassell MI United States;X-APPLE-RADIUS=500;X-TITLE=22098 7th St:geo:-88.530903,47.0219
END:VEVENT
BEGIN:VEVENT
DTSTART;TZID=America/New_York:20260521T090000
DTEND;TZID=America/New_York:20260521T130000
DTSTAMP:20260421T132728
CREATED:20260319T085315Z
LAST-MODIFIED:20260319T085315Z
UID:10007679-1779354000-1779368400@chassellmarket.com
SUMMARY:Treasurer Hours
DESCRIPTION:
URL:https://chassellmarket.com/community-calendar/treasurer-hours-108/
LOCATION:MI
CATEGORIES:Events
END:VEVENT
BEGIN:VEVENT
DTSTART;TZID=America/New_York:20260523T000000
DTEND;TZID=America/New_York:20260523T235959
DTSTAMP:20260421T132728
CREATED:20260319T085316Z
LAST-MODIFIED:20260319T085316Z
UID:10007680-1779494400-1779580799@chassellmarket.com
SUMMARY:Pavilion Not Available
DESCRIPTION:
URL:https://chassellmarket.com/community-calendar/pavilion-not-available-26/
LOCATION:MI
CATEGORIES:Events
END:VEVENT
BEGIN:VEVENT
DTSTART;TZID=America/New_York:20260525T090000
DTEND;TZID=America/New_York:20260525T123000
DTSTAMP:20260421T132728
CREATED:20260319T085316Z
LAST-MODIFIED:20260319T085316Z
UID:10007681-1779699600-1779712200@chassellmarket.com
SUMMARY:Treasurer Hours
DESCRIPTION:
URL:https://chassellmarket.com/community-calendar/treasurer-hours-109/
LOCATION:MI
CATEGORIES:Events
END:VEVENT
BEGIN:VEVENT
DTSTART;TZID=America/New_York:20260525T110000
DTEND;TZID=America/New_York:20260525T133000
DTSTAMP:20260421T132728
CREATED:20260319T085316Z
LAST-MODIFIED:20260319T085316Z
UID:10007682-1779706800-1779715800@chassellmarket.com
SUMMARY:Senior Meals at the Fire Hall
DESCRIPTION:
URL:https://chassellmarket.com/community-calendar/senior-meals-at-the-fire-hall-321/
LOCATION:Chassell Township Fire Department\, 22098 7th St\, Chassell\, MI\, United States
CATEGORIES:Events
GEO:47.0219;-88.530903
X-APPLE-STRUCTURED-LOCATION;VALUE=URI;X-ADDRESS=Chassell Township Fire Department 22098 7th St Chassell MI United States;X-APPLE-RADIUS=500;X-TITLE=22098 7th St:geo:-88.530903,47.0219
END:VEVENT
END:VCALENDAR