BEGIN:VCALENDAR
VERSION:2.0
PRODID:-//Chassell Farmers Market &amp; Houghton Indoor Farm and Craft Market - ECPv6.15.17//NONSGML v1.0//EN
CALSCALE:GREGORIAN
METHOD:PUBLISH
X-ORIGINAL-URL:https://chassellmarket.com
X-WR-CALDESC:Events for Chassell Farmers Market &amp; Houghton Indoor Farm and Craft Market
REFRESH-INTERVAL;VALUE=DURATION:PT1H
X-Robots-Tag:noindex
X-PUBLISHED-TTL:PT1H
BEGIN:VTIMEZONE
TZID:America/New_York
BEGIN:DAYLIGHT
TZOFFSETFROM:-0500
TZOFFSETTO:-0400
TZNAME:EDT
DTSTART:20250309T070000
END:DAYLIGHT
BEGIN:STANDARD
TZOFFSETFROM:-0400
TZOFFSETTO:-0500
TZNAME:EST
DTSTART:20251102T060000
END:STANDARD
BEGIN:DAYLIGHT
TZOFFSETFROM:-0500
TZOFFSETTO:-0400
TZNAME:EDT
DTSTART:20260308T070000
END:DAYLIGHT
BEGIN:STANDARD
TZOFFSETFROM:-0400
TZOFFSETTO:-0500
TZNAME:EST
DTSTART:20261101T060000
END:STANDARD
BEGIN:DAYLIGHT
TZOFFSETFROM:-0500
TZOFFSETTO:-0400
TZNAME:EDT
DTSTART:20270314T070000
END:DAYLIGHT
BEGIN:STANDARD
TZOFFSETFROM:-0400
TZOFFSETTO:-0500
TZNAME:EST
DTSTART:20271107T060000
END:STANDARD
END:VTIMEZONE
BEGIN:VEVENT
DTSTART;TZID=America/New_York:20260427T160000
DTEND;TZID=America/New_York:20260427T183000
DTSTAMP:20260421T120720
CREATED:20260319T085219Z
LAST-MODIFIED:20260319T085219Z
UID:10007641-1777305600-1777314600@chassellmarket.com
SUMMARY:W/S Clerk Hours
DESCRIPTION:
URL:https://chassellmarket.com/community-calendar/w-s-clerk-hours-110/
LOCATION:41950 Willson Memorial Dr\, Chassell\, MI\, United States
CATEGORIES:Events
GEO:47.020152;-88.572499
END:VEVENT
BEGIN:VEVENT
DTSTART;TZID=America/New_York:20260429T090000
DTEND;TZID=America/New_York:20260429T123000
DTSTAMP:20260421T120720
CREATED:20260319T085231Z
LAST-MODIFIED:20260319T085231Z
UID:10007643-1777453200-1777465800@chassellmarket.com
SUMMARY:Treasurer Hours
DESCRIPTION:
URL:https://chassellmarket.com/community-calendar/treasurer-hours-98/
LOCATION:MI
CATEGORIES:Events
END:VEVENT
BEGIN:VEVENT
DTSTART;TZID=America/New_York:20260429T110000
DTEND;TZID=America/New_York:20260429T133000
DTSTAMP:20260421T120720
CREATED:20260319T085219Z
LAST-MODIFIED:20260319T085219Z
UID:10007642-1777460400-1777469400@chassellmarket.com
SUMMARY:Senior Meals at the Fire Hall
DESCRIPTION:
URL:https://chassellmarket.com/community-calendar/senior-meals-at-the-fire-hall-314/
LOCATION:Chassell Township Fire Department\, 22098 7th St\, Chassell\, MI\, United States
CATEGORIES:Events
GEO:47.0219;-88.530903
X-APPLE-STRUCTURED-LOCATION;VALUE=URI;X-ADDRESS=Chassell Township Fire Department 22098 7th St Chassell MI United States;X-APPLE-RADIUS=500;X-TITLE=22098 7th St:geo:-88.530903,47.0219
END:VEVENT
BEGIN:VEVENT
DTSTART;TZID=America/New_York:20260429T123000
DTEND;TZID=America/New_York:20260429T150000
DTSTAMP:20260421T120720
CREATED:20260319T085232Z
LAST-MODIFIED:20260319T085232Z
UID:10007644-1777465800-1777474800@chassellmarket.com
SUMMARY:W/S Clerk Hours
DESCRIPTION:
URL:https://chassellmarket.com/community-calendar/w-s-clerk-hours-111/
LOCATION:41950 Willson Memorial Dr\, Chassell\, MI\, United States
CATEGORIES:Events
GEO:47.020152;-88.572499
END:VEVENT
BEGIN:VEVENT
DTSTART;TZID=America/New_York:20260429T160000
DTEND;TZID=America/New_York:20260429T183000
DTSTAMP:20260421T120720
CREATED:20260319T085232Z
LAST-MODIFIED:20260319T085232Z
UID:10007645-1777478400-1777487400@chassellmarket.com
SUMMARY:W/S Clerk Hours
DESCRIPTION:
URL:https://chassellmarket.com/community-calendar/w-s-clerk-hours-112/
LOCATION:41950 Willson Memorial Dr\, Chassell\, MI\, United States
CATEGORIES:Events
GEO:47.020152;-88.572499
END:VEVENT
BEGIN:VEVENT
DTSTART;TZID=America/New_York:20260430T090000
DTEND;TZID=America/New_York:20260430T130000
DTSTAMP:20260421T120720
CREATED:20260319T085232Z
LAST-MODIFIED:20260319T085232Z
UID:10007646-1777539600-1777554000@chassellmarket.com
SUMMARY:Treasurer Hours
DESCRIPTION:
URL:https://chassellmarket.com/community-calendar/treasurer-hours-99/
LOCATION:MI
CATEGORIES:Events
END:VEVENT
BEGIN:VEVENT
DTSTART;TZID=America/New_York:20260504T090000
DTEND;TZID=America/New_York:20260504T123000
DTSTAMP:20260421T120720
CREATED:20260319T085232Z
LAST-MODIFIED:20260319T085232Z
UID:10007647-1777885200-1777897800@chassellmarket.com
SUMMARY:Treasurer Hours
DESCRIPTION:
URL:https://chassellmarket.com/community-calendar/treasurer-hours-100/
LOCATION:MI
CATEGORIES:Events
END:VEVENT
BEGIN:VEVENT
DTSTART;TZID=America/New_York:20260504T110000
DTEND;TZID=America/New_York:20260504T133000
DTSTAMP:20260421T120720
CREATED:20260319T085232Z
LAST-MODIFIED:20260319T085232Z
UID:10007649-1777892400-1777901400@chassellmarket.com
SUMMARY:Senior Meals at the Fire Hall
DESCRIPTION:
URL:https://chassellmarket.com/community-calendar/senior-meals-at-the-fire-hall-315/
LOCATION:Chassell Township Fire Department\, 22098 7th St\, Chassell\, MI\, United States
CATEGORIES:Events
GEO:47.0219;-88.530903
X-APPLE-STRUCTURED-LOCATION;VALUE=URI;X-ADDRESS=Chassell Township Fire Department 22098 7th St Chassell MI United States;X-APPLE-RADIUS=500;X-TITLE=22098 7th St:geo:-88.530903,47.0219
END:VEVENT
BEGIN:VEVENT
DTSTART;TZID=America/New_York:20260504T123000
DTEND;TZID=America/New_York:20260504T150000
DTSTAMP:20260421T120720
CREATED:20260319T085232Z
LAST-MODIFIED:20260319T085232Z
UID:10007648-1777897800-1777906800@chassellmarket.com
SUMMARY:W/S Clerk Hours
DESCRIPTION:
URL:https://chassellmarket.com/community-calendar/w-s-clerk-hours-113/
LOCATION:41950 Willson Memorial Dr\, Chassell\, MI\, United States
CATEGORIES:Events
GEO:47.020152;-88.572499
END:VEVENT
BEGIN:VEVENT
DTSTART;TZID=America/New_York:20260504T160000
DTEND;TZID=America/New_York:20260504T183000
DTSTAMP:20260421T120720
CREATED:20260319T085233Z
LAST-MODIFIED:20260319T085233Z
UID:10007650-1777910400-1777919400@chassellmarket.com
SUMMARY:W/S Clerk Hours
DESCRIPTION:
URL:https://chassellmarket.com/community-calendar/w-s-clerk-hours-114/
LOCATION:41950 Willson Memorial Dr\, Chassell\, MI\, United States
CATEGORIES:Events
GEO:47.020152;-88.572499
END:VEVENT
BEGIN:VEVENT
DTSTART;TZID=America/New_York:20260506T090000
DTEND;TZID=America/New_York:20260506T123000
DTSTAMP:20260421T120720
CREATED:20260319T085246Z
LAST-MODIFIED:20260319T085246Z
UID:10007653-1778058000-1778070600@chassellmarket.com
SUMMARY:Treasurer Hours
DESCRIPTION:
URL:https://chassellmarket.com/community-calendar/treasurer-hours-101/
LOCATION:MI
CATEGORIES:Events
END:VEVENT
BEGIN:VEVENT
DTSTART;TZID=America/New_York:20260506T110000
DTEND;TZID=America/New_York:20260506T133000
DTSTAMP:20260421T120720
CREATED:20260319T085233Z
LAST-MODIFIED:20260319T085233Z
UID:10007652-1778065200-1778074200@chassellmarket.com
SUMMARY:Senior Meals at the Fire Hall
DESCRIPTION:
URL:https://chassellmarket.com/community-calendar/senior-meals-at-the-fire-hall-316/
LOCATION:Chassell Township Fire Department\, 22098 7th St\, Chassell\, MI\, United States
CATEGORIES:Events
GEO:47.0219;-88.530903
X-APPLE-STRUCTURED-LOCATION;VALUE=URI;X-ADDRESS=Chassell Township Fire Department 22098 7th St Chassell MI United States;X-APPLE-RADIUS=500;X-TITLE=22098 7th St:geo:-88.530903,47.0219
END:VEVENT
BEGIN:VEVENT
DTSTART;TZID=America/New_York:20260506T123000
DTEND;TZID=America/New_York:20260506T150000
DTSTAMP:20260421T120720
CREATED:20260319T085233Z
LAST-MODIFIED:20260319T085233Z
UID:10007651-1778070600-1778079600@chassellmarket.com
SUMMARY:W/S Clerk Hours
DESCRIPTION:
URL:https://chassellmarket.com/community-calendar/w-s-clerk-hours-115/
LOCATION:41950 Willson Memorial Dr\, Chassell\, MI\, United States
CATEGORIES:Events
GEO:47.020152;-88.572499
END:VEVENT
BEGIN:VEVENT
DTSTART;TZID=America/New_York:20260506T160000
DTEND;TZID=America/New_York:20260506T183000
DTSTAMP:20260421T120720
CREATED:20260319T085246Z
LAST-MODIFIED:20260319T085246Z
UID:10007654-1778083200-1778092200@chassellmarket.com
SUMMARY:W/S Clerk Hours
DESCRIPTION:
URL:https://chassellmarket.com/community-calendar/w-s-clerk-hours-116/
LOCATION:41950 Willson Memorial Dr\, Chassell\, MI\, United States
CATEGORIES:Events
GEO:47.020152;-88.572499
END:VEVENT
BEGIN:VEVENT
DTSTART;TZID=America/New_York:20260506T183000
DTEND;TZID=America/New_York:20260506T203000
DTSTAMP:20260421T120720
CREATED:20260319T085246Z
LAST-MODIFIED:20260319T085246Z
UID:10007655-1778092200-1778099400@chassellmarket.com
SUMMARY:Fire Department Training
DESCRIPTION:
URL:https://chassellmarket.com/community-calendar/fire-department-training-37/
LOCATION:Chassell Township Fire Department\, 22098 7th St\, Chassell\, MI\, United States
CATEGORIES:Events
GEO:47.0219;-88.530903
X-APPLE-STRUCTURED-LOCATION;VALUE=URI;X-ADDRESS=Chassell Township Fire Department 22098 7th St Chassell MI United States;X-APPLE-RADIUS=500;X-TITLE=22098 7th St:geo:-88.530903,47.0219
END:VEVENT
BEGIN:VEVENT
DTSTART;TZID=America/New_York:20260507T090000
DTEND;TZID=America/New_York:20260507T130000
DTSTAMP:20260421T120720
CREATED:20260319T085246Z
LAST-MODIFIED:20260319T085246Z
UID:10007656-1778144400-1778158800@chassellmarket.com
SUMMARY:Treasurer Hours
DESCRIPTION:
URL:https://chassellmarket.com/community-calendar/treasurer-hours-102/
LOCATION:MI
CATEGORIES:Events
END:VEVENT
BEGIN:VEVENT
DTSTART;TZID=America/New_York:20260507T190000
DTEND;TZID=America/New_York:20260507T200000
DTSTAMP:20260421T120720
CREATED:20260319T085246Z
LAST-MODIFIED:20260319T085246Z
UID:10007657-1778180400-1778184000@chassellmarket.com
SUMMARY:Planning Commission
DESCRIPTION:
URL:https://chassellmarket.com/community-calendar/planning-commission-4/
LOCATION:Chassell Township Fire Department\, 22098 7th St\, Chassell\, MI\, United States
CATEGORIES:Events
GEO:47.0219;-88.530903
X-APPLE-STRUCTURED-LOCATION;VALUE=URI;X-ADDRESS=Chassell Township Fire Department 22098 7th St Chassell MI United States;X-APPLE-RADIUS=500;X-TITLE=22098 7th St:geo:-88.530903,47.0219
END:VEVENT
BEGIN:VEVENT
DTSTART;TZID=America/New_York:20260511T090000
DTEND;TZID=America/New_York:20260511T123000
DTSTAMP:20260421T120720
CREATED:20260319T085247Z
LAST-MODIFIED:20260319T085247Z
UID:10007660-1778490000-1778502600@chassellmarket.com
SUMMARY:Treasurer Hours
DESCRIPTION:
URL:https://chassellmarket.com/community-calendar/treasurer-hours-103/
LOCATION:MI
CATEGORIES:Events
END:VEVENT
BEGIN:VEVENT
DTSTART;TZID=America/New_York:20260511T110000
DTEND;TZID=America/New_York:20260511T133000
DTSTAMP:20260421T120720
CREATED:20260319T085247Z
LAST-MODIFIED:20260319T085247Z
UID:10007659-1778497200-1778506200@chassellmarket.com
SUMMARY:Senior Meals at the Fire Hall
DESCRIPTION:
URL:https://chassellmarket.com/community-calendar/senior-meals-at-the-fire-hall-317/
LOCATION:Chassell Township Fire Department\, 22098 7th St\, Chassell\, MI\, United States
CATEGORIES:Events
GEO:47.0219;-88.530903
X-APPLE-STRUCTURED-LOCATION;VALUE=URI;X-ADDRESS=Chassell Township Fire Department 22098 7th St Chassell MI United States;X-APPLE-RADIUS=500;X-TITLE=22098 7th St:geo:-88.530903,47.0219
END:VEVENT
BEGIN:VEVENT
DTSTART;TZID=America/New_York:20260511T123000
DTEND;TZID=America/New_York:20260511T150000
DTSTAMP:20260421T120720
CREATED:20260319T085246Z
LAST-MODIFIED:20260319T085246Z
UID:10007658-1778502600-1778511600@chassellmarket.com
SUMMARY:W/S Clerk Hours
DESCRIPTION:
URL:https://chassellmarket.com/community-calendar/w-s-clerk-hours-117/
LOCATION:41950 Willson Memorial Dr\, Chassell\, MI\, United States
CATEGORIES:Events
GEO:47.020152;-88.572499
END:VEVENT
BEGIN:VEVENT
DTSTART;TZID=America/New_York:20260511T160000
DTEND;TZID=America/New_York:20260511T183000
DTSTAMP:20260421T120720
CREATED:20260319T085247Z
LAST-MODIFIED:20260319T085247Z
UID:10007661-1778515200-1778524200@chassellmarket.com
SUMMARY:W/S Clerk Hours
DESCRIPTION:
URL:https://chassellmarket.com/community-calendar/w-s-clerk-hours-118/
LOCATION:41950 Willson Memorial Dr\, Chassell\, MI\, United States
CATEGORIES:Events
GEO:47.020152;-88.572499
END:VEVENT
BEGIN:VEVENT
DTSTART;TZID=America/New_York:20260513T090000
DTEND;TZID=America/New_York:20260513T123000
DTSTAMP:20260421T120720
CREATED:20260319T085247Z
LAST-MODIFIED:20260319T085247Z
UID:10007662-1778662800-1778675400@chassellmarket.com
SUMMARY:Treasurer Hours
DESCRIPTION:
URL:https://chassellmarket.com/community-calendar/treasurer-hours-104/
LOCATION:MI
CATEGORIES:Events
END:VEVENT
BEGIN:VEVENT
DTSTART;TZID=America/New_York:20260513T110000
DTEND;TZID=America/New_York:20260513T133000
DTSTAMP:20260421T120720
CREATED:20260319T085300Z
LAST-MODIFIED:20260319T085300Z
UID:10007663-1778670000-1778679000@chassellmarket.com
SUMMARY:Senior Meals at the Fire Hall
DESCRIPTION:
URL:https://chassellmarket.com/community-calendar/senior-meals-at-the-fire-hall-318/
LOCATION:Chassell Township Fire Department\, 22098 7th St\, Chassell\, MI\, United States
CATEGORIES:Events
GEO:47.0219;-88.530903
X-APPLE-STRUCTURED-LOCATION;VALUE=URI;X-ADDRESS=Chassell Township Fire Department 22098 7th St Chassell MI United States;X-APPLE-RADIUS=500;X-TITLE=22098 7th St:geo:-88.530903,47.0219
END:VEVENT
BEGIN:VEVENT
DTSTART;TZID=America/New_York:20260513T123000
DTEND;TZID=America/New_York:20260513T150000
DTSTAMP:20260421T120720
CREATED:20260319T085300Z
LAST-MODIFIED:20260319T085300Z
UID:10007664-1778675400-1778684400@chassellmarket.com
SUMMARY:W/S Clerk Hours
DESCRIPTION:
URL:https://chassellmarket.com/community-calendar/w-s-clerk-hours-119/
LOCATION:41950 Willson Memorial Dr\, Chassell\, MI\, United States
CATEGORIES:Events
GEO:47.020152;-88.572499
END:VEVENT
BEGIN:VEVENT
DTSTART;TZID=America/New_York:20260513T160000
DTEND;TZID=America/New_York:20260513T183000
DTSTAMP:20260421T120720
CREATED:20260319T085300Z
LAST-MODIFIED:20260319T085300Z
UID:10007665-1778688000-1778697000@chassellmarket.com
SUMMARY:W/S Clerk Hours
DESCRIPTION:
URL:https://chassellmarket.com/community-calendar/w-s-clerk-hours-120/
LOCATION:41950 Willson Memorial Dr\, Chassell\, MI\, United States
CATEGORIES:Events
GEO:47.020152;-88.572499
END:VEVENT
BEGIN:VEVENT
DTSTART;TZID=America/New_York:20260513T180000
DTEND;TZID=America/New_York:20260513T200000
DTSTAMP:20260421T120720
CREATED:20260319T085300Z
LAST-MODIFIED:20260319T085300Z
UID:10007666-1778695200-1778702400@chassellmarket.com
SUMMARY:Chassell Township Board
DESCRIPTION:
URL:https://chassellmarket.com/community-calendar/chassell-township-board-42/
LOCATION:Chassell Township Fire Department\, 22098 7th St\, Chassell\, MI\, United States
CATEGORIES:Events
GEO:47.0219;-88.530903
X-APPLE-STRUCTURED-LOCATION;VALUE=URI;X-ADDRESS=Chassell Township Fire Department 22098 7th St Chassell MI United States;X-APPLE-RADIUS=500;X-TITLE=22098 7th St:geo:-88.530903,47.0219
END:VEVENT
BEGIN:VEVENT
DTSTART;TZID=America/New_York:20260514T090000
DTEND;TZID=America/New_York:20260514T130000
DTSTAMP:20260421T120720
CREATED:20260319T085301Z
LAST-MODIFIED:20260319T085301Z
UID:10007667-1778749200-1778763600@chassellmarket.com
SUMMARY:Treasurer Hours
DESCRIPTION:
URL:https://chassellmarket.com/community-calendar/treasurer-hours-105/
LOCATION:MI
CATEGORIES:Events
END:VEVENT
BEGIN:VEVENT
DTSTART;TZID=America/New_York:20260518T090000
DTEND;TZID=America/New_York:20260518T123000
DTSTAMP:20260421T120720
CREATED:20260319T085301Z
LAST-MODIFIED:20260319T085301Z
UID:10007670-1779094800-1779107400@chassellmarket.com
SUMMARY:Treasurer Hours
DESCRIPTION:
URL:https://chassellmarket.com/community-calendar/treasurer-hours-106/
LOCATION:MI
CATEGORIES:Events
END:VEVENT
BEGIN:VEVENT
DTSTART;TZID=America/New_York:20260518T110000
DTEND;TZID=America/New_York:20260518T133000
DTSTAMP:20260421T120720
CREATED:20260319T085301Z
LAST-MODIFIED:20260319T085301Z
UID:10007669-1779102000-1779111000@chassellmarket.com
SUMMARY:Senior Meals at the Fire Hall
DESCRIPTION:
URL:https://chassellmarket.com/community-calendar/senior-meals-at-the-fire-hall-319/
LOCATION:Chassell Township Fire Department\, 22098 7th St\, Chassell\, MI\, United States
CATEGORIES:Events
GEO:47.0219;-88.530903
X-APPLE-STRUCTURED-LOCATION;VALUE=URI;X-ADDRESS=Chassell Township Fire Department 22098 7th St Chassell MI United States;X-APPLE-RADIUS=500;X-TITLE=22098 7th St:geo:-88.530903,47.0219
END:VEVENT
BEGIN:VEVENT
DTSTART;TZID=America/New_York:20260518T123000
DTEND;TZID=America/New_York:20260518T150000
DTSTAMP:20260421T120720
CREATED:20260319T085301Z
LAST-MODIFIED:20260319T085301Z
UID:10007668-1779107400-1779116400@chassellmarket.com
SUMMARY:W/S Clerk Hours
DESCRIPTION:
URL:https://chassellmarket.com/community-calendar/w-s-clerk-hours-121/
LOCATION:41950 Willson Memorial Dr\, Chassell\, MI\, United States
CATEGORIES:Events
GEO:47.020152;-88.572499
END:VEVENT
END:VCALENDAR