BEGIN:VCALENDAR
VERSION:2.0
PRODID:-//Chassell Farmers Market &amp; Houghton Indoor Farm and Craft Market - ECPv6.15.17//NONSGML v1.0//EN
CALSCALE:GREGORIAN
METHOD:PUBLISH
X-WR-CALNAME:Chassell Farmers Market &amp; Houghton Indoor Farm and Craft Market
X-ORIGINAL-URL:https://chassellmarket.com
X-WR-CALDESC:Events for Chassell Farmers Market &amp; Houghton Indoor Farm and Craft Market
REFRESH-INTERVAL;VALUE=DURATION:PT1H
X-Robots-Tag:noindex
X-PUBLISHED-TTL:PT1H
BEGIN:VTIMEZONE
TZID:America/New_York
BEGIN:DAYLIGHT
TZOFFSETFROM:-0500
TZOFFSETTO:-0400
TZNAME:EDT
DTSTART:20250309T070000
END:DAYLIGHT
BEGIN:STANDARD
TZOFFSETFROM:-0400
TZOFFSETTO:-0500
TZNAME:EST
DTSTART:20251102T060000
END:STANDARD
BEGIN:DAYLIGHT
TZOFFSETFROM:-0500
TZOFFSETTO:-0400
TZNAME:EDT
DTSTART:20260308T070000
END:DAYLIGHT
BEGIN:STANDARD
TZOFFSETFROM:-0400
TZOFFSETTO:-0500
TZNAME:EST
DTSTART:20261101T060000
END:STANDARD
BEGIN:DAYLIGHT
TZOFFSETFROM:-0500
TZOFFSETTO:-0400
TZNAME:EDT
DTSTART:20270314T070000
END:DAYLIGHT
BEGIN:STANDARD
TZOFFSETFROM:-0400
TZOFFSETTO:-0500
TZNAME:EST
DTSTART:20271107T060000
END:STANDARD
END:VTIMEZONE
BEGIN:VEVENT
DTSTART;TZID=America/New_York:20260319T000000
DTEND;TZID=America/New_York:20260319T235959
DTSTAMP:20260421T074656
CREATED:20260318T125121Z
LAST-MODIFIED:20260318T192104Z
UID:10007631-1773878400-1773964799@chassellmarket.com
SUMMARY:AA Meetings
DESCRIPTION:For an up to date list of all AA meetings in the Copper Country\, click here.
URL:https://chassellmarket.com/community-calendar/aa-meetings-1078/
LOCATION:MI
CATEGORIES:Events
END:VEVENT
BEGIN:VEVENT
DTSTART;TZID=America/New_York:20260319T090000
DTEND;TZID=America/New_York:20260319T130000
DTSTAMP:20260421T074656
CREATED:20260217T084045Z
LAST-MODIFIED:20260319T085110Z
UID:10007574-1773910800-1773925200@chassellmarket.com
SUMMARY:Treasurer Hours
DESCRIPTION:
URL:https://chassellmarket.com/community-calendar/treasurer-hours-81/
LOCATION:MI
CATEGORIES:Events
END:VEVENT
BEGIN:VEVENT
DTSTART;TZID=America/New_York:20260319T133000
DTEND;TZID=America/New_York:20260319T133000
DTSTAMP:20260421T074656
CREATED:20260318T112122Z
LAST-MODIFIED:20260318T192104Z
UID:10007629-1773927000-1773927000@chassellmarket.com
SUMMARY:Preschool Story Time
DESCRIPTION:Preschool story time meets each Wednesday at 10:30 and Thursday at 1:30 in the children's area at the Portage Lake District Library. Children can enjoy a story\, and bring home a take-and-make craft bag.
URL:https://chassellmarket.com/community-calendar/preschool-story-time-274/
LOCATION:Portage Lake District Library\, 58 Huron St\, Houghton\, MI\, United States
CATEGORIES:Events
GEO:47.122079;-88.568186
X-APPLE-STRUCTURED-LOCATION;VALUE=URI;X-ADDRESS=Portage Lake District Library 58 Huron St Houghton MI United States;X-APPLE-RADIUS=500;X-TITLE=58 Huron St:geo:-88.568186,47.122079
END:VEVENT
BEGIN:VEVENT
DTSTART;TZID=America/New_York:20260319T150000
DTEND;TZID=America/New_York:20260319T150000
DTSTAMP:20260421T074656
CREATED:20260318T125121Z
LAST-MODIFIED:20260318T192104Z
UID:10007630-1773932400-1773932400@chassellmarket.com
SUMMARY:Caregivers Support Group
DESCRIPTION:The Baragaland Senior Center Caregiver’s Support Group meets every other Thursday at 3:00 (unless otherwise announced). Anyone caring for a loved one with dementia or Alzheimer’s is welcome. For more details\, call (906) 524-6711 or (906) 524-6922.
URL:https://chassellmarket.com/community-calendar/caregivers-support-group-39/
LOCATION:Baragaland Senior Citizens Center\, 6 N Main St\, L'Anse\, MI\, United States
CATEGORIES:Events
GEO:46.757969;-88.454464
X-APPLE-STRUCTURED-LOCATION;VALUE=URI;X-ADDRESS=Baragaland Senior Citizens Center 6 N Main St L'Anse MI United States;X-APPLE-RADIUS=500;X-TITLE=6 N Main St:geo:-88.454464,46.757969
END:VEVENT
BEGIN:VEVENT
DTSTART;TZID=America/New_York:20260319T170000
DTEND;TZID=America/New_York:20260319T170000
DTSTAMP:20260421T074656
CREATED:20260318T185120Z
LAST-MODIFIED:20260318T192104Z
UID:10007633-1773939600-1773939600@chassellmarket.com
SUMMARY:Omega House Grief Support Group
DESCRIPTION:Omega House’s Third Thursday Community Grief Support Group will meet from 5:00-6:00 in person at Omega House\, or via Zoom or phone. To reserve a place\, or to receive log in and phone information\, calling or texting Cynthia at 906-370-6686 or email cynthia.drake@omega-house.org by close of business the day before the meeting.
URL:https://chassellmarket.com/community-calendar/omega-house-grief-support-group-36/
LOCATION:Omega House\, 2211 Maureen Ln\, Houghton\, MI\, United States
CATEGORIES:Events
GEO:47.107531;-88.597713
X-APPLE-STRUCTURED-LOCATION;VALUE=URI;X-ADDRESS=Omega House 2211 Maureen Ln Houghton MI United States;X-APPLE-RADIUS=500;X-TITLE=2211 Maureen Ln:geo:-88.597713,47.107531
END:VEVENT
BEGIN:VEVENT
DTSTART;TZID=America/New_York:20260319T190000
DTEND;TZID=America/New_York:20260319T190000
DTSTAMP:20260421T074656
CREATED:20260318T175121Z
LAST-MODIFIED:20260318T182103Z
UID:10007632-1773946800-1773946800@chassellmarket.com
SUMMARY:Marine Corps League Meeting
DESCRIPTION:The Keweenaw Detachment #1016\, Marine Corps League meets on the third Thursday every month at 7:00 pm at the South Range VFW. Marine Corps veterans are invited to attend.
URL:https://chassellmarket.com/community-calendar/marine-corps-league-meeting-36/
LOCATION:Range Lounge & VFW\, 2 Baltic Ave\, South Range\, MI\, United States
CATEGORIES:Events
GEO:47.069797;-88.640509
X-APPLE-STRUCTURED-LOCATION;VALUE=URI;X-ADDRESS=Range Lounge & VFW 2 Baltic Ave South Range MI United States;X-APPLE-RADIUS=500;X-TITLE=2 Baltic Ave:geo:-88.640509,47.069797
END:VEVENT
BEGIN:VEVENT
DTSTART;TZID=America/New_York:20260323T090000
DTEND;TZID=America/New_York:20260323T123000
DTSTAMP:20260421T074656
CREATED:20260217T084101Z
LAST-MODIFIED:20260319T085110Z
UID:10007577-1774256400-1774269000@chassellmarket.com
SUMMARY:Treasurer Hours
DESCRIPTION:
URL:https://chassellmarket.com/community-calendar/treasurer-hours-82/
LOCATION:MI
CATEGORIES:Events
END:VEVENT
BEGIN:VEVENT
DTSTART;TZID=America/New_York:20260323T110000
DTEND;TZID=America/New_York:20260323T133000
DTSTAMP:20260421T074656
CREATED:20260217T084100Z
LAST-MODIFIED:20260319T085110Z
UID:10007575-1774263600-1774272600@chassellmarket.com
SUMMARY:Senior Meals at the Fire Hall
DESCRIPTION:
URL:https://chassellmarket.com/community-calendar/senior-meals-at-the-fire-hall-303/
LOCATION:Chassell Township Fire Department\, 22098 7th St\, Chassell\, MI\, United States
CATEGORIES:Events
GEO:47.0219;-88.530903
X-APPLE-STRUCTURED-LOCATION;VALUE=URI;X-ADDRESS=Chassell Township Fire Department 22098 7th St Chassell MI United States;X-APPLE-RADIUS=500;X-TITLE=22098 7th St:geo:-88.530903,47.0219
END:VEVENT
BEGIN:VEVENT
DTSTART;TZID=America/New_York:20260323T123000
DTEND;TZID=America/New_York:20260323T150000
DTSTAMP:20260421T074656
CREATED:20260217T084100Z
LAST-MODIFIED:20260319T085110Z
UID:10007576-1774269000-1774278000@chassellmarket.com
SUMMARY:W/S Clerk Hours
DESCRIPTION:
URL:https://chassellmarket.com/community-calendar/w-s-clerk-hours-89/
LOCATION:41950 Willson Memorial Dr\, Chassell\, MI\, United States
CATEGORIES:Events
GEO:47.020152;-88.572499
END:VEVENT
BEGIN:VEVENT
DTSTART;TZID=America/New_York:20260323T160000
DTEND;TZID=America/New_York:20260323T183000
DTSTAMP:20260421T074656
CREATED:20260217T084101Z
LAST-MODIFIED:20260319T085111Z
UID:10007578-1774281600-1774290600@chassellmarket.com
SUMMARY:W/S Clerk Hours
DESCRIPTION:
URL:https://chassellmarket.com/community-calendar/w-s-clerk-hours-90/
LOCATION:41950 Willson Memorial Dr\, Chassell\, MI\, United States
CATEGORIES:Events
GEO:47.020152;-88.572499
END:VEVENT
BEGIN:VEVENT
DTSTART;TZID=America/New_York:20260325T000000
DTEND;TZID=America/New_York:20260325T235959
DTSTAMP:20260421T074656
CREATED:20260325T112129Z
LAST-MODIFIED:20260325T192104Z
UID:10007684-1774396800-1774483199@chassellmarket.com
SUMMARY:AA Meetings
DESCRIPTION:For an up to date list of all AA meetings in the Copper Country\, click here.
URL:https://chassellmarket.com/community-calendar/aa-meetings-1080/
LOCATION:MI
CATEGORIES:Events
END:VEVENT
BEGIN:VEVENT
DTSTART;TZID=America/New_York:20260325T090000
DTEND;TZID=America/New_York:20260325T123000
DTSTAMP:20260421T074656
CREATED:20260217T084101Z
LAST-MODIFIED:20260319T085111Z
UID:10007579-1774429200-1774441800@chassellmarket.com
SUMMARY:Treasurer Hours
DESCRIPTION:
URL:https://chassellmarket.com/community-calendar/treasurer-hours-83/
LOCATION:MI
CATEGORIES:Events
END:VEVENT
BEGIN:VEVENT
DTSTART;TZID=America/New_York:20260325T100000
DTEND;TZID=America/New_York:20260325T120000
DTSTAMP:20260421T074656
CREATED:20260325T112129Z
LAST-MODIFIED:20260325T162104Z
UID:10007686-1774432800-1774440000@chassellmarket.com
SUMMARY:Mohawk Playgroup
DESCRIPTION:The Keweenaw Family Resource Center playgroup will meet at the Horizons School in Mohawk. \nPlaygroup is for families in the area with children birth through 4 years of age. The playgroups provide an opportunity for children and parents to play in an environment that is supportive and nurturing. Morning playgroups are offered in the communities of Houghton\, and Mohawk.   \nPlaygroups are structured to allow children to explore and play at their own pace. We encourage parents to interact with their children at all times\, especially during snack time\, exploration time and during clean up. Playgroup coordinators are there to facilitate the sessions\, model appropriate adult behavior\, and interact with children in ways which will assist them in their learning and development of social skills. We strive for a positive experience for everyone. Playgroups are open to all area families. \nWhat to Expect at Playgroup:\n\nFree Play Time\, where children can choose to play with any toys they like.\nCircle time\, where the children are encouraged to sit in a group circle and sing songs and do finger plays.\nExploration time\, when children learn new things by free creation-finger painting\, coloring\, drawing.\nSnack time\, when children sit at the table with the other children and have a healthy snack.\nClean up time\, where both the children and their parents are required to participate. The snack is put away\, the toys put where they belong\, and the exploration area is tidied up.\n\nGet notification reminders for our playgroups by going to our event calendar\, then adding selected events to your Google calendar! Visit our Facebook page to stay informed on playgroup cancelations or other community events and resources.
URL:https://chassellmarket.com/community-calendar/mohawk-playgroup-72/
LOCATION:Horizons Alternative High School\, 110 Stanton Ave\, Mohawk\, MI\, United States
CATEGORIES:Events
GEO:47.304851;-88.361226
X-APPLE-STRUCTURED-LOCATION;VALUE=URI;X-ADDRESS=Horizons Alternative High School 110 Stanton Ave Mohawk MI United States;X-APPLE-RADIUS=500;X-TITLE=110 Stanton Ave:geo:-88.361226,47.304851
END:VEVENT
BEGIN:VEVENT
DTSTART;TZID=America/New_York:20260325T103000
DTEND;TZID=America/New_York:20260325T103000
DTSTAMP:20260421T074656
CREATED:20260325T112129Z
LAST-MODIFIED:20260325T132103Z
UID:10007685-1774434600-1774434600@chassellmarket.com
SUMMARY:Preschool Story Time
DESCRIPTION:Preschool story time meets each Wednesday at 10:30 and Thursday at 1:30 in the children’s area at the Portage Lake District Library. Children can enjoy a story\, and bring home a take-and-make craft bag.
URL:https://chassellmarket.com/community-calendar/preschool-story-time-275/
LOCATION:Portage Lake District Library\, 58 Huron St\, Houghton\, MI\, United States
CATEGORIES:Events
GEO:47.122079;-88.568186
X-APPLE-STRUCTURED-LOCATION;VALUE=URI;X-ADDRESS=Portage Lake District Library 58 Huron St Houghton MI United States;X-APPLE-RADIUS=500;X-TITLE=58 Huron St:geo:-88.568186,47.122079
END:VEVENT
BEGIN:VEVENT
DTSTART;TZID=America/New_York:20260325T110000
DTEND;TZID=America/New_York:20260325T133000
DTSTAMP:20260421T074656
CREATED:20260217T084102Z
LAST-MODIFIED:20260319T085111Z
UID:10007580-1774436400-1774445400@chassellmarket.com
SUMMARY:Senior Meals at the Fire Hall
DESCRIPTION:
URL:https://chassellmarket.com/community-calendar/senior-meals-at-the-fire-hall-304/
LOCATION:Chassell Township Fire Department\, 22098 7th St\, Chassell\, MI\, United States
CATEGORIES:Events
GEO:47.0219;-88.530903
X-APPLE-STRUCTURED-LOCATION;VALUE=URI;X-ADDRESS=Chassell Township Fire Department 22098 7th St Chassell MI United States;X-APPLE-RADIUS=500;X-TITLE=22098 7th St:geo:-88.530903,47.0219
END:VEVENT
BEGIN:VEVENT
DTSTART;TZID=America/New_York:20260325T123000
DTEND;TZID=America/New_York:20260325T150000
DTSTAMP:20260421T074656
CREATED:20260217T084102Z
LAST-MODIFIED:20260319T085111Z
UID:10007581-1774441800-1774450800@chassellmarket.com
SUMMARY:W/S Clerk Hours
DESCRIPTION:
URL:https://chassellmarket.com/community-calendar/w-s-clerk-hours-91/
LOCATION:41950 Willson Memorial Dr\, Chassell\, MI\, United States
CATEGORIES:Events
GEO:47.020152;-88.572499
END:VEVENT
BEGIN:VEVENT
DTSTART;TZID=America/New_York:20260325T140000
DTEND;TZID=America/New_York:20260325T140000
DTSTAMP:20260421T074656
CREATED:20260325T112129Z
LAST-MODIFIED:20260325T182103Z
UID:10007687-1774447200-1774447200@chassellmarket.com
SUMMARY:Bingo - South Range
DESCRIPTION:The South Range Eagles Hall hosts Bingo every Wednesday. All are welcome.
URL:https://chassellmarket.com/community-calendar/bingo-south-range-156/
LOCATION:South Range Eagles\, 8 Baltic Ave\, South Range\, MI\, United States
CATEGORIES:Events
GEO:47.070836;-88.640432
X-APPLE-STRUCTURED-LOCATION;VALUE=URI;X-ADDRESS=South Range Eagles 8 Baltic Ave South Range MI United States;X-APPLE-RADIUS=500;X-TITLE=8 Baltic Ave:geo:-88.640432,47.070836
END:VEVENT
BEGIN:VEVENT
DTSTART;TZID=America/New_York:20260325T160000
DTEND;TZID=America/New_York:20260325T183000
DTSTAMP:20260421T074656
CREATED:20260217T084102Z
LAST-MODIFIED:20260319T085111Z
UID:10007582-1774454400-1774463400@chassellmarket.com
SUMMARY:W/S Clerk Hours
DESCRIPTION:
URL:https://chassellmarket.com/community-calendar/w-s-clerk-hours-92/
LOCATION:41950 Willson Memorial Dr\, Chassell\, MI\, United States
CATEGORIES:Events
GEO:47.020152;-88.572499
END:VEVENT
BEGIN:VEVENT
DTSTART;TZID=America/New_York:20260325T180000
DTEND;TZID=America/New_York:20260325T190000
DTSTAMP:20260421T074656
CREATED:20260217T084102Z
LAST-MODIFIED:20260319T085124Z
UID:10007583-1774461600-1774465200@chassellmarket.com
SUMMARY:Chassell Lions Meeting at VFW
DESCRIPTION:
URL:https://chassellmarket.com/community-calendar/chassell-lions-meeting-at-vfw-17/
LOCATION:Chassell VFW\, 41899 Wilson Memorial Dr\, Chassell\, MI\, United States
CATEGORIES:Events
GEO:47.022923;-88.527343
X-APPLE-STRUCTURED-LOCATION;VALUE=URI;X-ADDRESS=Chassell VFW 41899 Wilson Memorial Dr Chassell MI United States;X-APPLE-RADIUS=500;X-TITLE=41899 Wilson Memorial Dr:geo:-88.527343,47.022923
END:VEVENT
BEGIN:VEVENT
DTSTART;TZID=America/New_York:20260325T180000
DTEND;TZID=America/New_York:20260325T190000
DTSTAMP:20260421T074656
CREATED:20260319T085111Z
LAST-MODIFIED:20260319T085111Z
UID:10007634-1774461600-1774465200@chassellmarket.com
SUMMARY:Public Hearing & Special Meeting
DESCRIPTION:
URL:https://chassellmarket.com/community-calendar/public-hearing-special-meeting/
LOCATION:Chassell Township Fire Department\, 22098 7th St\, Chassell\, MI\, United States
CATEGORIES:Events
GEO:47.0219;-88.530903
X-APPLE-STRUCTURED-LOCATION;VALUE=URI;X-ADDRESS=Chassell Township Fire Department 22098 7th St Chassell MI United States;X-APPLE-RADIUS=500;X-TITLE=22098 7th St:geo:-88.530903,47.0219
END:VEVENT
BEGIN:VEVENT
DTSTART;TZID=America/New_York:20260326T000000
DTEND;TZID=America/New_York:20260326T235959
DTSTAMP:20260421T074656
CREATED:20260325T112128Z
LAST-MODIFIED:20260325T192104Z
UID:10007683-1774483200-1774569599@chassellmarket.com
SUMMARY:AA Meetings
DESCRIPTION:For an up to date list of all AA meetings in the Copper Country\, click here.
URL:https://chassellmarket.com/community-calendar/aa-meetings-1079/
LOCATION:MI
CATEGORIES:Events
END:VEVENT
BEGIN:VEVENT
DTSTART;TZID=America/New_York:20260326T090000
DTEND;TZID=America/New_York:20260326T130000
DTSTAMP:20260421T074656
CREATED:20260217T084102Z
LAST-MODIFIED:20260319T085124Z
UID:10007584-1774515600-1774530000@chassellmarket.com
SUMMARY:Treasurer Hours
DESCRIPTION:
URL:https://chassellmarket.com/community-calendar/treasurer-hours-84/
LOCATION:MI
CATEGORIES:Events
END:VEVENT
BEGIN:VEVENT
DTSTART;TZID=America/New_York:20260326T133000
DTEND;TZID=America/New_York:20260326T133000
DTSTAMP:20260421T074656
CREATED:20260325T135125Z
LAST-MODIFIED:20260325T192104Z
UID:10007688-1774531800-1774531800@chassellmarket.com
SUMMARY:Preschool Story Time
DESCRIPTION:Preschool story time meets each Wednesday at 10:30 and Thursday at 1:30 in the children's area at the Portage Lake District Library. Children can enjoy a story\, and bring home a take-and-make craft bag.
URL:https://chassellmarket.com/community-calendar/preschool-story-time-276/
LOCATION:Portage Lake District Library\, 58 Huron St\, Houghton\, MI\, United States
CATEGORIES:Events
GEO:47.122079;-88.568186
X-APPLE-STRUCTURED-LOCATION;VALUE=URI;X-ADDRESS=Portage Lake District Library 58 Huron St Houghton MI United States;X-APPLE-RADIUS=500;X-TITLE=58 Huron St:geo:-88.568186,47.122079
END:VEVENT
BEGIN:VEVENT
DTSTART;TZID=America/New_York:20260327T000000
DTEND;TZID=America/New_York:20260327T235959
DTSTAMP:20260421T074656
CREATED:20260325T135126Z
LAST-MODIFIED:20260325T142104Z
UID:10007690-1774569600-1774655999@chassellmarket.com
SUMMARY:AA Meetings
DESCRIPTION:For an up to date list of all AA meetings in the Copper Country\, click here.
URL:https://chassellmarket.com/community-calendar/aa-meetings-1082/
LOCATION:MI
CATEGORIES:Events
END:VEVENT
BEGIN:VEVENT
DTSTART;TZID=America/New_York:20260327T090000
DTEND;TZID=America/New_York:20260327T120000
DTSTAMP:20260421T074656
CREATED:20260325T175125Z
LAST-MODIFIED:20260325T192104Z
UID:10007694-1774602000-1774612800@chassellmarket.com
SUMMARY:Treehouse Playgroup
DESCRIPTION:The Keweenaw Family Resource Center playgroup will meet at the Tree House Indoor Playground. \nPlaygroup is for families in the area with children birth through 4 years of age. The playgroups provide an opportunity for children and parents to play in an environment that is supportive and nurturing. Morning playgroups are offered in the communities of Houghton\, and Mohawk.   \nPlaygroups are structured to allow children to explore and play at their own pace. We encourage parents to interact with their children at all times\, especially during snack time\, exploration time and during clean up. Playgroup coordinators are there to facilitate the sessions\, model appropriate adult behavior\, and interact with children in ways which will assist them in their learning and development of social skills. We strive for a positive experience for everyone. Playgroups are open to all area families. \nWhat to Expect at Playgroup:\n\nFree Play Time\, where children can choose to play with any toys they like.\nCircle time\, where the children are encouraged to sit in a group circle and sing songs and do finger plays.\nExploration time\, when children learn new things by free creation-finger painting\, coloring\, drawing.\nSnack time\, when children sit at the table with the other children and have a healthy snack.\nClean up time\, where both the children and their parents are required to participate. The snack is put away\, the toys put where they belong\, and the exploration area is tidied up.\n\nGet notification reminders for our playgroups by going to our event calendar\, then adding selected events to your Google calendar! Visit our Facebook page to stay informed on playgroup cancelations or other community events and resources.
URL:https://chassellmarket.com/community-calendar/treehouse-playgroup-150/
LOCATION:The Tree House Indoor Playground\, 850 W Sharon Ave\, Houghton\, MI\, United States
CATEGORIES:Events
GEO:47.113224;-88.585758
X-APPLE-STRUCTURED-LOCATION;VALUE=URI;X-ADDRESS=The Tree House Indoor Playground 850 W Sharon Ave Houghton MI United States;X-APPLE-RADIUS=500;X-TITLE=850 W Sharon Ave:geo:-88.585758,47.113224
END:VEVENT
BEGIN:VEVENT
DTSTART;TZID=America/New_York:20260327T173000
DTEND;TZID=America/New_York:20260327T190000
DTSTAMP:20260421T074656
CREATED:20260325T185124Z
LAST-MODIFIED:20260325T192104Z
UID:10007695-1774632600-1774638000@chassellmarket.com
SUMMARY:Free Community Meal - Calumet
DESCRIPTION:The CLK Council of Churches' Neighbors Table community meal will be held at Faith Lutheran Church. This is a free meal open to all in the community. For more information\, please contact clkcouncil@gmail.com.
URL:https://chassellmarket.com/community-calendar/free-community-meal-calumet-36/
LOCATION:Faith Lutheran Church\, 26016 Depot St\, Calumet\, MI\, United States
CATEGORIES:Events
GEO:47.238967;-88.446743
X-APPLE-STRUCTURED-LOCATION;VALUE=URI;X-ADDRESS=Faith Lutheran Church 26016 Depot St Calumet MI United States;X-APPLE-RADIUS=500;X-TITLE=26016 Depot St:geo:-88.446743,47.238967
END:VEVENT
BEGIN:VEVENT
DTSTART;TZID=America/New_York:20260328T000000
DTEND;TZID=America/New_York:20260328T235959
DTSTAMP:20260421T074656
CREATED:20260325T135125Z
LAST-MODIFIED:20260325T142104Z
UID:10007689-1774656000-1774742399@chassellmarket.com
SUMMARY:AA Meetings
DESCRIPTION:For an up to date list of all AA meetings in the Copper Country\, click here.
URL:https://chassellmarket.com/community-calendar/aa-meetings-1081/
LOCATION:MI
CATEGORIES:Events
END:VEVENT
BEGIN:VEVENT
DTSTART;TZID=America/New_York:20260329T000000
DTEND;TZID=America/New_York:20260329T235959
DTSTAMP:20260421T074656
CREATED:20260325T165126Z
LAST-MODIFIED:20260325T172104Z
UID:10007693-1774742400-1774828799@chassellmarket.com
SUMMARY:AA Meetings
DESCRIPTION:For an up to date list of all AA meetings in the Copper Country\, click here.
URL:https://chassellmarket.com/community-calendar/aa-meetings-1084/
LOCATION:MI
CATEGORIES:Events
END:VEVENT
BEGIN:VEVENT
DTSTART;TZID=America/New_York:20260329T140000
DTEND;TZID=America/New_York:20260329T170000
DTSTAMP:20260421T074656
CREATED:20260325T165125Z
LAST-MODIFIED:20260325T172104Z
UID:10007691-1774792800-1774803600@chassellmarket.com
SUMMARY:Polka Dance - South Range
DESCRIPTION:The South Range Eagles Club hosts polka dances with live music each Sunday. All are welcome.
URL:https://chassellmarket.com/community-calendar/polka-dance-south-range-155/
LOCATION:South Range Eagles\, 8 Baltic Ave\, South Range\, MI\, United States
CATEGORIES:Events
GEO:47.070836;-88.640432
X-APPLE-STRUCTURED-LOCATION;VALUE=URI;X-ADDRESS=South Range Eagles 8 Baltic Ave South Range MI United States;X-APPLE-RADIUS=500;X-TITLE=8 Baltic Ave:geo:-88.640432,47.070836
END:VEVENT
BEGIN:VEVENT
DTSTART;TZID=America/New_York:20260330T000000
DTEND;TZID=America/New_York:20260330T235959
DTSTAMP:20260421T074656
CREATED:20260325T165125Z
LAST-MODIFIED:20260325T172104Z
UID:10007692-1774828800-1774915199@chassellmarket.com
SUMMARY:AA Meetings
DESCRIPTION:For an up to date list of all AA meetings in the Copper Country\, click here.
URL:https://chassellmarket.com/community-calendar/aa-meetings-1083/
LOCATION:MI
CATEGORIES:Events
END:VEVENT
END:VCALENDAR