BEGIN:VCALENDAR
VERSION:2.0
PRODID:-//Chassell Farmers Market &amp; Houghton Indoor Farm and Craft Market - ECPv6.15.17//NONSGML v1.0//EN
CALSCALE:GREGORIAN
METHOD:PUBLISH
X-WR-CALNAME:Chassell Farmers Market &amp; Houghton Indoor Farm and Craft Market
X-ORIGINAL-URL:https://chassellmarket.com
X-WR-CALDESC:Events for Chassell Farmers Market &amp; Houghton Indoor Farm and Craft Market
REFRESH-INTERVAL;VALUE=DURATION:PT1H
X-Robots-Tag:noindex
X-PUBLISHED-TTL:PT1H
BEGIN:VTIMEZONE
TZID:America/New_York
BEGIN:DAYLIGHT
TZOFFSETFROM:-0500
TZOFFSETTO:-0400
TZNAME:EDT
DTSTART:20240310T070000
END:DAYLIGHT
BEGIN:STANDARD
TZOFFSETFROM:-0400
TZOFFSETTO:-0500
TZNAME:EST
DTSTART:20241103T060000
END:STANDARD
BEGIN:DAYLIGHT
TZOFFSETFROM:-0500
TZOFFSETTO:-0400
TZNAME:EDT
DTSTART:20250309T070000
END:DAYLIGHT
BEGIN:STANDARD
TZOFFSETFROM:-0400
TZOFFSETTO:-0500
TZNAME:EST
DTSTART:20251102T060000
END:STANDARD
BEGIN:DAYLIGHT
TZOFFSETFROM:-0500
TZOFFSETTO:-0400
TZNAME:EDT
DTSTART:20260308T070000
END:DAYLIGHT
BEGIN:STANDARD
TZOFFSETFROM:-0400
TZOFFSETTO:-0500
TZNAME:EST
DTSTART:20261101T060000
END:STANDARD
END:VTIMEZONE
BEGIN:VEVENT
DTSTART;TZID=America/New_York:20250522T170000
DTEND;TZID=America/New_York:20250522T170000
DTSTAMP:20260422T171249
CREATED:20250511T044158Z
LAST-MODIFIED:20250518T044221Z
UID:10006133-1747933200-1747933200@chassellmarket.com
SUMMARY:Meeting of the Makers
DESCRIPTION:Keweenaw Fab Lab will host a Meeting of the Makers at the Orpheum in Hancock. Bring a project to share or just come to share ideas. \nSchedule: • 5-6pm – get food & drinks\, socialize\, sign up to present if you've brought something to share • 6-? – "Open Make Night" – People with something to share will have the group's attention for a short time to demo\, discuss their project\, or ask for help. We will have a laptop connected to a projector\, if you'd like to share something you have stored online or on a usb stick. \nAll skill levels and ages are welcome. Food and drinks will be available for purchase from 5th & Elm inside The Orpheum.
URL:https://chassellmarket.com/community-calendar/meeting-of-the-makers-6/
LOCATION:The Orpheum Theater\, 426 Quincy St\, Hancock\, MI\, United States
CATEGORIES:Events
GEO:47.126506;-88.585467
X-APPLE-STRUCTURED-LOCATION;VALUE=URI;X-ADDRESS=The Orpheum Theater 426 Quincy St Hancock MI United States;X-APPLE-RADIUS=500;X-TITLE=426 Quincy St:geo:-88.585467,47.126506
END:VEVENT
BEGIN:VEVENT
DTSTART;TZID=America/New_York:20250523T000000
DTEND;TZID=America/New_York:20250523T235959
DTSTAMP:20260422T171249
CREATED:20250518T044252Z
LAST-MODIFIED:20250518T044252Z
UID:10006172-1747958400-1748044799@chassellmarket.com
SUMMARY:Camp 911 Application Period
DESCRIPTION:Bay Ambulance is currently accepting applications for Camp 911\, which will be held June 17th and 18th. Fifth and sixth graders from Baraga County schools are eligible. For additional information contact Bay Ambulance at 906-353-6196 between 7:00 am and 3:00 pm. The deadline for applications is June 3. Info can also be found at the Bay Ambulance Facebook Page.
URL:https://chassellmarket.com/community-calendar/camp-911-application-period-7/
LOCATION:MI
CATEGORIES:Events
END:VEVENT
BEGIN:VEVENT
DTSTART;TZID=America/New_York:20250523T000000
DTEND;TZID=America/New_York:20250523T235959
DTSTAMP:20260422T171249
CREATED:20250518T044119Z
LAST-MODIFIED:20250518T044119Z
UID:10006169-1747958400-1748044799@chassellmarket.com
SUMMARY:Ride the Keweenaw
DESCRIPTION:Ride the Keweenaw is a family-friendly series of riding events that highlight the Copper Country’s great biking trails.  \nThe event opens in Greenland on Friday with a guided ride through the Adventure Mine.  \nSaturday will feature guided rides at the Michigan Tech Trails in Houghton\, the Churning Rapids Trails in Hancock\, and the Swedetown Trails in Calumet\, with a Family Enduro at the Tech Trails. \nSunday’s activities are centered in Copper Harbor\, and include the Lake Superior Gravity Series Enduro\, along with Art Bike at the Harbor\, and live music.  \nFor full details and registration information\, click here.
URL:https://chassellmarket.com/community-calendar/ride-the-keweenaw-7/
LOCATION:MI
CATEGORIES:Events
END:VEVENT
BEGIN:VEVENT
DTSTART;TZID=America/New_York:20250523T000000
DTEND;TZID=America/New_York:20250523T235959
DTSTAMP:20260422T171250
CREATED:20250511T044158Z
LAST-MODIFIED:20250518T044119Z
UID:10006134-1747958400-1748044799@chassellmarket.com
SUMMARY:AA Meetings
DESCRIPTION:For an up to date list of all AA meetings in the Copper Country\, click here.
URL:https://chassellmarket.com/community-calendar/aa-meetings-779/
LOCATION:MI
CATEGORIES:Events
END:VEVENT
BEGIN:VEVENT
DTSTART;TZID=America/New_York:20250523T090000
DTEND;TZID=America/New_York:20250523T120000
DTSTAMP:20260422T171250
CREATED:20250511T044158Z
LAST-MODIFIED:20250518T044119Z
UID:10006135-1747990800-1748001600@chassellmarket.com
SUMMARY:Treehouse Playgroup
DESCRIPTION:The Keweenaw Family Resource Center playgroup will meet at the Tree House Indoor Playground. \nPlaygroup is for families in the area with children birth through 4 years of age. The playgroups provide an opportunity for children and parents to play in an environment that is supportive and nurturing. Morning playgroups are offered in the communities of Houghton\, and Mohawk.   \nPlaygroups are structured to allow children to explore and play at their own pace. We encourage parents to interact with their children at all times\, especially during snack time\, exploration time and during clean up. Playgroup coordinators are there to facilitate the sessions\, model appropriate adult behavior\, and interact with children in ways which will assist them in their learning and development of social skills. We strive for a positive experience for everyone. Playgroups are open to all area families. \nWhat to Expect at Playgroup:\n\nFree Play Time\, where children can choose to play with any toys they like.\nCircle time\, where the children are encouraged to sit in a group circle and sing songs and do finger plays.\nExploration time\, when children learn new things by free creation-finger painting\, coloring\, drawing.\nSnack time\, when children sit at the table with the other children and have a healthy snack.\nClean up time\, where both the children and their parents are required to participate. The snack is put away\, the toys put where they belong\, and the exploration area is tidied up.\n\nGet notification reminders for our playgroups by going to our event calendar\, then adding selected events to your Google calendar! Visit our Facebook page to stay informed on playgroup cancelations or other community events and resources.
URL:https://chassellmarket.com/community-calendar/treehouse-playgroup-65/
LOCATION:The Tree House Indoor Playground\, 850 W Sharon Ave\, Houghton\, MI\, United States
CATEGORIES:Events
GEO:47.113224;-88.585758
X-APPLE-STRUCTURED-LOCATION;VALUE=URI;X-ADDRESS=The Tree House Indoor Playground 850 W Sharon Ave Houghton MI United States;X-APPLE-RADIUS=500;X-TITLE=850 W Sharon Ave:geo:-88.585758,47.113224
END:VEVENT
BEGIN:VEVENT
DTSTART;TZID=America/New_York:20250523T100000
DTEND;TZID=America/New_York:20250523T180000
DTSTAMP:20260422T171250
CREATED:20250511T044159Z
LAST-MODIFIED:20250518T044119Z
UID:10006136-1747994400-1748023200@chassellmarket.com
SUMMARY:Aspirus Auxiliary Used Book Sale
DESCRIPTION:The Aspirus Keweenaw Auxiliary will host a used book sale. Along with books\, the selections will include – DVDs\, CDs\, puzzles\, board games and other gently used items.
URL:https://chassellmarket.com/community-calendar/aspirus-auxiliary-used-book-sale-2/
LOCATION:Aspirus Keweenaw Hospital\, 205 Osceola St\, Calumet\, MI\, United States
CATEGORIES:Events
GEO:47.238444;-88.443428
X-APPLE-STRUCTURED-LOCATION;VALUE=URI;X-ADDRESS=Aspirus Keweenaw Hospital 205 Osceola St Calumet MI United States;X-APPLE-RADIUS=500;X-TITLE=205 Osceola St:geo:-88.443428,47.238444
END:VEVENT
BEGIN:VEVENT
DTSTART;TZID=America/New_York:20250524T000000
DTEND;TZID=America/New_York:20250524T235959
DTSTAMP:20260422T171250
CREATED:20250522T113926Z
LAST-MODIFIED:20250523T075438Z
UID:10006207-1748044800-1748131199@chassellmarket.com
SUMMARY:Pavilion Not Available (NC)
DESCRIPTION:
URL:https://chassellmarket.com/community-calendar/pavilion-not-available-nc-19/
LOCATION:MI
CATEGORIES:Events
END:VEVENT
BEGIN:VEVENT
DTSTART;TZID=America/New_York:20250524T000000
DTEND;TZID=America/New_York:20250524T235959
DTSTAMP:20260422T171250
CREATED:20250518T044259Z
LAST-MODIFIED:20250518T044259Z
UID:10006177-1748044800-1748131199@chassellmarket.com
SUMMARY:Ride the Keweenaw
DESCRIPTION:Ride the Keweenaw is a family-friendly series of riding events that highlight the Copper Country’s great biking trails.  \nThe event opens in Greenland on Friday with a guided ride through the Adventure Mine.  \nSaturday will feature guided rides at the Michigan Tech Trails in Houghton\, the Churning Rapids Trails in Hancock\, and the Swedetown Trails in Calumet\, with a Family Enduro at the Tech Trails. \nSunday’s activities are centered in Copper Harbor\, and include the Lake Superior Gravity Series Enduro\, along with Art Bike at the Harbor\, and live music.  \nFor full details and registration information\, click here.
URL:https://chassellmarket.com/community-calendar/ride-the-keweenaw-8/
LOCATION:MI
CATEGORIES:Events
END:VEVENT
BEGIN:VEVENT
DTSTART;TZID=America/New_York:20250524T000000
DTEND;TZID=America/New_York:20250524T235959
DTSTAMP:20260422T171250
CREATED:20250518T044221Z
LAST-MODIFIED:20250518T044221Z
UID:10006171-1748044800-1748131199@chassellmarket.com
SUMMARY:Camp 911 Application Period
DESCRIPTION:Bay Ambulance is currently accepting applications for Camp 911\, which will be held June 17th and 18th. Fifth and sixth graders from Baraga County schools are eligible. For additional information contact Bay Ambulance at 906-353-6196 between 7:00 am and 3:00 pm. The deadline for applications is June 3. Info can also be found at the Bay Ambulance Facebook Page.
URL:https://chassellmarket.com/community-calendar/camp-911-application-period-6/
LOCATION:MI
CATEGORIES:Events
END:VEVENT
BEGIN:VEVENT
DTSTART;TZID=America/New_York:20250524T000000
DTEND;TZID=America/New_York:20250524T235959
DTSTAMP:20260422T171250
CREATED:20250511T044214Z
LAST-MODIFIED:20250518T044119Z
UID:10006138-1748044800-1748131199@chassellmarket.com
SUMMARY:AA Meetings
DESCRIPTION:For an up to date list of all AA meetings in the Copper Country\, click here.
URL:https://chassellmarket.com/community-calendar/aa-meetings-780/
LOCATION:MI
CATEGORIES:Events
END:VEVENT
BEGIN:VEVENT
DTSTART;TZID=America/New_York:20250524T090000
DTEND;TZID=America/New_York:20250524T140000
DTSTAMP:20260422T171250
CREATED:20250518T044252Z
LAST-MODIFIED:20250518T044252Z
UID:10006173-1748077200-1748095200@chassellmarket.com
SUMMARY:Humane Society Benefit Sale
DESCRIPTION:Look for bargains at this rummage sale at 19618 McKinley Street in Hancock. All proceeds will support the Copper Country Humane Society.  No early sales.
URL:https://chassellmarket.com/community-calendar/humane-society-benefit-sale/
LOCATION:19618 McKinley St\, Hancock\, MI\, United States
CATEGORIES:Events
GEO:47.156614;-88.558554
END:VEVENT
BEGIN:VEVENT
DTSTART;TZID=America/New_York:20250524T100000
DTEND;TZID=America/New_York:20250524T100000
DTSTAMP:20260422T171250
CREATED:20250518T044252Z
LAST-MODIFIED:20250518T044252Z
UID:10006174-1748080800-1748080800@chassellmarket.com
SUMMARY:Dollar Bay High School Commencement
DESCRIPTION:The Dollar Bay-Tamarack City High School commencement ceremony will be held in the gym.
URL:https://chassellmarket.com/community-calendar/dollar-bay-high-school-commencement-2/
LOCATION:Dollar Bay Schools\, 23109 Maple Dr\, Dollar Bay\, MI\, United States
CATEGORIES:Events
GEO:47.118614;-88.507376
X-APPLE-STRUCTURED-LOCATION;VALUE=URI;X-ADDRESS=Dollar Bay Schools 23109 Maple Dr Dollar Bay MI United States;X-APPLE-RADIUS=500;X-TITLE=23109 Maple Dr:geo:-88.507376,47.118614
END:VEVENT
BEGIN:VEVENT
DTSTART;TZID=America/New_York:20250524T100000
DTEND;TZID=America/New_York:20250524T100000
DTSTAMP:20260422T171250
CREATED:20250511T044159Z
LAST-MODIFIED:20250518T044252Z
UID:10006137-1748080800-1748080800@chassellmarket.com
SUMMARY:GriefShare Support Group Meeting
DESCRIPTION:GriefShare\, a special help seminar and support group for people experiencing grief and loss\, will be held on Saturday mornings at Bethany Baptist Church. All are welcome. For more information\, click here.
URL:https://chassellmarket.com/community-calendar/griefshare-support-group-meeting-52/
LOCATION:Bethany Baptist Church\, 48544 Main St\, Dollar Bay\, MI\, United States
CATEGORIES:Events
GEO:47.119196;-88.501611
X-APPLE-STRUCTURED-LOCATION;VALUE=URI;X-ADDRESS=Bethany Baptist Church 48544 Main St Dollar Bay MI United States;X-APPLE-RADIUS=500;X-TITLE=48544 Main St:geo:-88.501611,47.119196
END:VEVENT
BEGIN:VEVENT
DTSTART;TZID=America/New_York:20250524T100000
DTEND;TZID=America/New_York:20250524T130000
DTSTAMP:20260422T171250
CREATED:20250511T044215Z
LAST-MODIFIED:20250518T044252Z
UID:10006139-1748080800-1748091600@chassellmarket.com
SUMMARY:Pewabic Street Garden Plant Sale
DESCRIPTION:A plant sale to benefit the Pewabic Street Community Garden will be held at Trinity Episcopal Church in Houghton. Browse a wide selection of locally grown\, hardy plants including vegetables\, herbs\, sun and shade perennials\, annual flowers\, berries\, houseplants\, and ground covers. Experienced gardeners will be on hand to offer advice and answer questions. For more details\, click here.
URL:https://chassellmarket.com/community-calendar/pewabic-street-garden-plant-sale-3/
LOCATION:Trinity Church Episcopal\, 245 E Montezuma Ave\, Houghton\, MI\, United States
CATEGORIES:Events
GEO:47.121062;-88.571503
X-APPLE-STRUCTURED-LOCATION;VALUE=URI;X-ADDRESS=Trinity Church Episcopal 245 E Montezuma Ave Houghton MI United States;X-APPLE-RADIUS=500;X-TITLE=245 E Montezuma Ave:geo:-88.571503,47.121062
END:VEVENT
BEGIN:VEVENT
DTSTART;TZID=America/New_York:20250524T180000
DTEND;TZID=America/New_York:20250524T180000
DTSTAMP:20260422T171250
CREATED:20250511T044215Z
LAST-MODIFIED:20250518T044259Z
UID:10006140-1748109600-1748109600@chassellmarket.com
SUMMARY:Keweenaw Roller Derby
DESCRIPTION:Keweenaw Roller Derby will face Chippewa Valley Roller Derby at the Colosseum. Doors open at 5>00\, and the action begins at 6:00. For details and tickets\, click here.
URL:https://chassellmarket.com/community-calendar/keweenaw-roller-derby-6/
LOCATION:Calumet Colosseum\, 25900 Red Jacket Rd\, Calumet\, MI\, United States
CATEGORIES:Events
GEO:47.243508;-88.451763
X-APPLE-STRUCTURED-LOCATION;VALUE=URI;X-ADDRESS=Calumet Colosseum 25900 Red Jacket Rd Calumet MI United States;X-APPLE-RADIUS=500;X-TITLE=25900 Red Jacket Rd:geo:-88.451763,47.243508
END:VEVENT
BEGIN:VEVENT
DTSTART;TZID=America/New_York:20250525T000000
DTEND;TZID=America/New_York:20250525T235959
DTSTAMP:20260422T171250
CREATED:20250518T044306Z
LAST-MODIFIED:20250525T044007Z
UID:10006178-1748131200-1748217599@chassellmarket.com
SUMMARY:Ride the Keweenaw
DESCRIPTION:Ride the Keweenaw is a family-friendly series of riding events that highlight the Copper Country’s great biking trails.  \nThe event opens in Greenland on Friday with a guided ride through the Adventure Mine.  \nSaturday will feature guided rides at the Michigan Tech Trails in Houghton\, the Churning Rapids Trails in Hancock\, and the Swedetown Trails in Calumet\, with a Family Enduro at the Tech Trails. \nSunday’s activities are centered in Copper Harbor\, and include the Lake Superior Gravity Series Enduro\, along with Art Bike at the Harbor\, and live music.  \nFor full details and registration information\, click here.
URL:https://chassellmarket.com/community-calendar/ride-the-keweenaw-9/
LOCATION:MI
CATEGORIES:Events
END:VEVENT
BEGIN:VEVENT
DTSTART;TZID=America/New_York:20250525T000000
DTEND;TZID=America/New_York:20250525T235959
DTSTAMP:20260422T171250
CREATED:20250518T044259Z
LAST-MODIFIED:20250525T044007Z
UID:10006175-1748131200-1748217599@chassellmarket.com
SUMMARY:Camp 911 Application Period
DESCRIPTION:Bay Ambulance is currently accepting applications for Camp 911\, which will be held June 17th and 18th. Fifth and sixth graders from Baraga County schools are eligible. For additional information contact Bay Ambulance at 906-353-6196 between 7:00 am and 3:00 pm. The deadline for applications is June 3. Info can also be found at the Bay Ambulance Facebook Page.
URL:https://chassellmarket.com/community-calendar/camp-911-application-period-8/
LOCATION:MI
CATEGORIES:Events
END:VEVENT
BEGIN:VEVENT
DTSTART;TZID=America/New_York:20250525T000000
DTEND;TZID=America/New_York:20250525T235959
DTSTAMP:20260422T171250
CREATED:20250518T044259Z
LAST-MODIFIED:20250525T044020Z
UID:10006176-1748131200-1748217599@chassellmarket.com
SUMMARY:Memorial Day Observances
DESCRIPTION:Sunday\, May 25th: \nMonday\, May 26th: \n10:00Hubbell – VFW Post Memorial\, across the street from the post home. \n11:00Dollar Bay – At the Memorial by the ball field.0
URL:https://chassellmarket.com/community-calendar/memorial-day-observances-5/
LOCATION:MI
CATEGORIES:Events
END:VEVENT
BEGIN:VEVENT
DTSTART;TZID=America/New_York:20250525T000000
DTEND;TZID=America/New_York:20250525T235959
DTSTAMP:20260422T171250
CREATED:20250511T044215Z
LAST-MODIFIED:20250525T044007Z
UID:10006142-1748131200-1748217599@chassellmarket.com
SUMMARY:AA Meetings
DESCRIPTION:For an up to date list of all AA meetings in the Copper Country\, click here.
URL:https://chassellmarket.com/community-calendar/aa-meetings-781/
LOCATION:MI
CATEGORIES:Events
END:VEVENT
BEGIN:VEVENT
DTSTART;TZID=America/New_York:20250525T140000
DTEND;TZID=America/New_York:20250525T170000
DTSTAMP:20260422T171250
CREATED:20250511T044215Z
LAST-MODIFIED:20250525T044007Z
UID:10006141-1748181600-1748192400@chassellmarket.com
SUMMARY:Polka Dance - South Range
DESCRIPTION:The South Range Eagles Club hosts polka dances with live music each Sunday. All are welcome.
URL:https://chassellmarket.com/community-calendar/polka-dance-south-range-112/
LOCATION:South Range Eagles\, 8 Baltic Ave\, South Range\, MI\, United States
CATEGORIES:Events
GEO:47.070836;-88.640432
X-APPLE-STRUCTURED-LOCATION;VALUE=URI;X-ADDRESS=South Range Eagles 8 Baltic Ave South Range MI United States;X-APPLE-RADIUS=500;X-TITLE=8 Baltic Ave:geo:-88.640432,47.070836
END:VEVENT
BEGIN:VEVENT
DTSTART;TZID=America/New_York:20250526T000000
DTEND;TZID=America/New_York:20250526T235959
DTSTAMP:20260422T171250
CREATED:20250518T044307Z
LAST-MODIFIED:20250525T044020Z
UID:10006179-1748217600-1748303999@chassellmarket.com
SUMMARY:Camp 911 Application Period
DESCRIPTION:Bay Ambulance is currently accepting applications for Camp 911\, which will be held June 17th and 18th. Fifth and sixth graders from Baraga County schools are eligible. For additional information contact Bay Ambulance at 906-353-6196 between 7:00 am and 3:00 pm. The deadline for applications is June 3. Info can also be found at the Bay Ambulance Facebook Page.
URL:https://chassellmarket.com/community-calendar/camp-911-application-period-9/
LOCATION:MI
CATEGORIES:Events
END:VEVENT
BEGIN:VEVENT
DTSTART;TZID=America/New_York:20250526T000000
DTEND;TZID=America/New_York:20250526T235959
DTSTAMP:20260422T171250
CREATED:20250511T044232Z
LAST-MODIFIED:20250525T044007Z
UID:10006147-1748217600-1748303999@chassellmarket.com
SUMMARY:AA Meetings
DESCRIPTION:For an up to date list of all AA meetings in the Copper Country\, click here.
URL:https://chassellmarket.com/community-calendar/aa-meetings-783/
LOCATION:MI
CATEGORIES:Events
END:VEVENT
BEGIN:VEVENT
DTSTART;TZID=America/New_York:20250526T080000
DTEND;TZID=America/New_York:20250526T130000
DTSTAMP:20260422T171250
CREATED:20250219T184105Z
LAST-MODIFIED:20250219T184105Z
UID:10005467-1748246400-1748264400@chassellmarket.com
SUMMARY:Township Clerk Office Hours
DESCRIPTION:
URL:https://chassellmarket.com/community-calendar/township-clerk-office-hours-36/
LOCATION:MI
CATEGORIES:Events
END:VEVENT
BEGIN:VEVENT
DTSTART;TZID=America/New_York:20250526T090000
DTEND;TZID=America/New_York:20250526T120000
DTSTAMP:20260422T171250
CREATED:20250511T044231Z
LAST-MODIFIED:20250525T044010Z
UID:10006143-1748250000-1748260800@chassellmarket.com
SUMMARY:Treehouse Playgroup
DESCRIPTION:The Keweenaw Family Resource Center playgroup will meet at the Tree House Indoor Playground. \nPlaygroup is for families in the area with children birth through 4 years of age. The playgroups provide an opportunity for children and parents to play in an environment that is supportive and nurturing. Morning playgroups are offered in the communities of Houghton\, and Mohawk.   \nPlaygroups are structured to allow children to explore and play at their own pace. We encourage parents to interact with their children at all times\, especially during snack time\, exploration time and during clean up. Playgroup coordinators are there to facilitate the sessions\, model appropriate adult behavior\, and interact with children in ways which will assist them in their learning and development of social skills. We strive for a positive experience for everyone. Playgroups are open to all area families. \nWhat to Expect at Playgroup:\n\nFree Play Time\, where children can choose to play with any toys they like.\nCircle time\, where the children are encouraged to sit in a group circle and sing songs and do finger plays.\nExploration time\, when children learn new things by free creation-finger painting\, coloring\, drawing.\nSnack time\, when children sit at the table with the other children and have a healthy snack.\nClean up time\, where both the children and their parents are required to participate. The snack is put away\, the toys put where they belong\, and the exploration area is tidied up.\n\nGet notification reminders for our playgroups by going to our event calendar\, then adding selected events to your Google calendar! Visit our Facebook page to stay informed on playgroup cancelations or other community events and resources.
URL:https://chassellmarket.com/community-calendar/treehouse-playgroup-66/
LOCATION:The Tree House Indoor Playground\, 850 W Sharon Ave\, Houghton\, MI\, United States
CATEGORIES:Events
GEO:47.113224;-88.585758
X-APPLE-STRUCTURED-LOCATION;VALUE=URI;X-ADDRESS=The Tree House Indoor Playground 850 W Sharon Ave Houghton MI United States;X-APPLE-RADIUS=500;X-TITLE=850 W Sharon Ave:geo:-88.585758,47.113224
END:VEVENT
BEGIN:VEVENT
DTSTART;TZID=America/New_York:20250526T110000
DTEND;TZID=America/New_York:20250526T133000
DTSTAMP:20260422T171250
CREATED:20241121T182640Z
LAST-MODIFIED:20250523T075438Z
UID:10004875-1748257200-1748266200@chassellmarket.com
SUMMARY:Senior Meals at the Fire Hall
DESCRIPTION:
URL:https://chassellmarket.com/community-calendar/senior-meals-at-the-fire-hall-217/
LOCATION:Chassell Township Fire Department\, 22098 7th St\, Chassell\, MI\, United States
CATEGORIES:Events
GEO:47.0219;-88.530903
X-APPLE-STRUCTURED-LOCATION;VALUE=URI;X-ADDRESS=Chassell Township Fire Department 22098 7th St Chassell MI United States;X-APPLE-RADIUS=500;X-TITLE=22098 7th St:geo:-88.530903,47.0219
END:VEVENT
BEGIN:VEVENT
DTSTART;TZID=America/New_York:20250526T130000
DTEND;TZID=America/New_York:20250526T180000
DTSTAMP:20260422T171250
CREATED:20250321T185609Z
LAST-MODIFIED:20250523T075438Z
UID:10005750-1748264400-1748282400@chassellmarket.com
SUMMARY:Township Clerk Office Hours
DESCRIPTION:
URL:https://chassellmarket.com/community-calendar/township-clerk-office-hours-51/
LOCATION:MI
CATEGORIES:Events
END:VEVENT
BEGIN:VEVENT
DTSTART;TZID=America/New_York:20250526T160000
DTEND;TZID=America/New_York:20250526T180000
DTSTAMP:20260422T171250
CREATED:20250511T044231Z
LAST-MODIFIED:20250525T044020Z
UID:10006144-1748275200-1748282400@chassellmarket.com
SUMMARY:Chess Club
DESCRIPTION:Chess enthusiasts of all levels are invited to join the weekly Chess Club at the Portage Lake District Library. Whether you’re a beginner or a seasoned player\, you’ll find a welcoming environment to learn\, play\, and compete. Activities start at 4:00 pm\, followed by skill-building exercises at 5:00 pm to enhance your gameplay. Open to those ages 7 and up\, this is a great opportunity to meet new friends and challenge your mind.
URL:https://chassellmarket.com/community-calendar/chess-club-18/
LOCATION:Portage Lake District Library\, 58 Huron St\, Houghton\, MI\, United States
CATEGORIES:Events
GEO:47.122079;-88.568186
X-APPLE-STRUCTURED-LOCATION;VALUE=URI;X-ADDRESS=Portage Lake District Library 58 Huron St Houghton MI United States;X-APPLE-RADIUS=500;X-TITLE=58 Huron St:geo:-88.568186,47.122079
END:VEVENT
BEGIN:VEVENT
DTSTART;TZID=America/New_York:20250526T180000
DTEND;TZID=America/New_York:20250526T180000
DTSTAMP:20260422T171250
CREATED:20250511T044247Z
LAST-MODIFIED:20250525T044010Z
UID:10006148-1748282400-1748282400@chassellmarket.com
SUMMARY:Wellness Journey Support Group
DESCRIPTION:The Copper Shores Community Health Foundation’s Wellness Journey Support Group will hold an open meeting this evening. This comprehensive trauma recovery support group is for people who have experienced trauma or secondary trauma\, and will help build a support network of like-minded and safe individuals.Open sessions invite all community members dealing with any type of trauma. Meetings will be held on alternate Mondays through August 4th\, with each session focusing on a coping technique. For more details\, and a schedule of meeting subjects\, click here.
URL:https://chassellmarket.com/community-calendar/wellness-journey-support-group-8/
LOCATION:MI
CATEGORIES:Events
END:VEVENT
BEGIN:VEVENT
DTSTART;TZID=America/New_York:20250526T183000
DTEND;TZID=America/New_York:20250526T183000
DTSTAMP:20260422T171250
CREATED:20250511T044231Z
LAST-MODIFIED:20250525T044010Z
UID:10006145-1748284200-1748284200@chassellmarket.com
SUMMARY:Celebrate Recovery Support Group - Houghton
DESCRIPTION:The Celebrate Recovery group at Evangel Community Church meets weekly Mondays at 6:30. The group provides a safe place to find freedom and healing\, offering hope\, support\, and real change. \nCome as you are – all are welcome. For more information\, text “recovery” to 906-254-5444 or visit the church website.
URL:https://chassellmarket.com/community-calendar/celebrate-recovery-support-group-houghton-11/
LOCATION:Evangel Community Church\, 1600 Memorial Dr\, Houghton\, MI\, United States
CATEGORIES:Events
GEO:47.104042;-88.595585
X-APPLE-STRUCTURED-LOCATION;VALUE=URI;X-ADDRESS=Evangel Community Church 1600 Memorial Dr Houghton MI United States;X-APPLE-RADIUS=500;X-TITLE=1600 Memorial Dr:geo:-88.595585,47.104042
END:VEVENT
BEGIN:VEVENT
DTSTART;TZID=America/New_York:20250527T000000
DTEND;TZID=America/New_York:20250527T235959
DTSTAMP:20260422T171250
CREATED:20250518T044342Z
LAST-MODIFIED:20250525T044010Z
UID:10006182-1748304000-1748390399@chassellmarket.com
SUMMARY:Camp 911 Application Period
DESCRIPTION:Bay Ambulance is currently accepting applications for Camp 911\, which will be held June 17th and 18th. Fifth and sixth graders from Baraga County schools are eligible. For additional information contact Bay Ambulance at 906-353-6196 between 7:00 am and 3:00 pm. The deadline for applications is June 3. Info can also be found at the Bay Ambulance Facebook Page.
URL:https://chassellmarket.com/community-calendar/camp-911-application-period-11/
LOCATION:MI
CATEGORIES:Events
END:VEVENT
END:VCALENDAR