BEGIN:VCALENDAR
VERSION:2.0
PRODID:-//Chassell Farmers Market &amp; Houghton Indoor Farm and Craft Market - ECPv6.15.17//NONSGML v1.0//EN
CALSCALE:GREGORIAN
METHOD:PUBLISH
X-WR-CALNAME:Chassell Farmers Market &amp; Houghton Indoor Farm and Craft Market
X-ORIGINAL-URL:https://chassellmarket.com
X-WR-CALDESC:Events for Chassell Farmers Market &amp; Houghton Indoor Farm and Craft Market
REFRESH-INTERVAL;VALUE=DURATION:PT1H
X-Robots-Tag:noindex
X-PUBLISHED-TTL:PT1H
BEGIN:VTIMEZONE
TZID:America/New_York
BEGIN:DAYLIGHT
TZOFFSETFROM:-0500
TZOFFSETTO:-0400
TZNAME:EDT
DTSTART:20240310T070000
END:DAYLIGHT
BEGIN:STANDARD
TZOFFSETFROM:-0400
TZOFFSETTO:-0500
TZNAME:EST
DTSTART:20241103T060000
END:STANDARD
BEGIN:DAYLIGHT
TZOFFSETFROM:-0500
TZOFFSETTO:-0400
TZNAME:EDT
DTSTART:20250309T070000
END:DAYLIGHT
BEGIN:STANDARD
TZOFFSETFROM:-0400
TZOFFSETTO:-0500
TZNAME:EST
DTSTART:20251102T060000
END:STANDARD
BEGIN:DAYLIGHT
TZOFFSETFROM:-0500
TZOFFSETTO:-0400
TZNAME:EDT
DTSTART:20260308T070000
END:DAYLIGHT
BEGIN:STANDARD
TZOFFSETFROM:-0400
TZOFFSETTO:-0500
TZNAME:EST
DTSTART:20261101T060000
END:STANDARD
END:VTIMEZONE
BEGIN:VEVENT
DTSTART;TZID=America/New_York:20250519T110000
DTEND;TZID=America/New_York:20250519T133000
DTSTAMP:20260422T154248
CREATED:20241121T182639Z
LAST-MODIFIED:20250420T185438Z
UID:10004871-1747652400-1747661400@chassellmarket.com
SUMMARY:Senior Meals at the Fire Hall
DESCRIPTION:
URL:https://chassellmarket.com/community-calendar/senior-meals-at-the-fire-hall-215/
LOCATION:Chassell Township Fire Department\, 22098 7th St\, Chassell\, MI\, United States
CATEGORIES:Events
GEO:47.0219;-88.530903
X-APPLE-STRUCTURED-LOCATION;VALUE=URI;X-ADDRESS=Chassell Township Fire Department 22098 7th St Chassell MI United States;X-APPLE-RADIUS=500;X-TITLE=22098 7th St:geo:-88.530903,47.0219
END:VEVENT
BEGIN:VEVENT
DTSTART;TZID=America/New_York:20250519T130000
DTEND;TZID=America/New_York:20250519T180000
DTSTAMP:20260422T154248
CREATED:20250321T185556Z
LAST-MODIFIED:20250420T185438Z
UID:10005749-1747659600-1747677600@chassellmarket.com
SUMMARY:Township Clerk Office Hours
DESCRIPTION:
URL:https://chassellmarket.com/community-calendar/township-clerk-office-hours-50/
LOCATION:MI
CATEGORIES:Events
END:VEVENT
BEGIN:VEVENT
DTSTART;TZID=America/New_York:20250519T133000
DTEND;TZID=America/New_York:20250519T143000
DTSTAMP:20260422T154248
CREATED:20241121T182639Z
LAST-MODIFIED:20250420T185452Z
UID:10004870-1747661400-1747665000@chassellmarket.com
SUMMARY:Houghton Co. Road Commission
DESCRIPTION:
URL:https://chassellmarket.com/community-calendar/houghton-co-road-commission-26/
LOCATION:Houghton County Road Commission\, 5398 Gagnon Rd\, Atlantic Mine\, MI\, United States
CATEGORIES:Events
GEO:47.127017;-88.679413
X-APPLE-STRUCTURED-LOCATION;VALUE=URI;X-ADDRESS=Houghton County Road Commission 5398 Gagnon Rd Atlantic Mine MI United States;X-APPLE-RADIUS=500;X-TITLE=5398 Gagnon Rd:geo:-88.679413,47.127017
END:VEVENT
BEGIN:VEVENT
DTSTART;TZID=America/New_York:20250519T160000
DTEND;TZID=America/New_York:20250519T180000
DTSTAMP:20260422T154248
CREATED:20250511T044126Z
LAST-MODIFIED:20250518T044017Z
UID:10006116-1747670400-1747677600@chassellmarket.com
SUMMARY:Chess Club
DESCRIPTION:Chess enthusiasts of all levels are invited to join the weekly Chess Club at the Portage Lake District Library. Whether you’re a beginner or a seasoned player\, you’ll find a welcoming environment to learn\, play\, and compete. Activities start at 4:00 pm\, followed by skill-building exercises at 5:00 pm to enhance your gameplay. Open to those ages 7 and up\, this is a great opportunity to meet new friends and challenge your mind.
URL:https://chassellmarket.com/community-calendar/chess-club-17/
LOCATION:Portage Lake District Library\, 58 Huron St\, Houghton\, MI\, United States
CATEGORIES:Events
GEO:47.122079;-88.568186
X-APPLE-STRUCTURED-LOCATION;VALUE=URI;X-ADDRESS=Portage Lake District Library 58 Huron St Houghton MI United States;X-APPLE-RADIUS=500;X-TITLE=58 Huron St:geo:-88.568186,47.122079
END:VEVENT
BEGIN:VEVENT
DTSTART;TZID=America/New_York:20250519T170000
DTEND;TZID=America/New_York:20250519T170000
DTSTAMP:20260422T154248
CREATED:20250511T044125Z
LAST-MODIFIED:20250518T044023Z
UID:10006114-1747674000-1747674000@chassellmarket.com
SUMMARY:Gundlach Shelter 45th Anniversary Dinner
DESCRIPTION:The Barbara Kettle Gundlach Shelter Home will celebrate the 45th anniversary of being a funded shelter for domestic violence victims and their children with a dinner and program at Gino’s in Hancock. \n\nSocial – 5pm to 6pm (Cash Bar)\nDinner\, Program and Music – 6pm to 9pm\nSilent Auction from 5pm until 8:30\, along with a 50/50. \n\nOnly 100 tickets are available. For more details and ticket information\, click here.
URL:https://chassellmarket.com/community-calendar/gundlach-shelter-45th-anniversary-dinner/
LOCATION:Gino’s Restaurant & Cocktail Lounge\, 799 Quincy St\, Hancock\, MI\, United States
CATEGORIES:Events
GEO:47.126571;-88.593172
X-APPLE-STRUCTURED-LOCATION;VALUE=URI;X-ADDRESS=Gino’s Restaurant & Cocktail Lounge 799 Quincy St Hancock MI United States;X-APPLE-RADIUS=500;X-TITLE=799 Quincy St:geo:-88.593172,47.126571
END:VEVENT
BEGIN:VEVENT
DTSTART;TZID=America/New_York:20250519T180000
DTEND;TZID=America/New_York:20250519T180000
DTSTAMP:20260422T154248
CREATED:20250518T044016Z
LAST-MODIFIED:20250518T044016Z
UID:10006164-1747677600-1747677600@chassellmarket.com
SUMMARY:Western U.P. Health Department Board Meeting
DESCRIPTION:The regular monthly meeting of the Western U.P. Board of Health will be held at the Western U.P. Health Department\, 408 Copper Street\, Ontonagon\, MI 49953. The meeting will also be available via Google Meet. Information on connecting to this meeting can be found on the health department’s website\, www.wuphd.org.
URL:https://chassellmarket.com/community-calendar/western-u-p-health-department-board-meeting-7/
LOCATION:Western U.P. Health Department\, 398 Copper St\, Ontonagon\, MI\, United States
CATEGORIES:Events
GEO:46.872177;-89.314561
X-APPLE-STRUCTURED-LOCATION;VALUE=URI;X-ADDRESS=Western U.P. Health Department 398 Copper St Ontonagon MI United States;X-APPLE-RADIUS=500;X-TITLE=398 Copper St:geo:-89.314561,46.872177
END:VEVENT
BEGIN:VEVENT
DTSTART;TZID=America/New_York:20250519T180000
DTEND;TZID=America/New_York:20250519T200000
DTSTAMP:20260422T154248
CREATED:20250511T044126Z
LAST-MODIFIED:20250518T044023Z
UID:10006115-1747677600-1747684800@chassellmarket.com
SUMMARY:Teen Night
DESCRIPTION:The Little Gem Community Center will host a teen night. This event is free for all teens\, with concessions available for purchase.
URL:https://chassellmarket.com/community-calendar/teen-night-31/
LOCATION:Little Gem Community Center\, 700 Calumet St\, Lake Linden\, MI\, United States
CATEGORIES:Events
GEO:47.194433;-88.407705
X-APPLE-STRUCTURED-LOCATION;VALUE=URI;X-ADDRESS=Little Gem Community Center 700 Calumet St Lake Linden MI United States;X-APPLE-RADIUS=500;X-TITLE=700 Calumet St:geo:-88.407705,47.194433
END:VEVENT
BEGIN:VEVENT
DTSTART;TZID=America/New_York:20250519T183000
DTEND;TZID=America/New_York:20250519T183000
DTSTAMP:20260422T154248
CREATED:20250511T044126Z
LAST-MODIFIED:20250518T044046Z
UID:10006117-1747679400-1747679400@chassellmarket.com
SUMMARY:Celebrate Recovery Support Group - Houghton
DESCRIPTION:The Celebrate Recovery group at Evangel Community Church meets weekly Mondays at 6:30. The group provides a safe place to find freedom and healing\, offering hope\, support\, and real change. \nCome as you are – all are welcome. For more information\, text “recovery” to 906-254-5444 or visit the church website.
URL:https://chassellmarket.com/community-calendar/celebrate-recovery-support-group-houghton-10/
LOCATION:Evangel Community Church\, 1600 Memorial Dr\, Houghton\, MI\, United States
CATEGORIES:Events
GEO:47.104042;-88.595585
X-APPLE-STRUCTURED-LOCATION;VALUE=URI;X-ADDRESS=Evangel Community Church 1600 Memorial Dr Houghton MI United States;X-APPLE-RADIUS=500;X-TITLE=1600 Memorial Dr:geo:-88.595585,47.104042
END:VEVENT
BEGIN:VEVENT
DTSTART;TZID=America/New_York:20250520T000000
DTEND;TZID=America/New_York:20250520T235959
DTSTAMP:20260422T154248
CREATED:20250518T044017Z
LAST-MODIFIED:20250518T044017Z
UID:10006165-1747699200-1747785599@chassellmarket.com
SUMMARY:Camp 911 Application Period
DESCRIPTION:Bay Ambulance is currently accepting applications for Camp 911\, which will be held June 17th and 18th. Fifth and sixth graders from Baraga County schools are eligible. For additional information contact Bay Ambulance at 906-353-6196 between 7:00 am and 3:00 pm. The deadline for applications is June 3. Info can also be found at the Bay Ambulance Facebook Page.
URL:https://chassellmarket.com/community-calendar/camp-911-application-period/
LOCATION:MI
CATEGORIES:Events
END:VEVENT
BEGIN:VEVENT
DTSTART;TZID=America/New_York:20250520T000000
DTEND;TZID=America/New_York:20250520T235959
DTSTAMP:20260422T154248
CREATED:20250511T044137Z
LAST-MODIFIED:20250518T044046Z
UID:10006125-1747699200-1747785599@chassellmarket.com
SUMMARY:AA Meetings
DESCRIPTION:For an up to date list of all AA meetings in the Copper Country\, click here.
URL:https://chassellmarket.com/community-calendar/aa-meetings-777/
LOCATION:MI
CATEGORIES:Events
END:VEVENT
BEGIN:VEVENT
DTSTART;TZID=America/New_York:20250520T130000
DTEND;TZID=America/New_York:20250520T130000
DTSTAMP:20260422T154248
CREATED:20250511T044138Z
LAST-MODIFIED:20250518T044047Z
UID:10006126-1747746000-1747746000@chassellmarket.com
SUMMARY:Bridge Games
DESCRIPTION:The Baragaland Senior Center hosts Bridge games each Tuesday at 1.
URL:https://chassellmarket.com/community-calendar/bridge-games-18/
LOCATION:Baragaland Senior Citizens Center\, 6 N Main St\, L'Anse\, MI\, United States
CATEGORIES:Events
GEO:46.757969;-88.454464
X-APPLE-STRUCTURED-LOCATION;VALUE=URI;X-ADDRESS=Baragaland Senior Citizens Center 6 N Main St L'Anse MI United States;X-APPLE-RADIUS=500;X-TITLE=6 N Main St:geo:-88.454464,46.757969
END:VEVENT
BEGIN:VEVENT
DTSTART;TZID=America/New_York:20250520T140000
DTEND;TZID=America/New_York:20250520T170000
DTSTAMP:20260422T154248
CREATED:20250511T044132Z
LAST-MODIFIED:20250518T044056Z
UID:10006118-1747749600-1747760400@chassellmarket.com
SUMMARY:Blood Drive - Ontonagon
DESCRIPTION:The U.P. Regional Blood Center will hold a blood drive at the Ontonagon Eagles Hall. To learn more or to make an appointment\, contact the UPRBC at 906-449-1450.
URL:https://chassellmarket.com/community-calendar/blood-drive-ontonagon-12/
LOCATION:Eagles Club\, 314 Quartz St\, Ontonagon\, MI\, United States
CATEGORIES:Events
GEO:46.872136;-89.316227
X-APPLE-STRUCTURED-LOCATION;VALUE=URI;X-ADDRESS=Eagles Club 314 Quartz St Ontonagon MI United States;X-APPLE-RADIUS=500;X-TITLE=314 Quartz St:geo:-89.316227,46.872136
END:VEVENT
BEGIN:VEVENT
DTSTART;TZID=America/New_York:20250520T160000
DTEND;TZID=America/New_York:20250520T160000
DTSTAMP:20260422T154248
CREATED:20250511T044132Z
LAST-MODIFIED:20250518T044047Z
UID:10006119-1747756800-1747756800@chassellmarket.com
SUMMARY:Cribbage League
DESCRIPTION:The Cribbage League meets each Tuesday at Armando’s in Houghton. All ages and skill levels are welcome. To get involved\, call or text 906-482-2422\, or just show up at a session.
URL:https://chassellmarket.com/community-calendar/cribbage-league-31/
LOCATION:Armando’s Restaurant\, 517 Shelden Ave\, Houghton\, MI\, United States
CATEGORIES:Events
GEO:47.121788;-88.567979
X-APPLE-STRUCTURED-LOCATION;VALUE=URI;X-ADDRESS=Armando’s Restaurant 517 Shelden Ave Houghton MI United States;X-APPLE-RADIUS=500;X-TITLE=517 Shelden Ave:geo:-88.567979,47.121788
END:VEVENT
BEGIN:VEVENT
DTSTART;TZID=America/New_York:20250520T180000
DTEND;TZID=America/New_York:20250520T180000
DTSTAMP:20260422T154248
CREATED:20250511T044132Z
LAST-MODIFIED:20250518T044046Z
UID:10006120-1747764000-1747764000@chassellmarket.com
SUMMARY:Mindfulness for Better Sleep
DESCRIPTION:Grieving people often note sleep difficulties that include; falling and staying asleep\, returning to sleep after interruption\, restlessness\, and dreams.\nOnega House will host a gathering to discuss the benefits of a researched based program that combines mindfulness and sleep education. Learn with us as we take a few moments to try several mindfulness strategies and discuss some specific techniques to improve the quality and quantity of sleep.\nThis workshop will be held at the Portage Lake District Library\, and is free and open to all who are interested in enhancing their sleep.\nFor those who need more\, a selection of scheduled classes in Mindfulness for Better SLEEP will be made available for easy sign up. These are free online programs from MichiganState University Extension.
URL:https://chassellmarket.com/community-calendar/mindfulness-for-better-sleep/
LOCATION:Portage Lake District Library\, 58 Huron St\, Houghton\, MI\, United States
CATEGORIES:Events
GEO:47.122079;-88.568186
X-APPLE-STRUCTURED-LOCATION;VALUE=URI;X-ADDRESS=Portage Lake District Library 58 Huron St Houghton MI United States;X-APPLE-RADIUS=500;X-TITLE=58 Huron St:geo:-88.568186,47.122079
END:VEVENT
BEGIN:VEVENT
DTSTART;TZID=America/New_York:20250520T183000
DTEND;TZID=America/New_York:20250520T183000
DTSTAMP:20260422T154248
CREATED:20250511T044138Z
LAST-MODIFIED:20250518T044056Z
UID:10006127-1747765800-1747765800@chassellmarket.com
SUMMARY:Celebrate Recovery Support Group - L'Anse
DESCRIPTION:The Celebrate Recovery group at Northiron Church in L’Anse meets weekly Mondays at 6:30. The group provides a safe place to find freedom and healing\, offering hope\, support\, and real change.
URL:https://chassellmarket.com/community-calendar/celebrate-recovery-support-group-lanse-12/
LOCATION:Northiron Church\, 46001 Hwy US 41\, Houghton\, MI\, United States
CATEGORIES:Events
GEO:47.08307;-88.516647
X-APPLE-STRUCTURED-LOCATION;VALUE=URI;X-ADDRESS=Northiron Church 46001 Hwy US 41 Houghton MI United States;X-APPLE-RADIUS=500;X-TITLE=46001 Hwy US 41:geo:-88.516647,47.08307
END:VEVENT
BEGIN:VEVENT
DTSTART;TZID=America/New_York:20250520T190000
DTEND;TZID=America/New_York:20250520T190000
DTSTAMP:20260422T154248
CREATED:20250511T044133Z
LAST-MODIFIED:20250518T044056Z
UID:10006121-1747767600-1747767600@chassellmarket.com
SUMMARY:VetsForJesus Meeting
DESCRIPTION: VetsForJesus is a veteran-led Bible study for veterans and whoever else wants to attend.  Typically\, they read a small portion of the Bible and talk about it around the table.
URL:https://chassellmarket.com/community-calendar/vetsforjesus-meeting-109/
LOCATION:VFW HALL- POST 4624\, 52218 Duncan Ave\, Hubbell\, MI\, United States
CATEGORIES:Events
GEO:47.174133;-88.427997
X-APPLE-STRUCTURED-LOCATION;VALUE=URI;X-ADDRESS=VFW HALL- POST 4624 52218 Duncan Ave Hubbell MI United States;X-APPLE-RADIUS=500;X-TITLE=52218 Duncan Ave:geo:-88.427997,47.174133
END:VEVENT
BEGIN:VEVENT
DTSTART;TZID=America/New_York:20250521T000000
DTEND;TZID=America/New_York:20250521T235959
DTSTAMP:20260422T154248
CREATED:20250518T044056Z
LAST-MODIFIED:20250518T044056Z
UID:10006168-1747785600-1747871999@chassellmarket.com
SUMMARY:Camp 911 Application Period
DESCRIPTION:Bay Ambulance is currently accepting applications for Camp 911\, which will be held June 17th and 18th. Fifth and sixth graders from Baraga County schools are eligible. For additional information contact Bay Ambulance at 906-353-6196 between 7:00 am and 3:00 pm. The deadline for applications is June 3. Info can also be found at the Bay Ambulance Facebook Page.
URL:https://chassellmarket.com/community-calendar/camp-911-application-period-4/
LOCATION:MI
CATEGORIES:Events
END:VEVENT
BEGIN:VEVENT
DTSTART;TZID=America/New_York:20250521T000000
DTEND;TZID=America/New_York:20250521T235959
DTSTAMP:20260422T154248
CREATED:20250511T044137Z
LAST-MODIFIED:20250518T044056Z
UID:10006124-1747785600-1747871999@chassellmarket.com
SUMMARY:AA Meetings
DESCRIPTION:For an up to date list of all AA meetings in the Copper Country\, click here.
URL:https://chassellmarket.com/community-calendar/aa-meetings-776/
LOCATION:MI
CATEGORIES:Events
END:VEVENT
BEGIN:VEVENT
DTSTART;TZID=America/New_York:20250521T100000
DTEND;TZID=America/New_York:20250521T120000
DTSTAMP:20260422T154248
CREATED:20250511T044137Z
LAST-MODIFIED:20250518T044100Z
UID:10006123-1747821600-1747828800@chassellmarket.com
SUMMARY:Mohawk Playgroup
DESCRIPTION:The Keweenaw Family Resource Center playgroup will meet at the Horizons School in Mohawk. \nPlaygroup is for families in the area with children birth through 4 years of age. The playgroups provide an opportunity for children and parents to play in an environment that is supportive and nurturing. Morning playgroups are offered in the communities of Houghton\, and Mohawk.   \nPlaygroups are structured to allow children to explore and play at their own pace. We encourage parents to interact with their children at all times\, especially during snack time\, exploration time and during clean up. Playgroup coordinators are there to facilitate the sessions\, model appropriate adult behavior\, and interact with children in ways which will assist them in their learning and development of social skills. We strive for a positive experience for everyone. Playgroups are open to all area families. \nWhat to Expect at Playgroup:\n\nFree Play Time\, where children can choose to play with any toys they like.\nCircle time\, where the children are encouraged to sit in a group circle and sing songs and do finger plays.\nExploration time\, when children learn new things by free creation-finger painting\, coloring\, drawing.\nSnack time\, when children sit at the table with the other children and have a healthy snack.\nClean up time\, where both the children and their parents are required to participate. The snack is put away\, the toys put where they belong\, and the exploration area is tidied up.\n\nGet notification reminders for our playgroups by going to our event calendar\, then adding selected events to your Google calendar! Visit our Facebook page to stay informed on playgroup cancelations or other community events and resources.
URL:https://chassellmarket.com/community-calendar/mohawk-playgroup-28/
LOCATION:Horizons Alternative High School\, 110 Stanton Ave\, Mohawk\, MI\, United States
CATEGORIES:Events
GEO:47.304851;-88.361226
X-APPLE-STRUCTURED-LOCATION;VALUE=URI;X-ADDRESS=Horizons Alternative High School 110 Stanton Ave Mohawk MI United States;X-APPLE-RADIUS=500;X-TITLE=110 Stanton Ave:geo:-88.361226,47.304851
END:VEVENT
BEGIN:VEVENT
DTSTART;TZID=America/New_York:20250521T103000
DTEND;TZID=America/New_York:20250521T103000
DTSTAMP:20260422T154248
CREATED:20250511T044133Z
LAST-MODIFIED:20250518T044100Z
UID:10006122-1747823400-1747823400@chassellmarket.com
SUMMARY:Preschool Story Time
DESCRIPTION:Preschool story time meets each Wednesday at 10:30 and Thursday at 1:30 in the children’s area at the Portage Lake District Library. Children can enjoy a story\, and bring home a take-and-make craft bag.
URL:https://chassellmarket.com/community-calendar/preschool-story-time-187/
LOCATION:Portage Lake District Library\, 58 Huron St\, Houghton\, MI\, United States
CATEGORIES:Events
GEO:47.122079;-88.568186
X-APPLE-STRUCTURED-LOCATION;VALUE=URI;X-ADDRESS=Portage Lake District Library 58 Huron St Houghton MI United States;X-APPLE-RADIUS=500;X-TITLE=58 Huron St:geo:-88.568186,47.122079
END:VEVENT
BEGIN:VEVENT
DTSTART;TZID=America/New_York:20250521T110000
DTEND;TZID=America/New_York:20250521T133000
DTSTAMP:20260422T154248
CREATED:20241121T182639Z
LAST-MODIFIED:20250420T185452Z
UID:10004872-1747825200-1747834200@chassellmarket.com
SUMMARY:Senior Meals at the Fire Hall
DESCRIPTION:
URL:https://chassellmarket.com/community-calendar/senior-meals-at-the-fire-hall-216/
LOCATION:Chassell Township Fire Department\, 22098 7th St\, Chassell\, MI\, United States
CATEGORIES:Events
GEO:47.0219;-88.530903
X-APPLE-STRUCTURED-LOCATION;VALUE=URI;X-ADDRESS=Chassell Township Fire Department 22098 7th St Chassell MI United States;X-APPLE-RADIUS=500;X-TITLE=22098 7th St:geo:-88.530903,47.0219
END:VEVENT
BEGIN:VEVENT
DTSTART;TZID=America/New_York:20250521T113000
DTEND;TZID=America/New_York:20250521T113000
DTSTAMP:20260422T154248
CREATED:20250511T044141Z
LAST-MODIFIED:20250518T044100Z
UID:10006128-1747827000-1747827000@chassellmarket.com
SUMMARY:Baraga Chamber Lunch and Learn
DESCRIPTION:This month’s Baraga County Chamber of Commerce Lunch and Learn presentation will feature a presentation on holistic care by Dr. Jamie Smith. All are welcome at no charge.
URL:https://chassellmarket.com/community-calendar/baraga-chamber-lunch-and-learn-5/
LOCATION:Baraga County Chamber of Commerce\, 2 N Main St\, L'Anse\, MI\, United States
CATEGORIES:Events
GEO:46.757748;-88.45458
X-APPLE-STRUCTURED-LOCATION;VALUE=URI;X-ADDRESS=Baraga County Chamber of Commerce 2 N Main St L'Anse MI United States;X-APPLE-RADIUS=500;X-TITLE=2 N Main St:geo:-88.45458,46.757748
END:VEVENT
BEGIN:VEVENT
DTSTART;TZID=America/New_York:20250521T130000
DTEND;TZID=America/New_York:20250521T180000
DTSTAMP:20260422T154248
CREATED:20250120T184233Z
LAST-MODIFIED:20250321T185609Z
UID:10005253-1747832400-1747850400@chassellmarket.com
SUMMARY:Township Clerk Office Hours
DESCRIPTION:
URL:https://chassellmarket.com/community-calendar/township-clerk-office-hours-35/
LOCATION:MI
CATEGORIES:Events
END:VEVENT
BEGIN:VEVENT
DTSTART;TZID=America/New_York:20250521T140000
DTEND;TZID=America/New_York:20250521T140000
DTSTAMP:20260422T154248
CREATED:20250511T044142Z
LAST-MODIFIED:20250518T044100Z
UID:10006129-1747836000-1747836000@chassellmarket.com
SUMMARY:Bingo - South Range
DESCRIPTION:The South Range Eagles Hall hosts Bingo every Wednesday. All are welcome.
URL:https://chassellmarket.com/community-calendar/bingo-south-range-112/
LOCATION:South Range Eagles\, 8 Baltic Ave\, South Range\, MI\, United States
CATEGORIES:Events
GEO:47.070836;-88.640432
X-APPLE-STRUCTURED-LOCATION;VALUE=URI;X-ADDRESS=South Range Eagles 8 Baltic Ave South Range MI United States;X-APPLE-RADIUS=500;X-TITLE=8 Baltic Ave:geo:-88.640432,47.070836
END:VEVENT
BEGIN:VEVENT
DTSTART;TZID=America/New_York:20250521T160000
DTEND;TZID=America/New_York:20250521T160000
DTSTAMP:20260422T154248
CREATED:20250511T044142Z
LAST-MODIFIED:20250518T044100Z
UID:10006130-1747843200-1747843200@chassellmarket.com
SUMMARY:Gentle Exercise Class - Lake Linden
DESCRIPTION:The Lake Linden United Methodist Church hosts a weekly gentle chair exercise group. All are welcome\, at no charge. Sessions are approximately 20 minutes long.
URL:https://chassellmarket.com/community-calendar/gentle-exercise-class-lake-linden-14/
LOCATION:Lake Linden United Methodist Church\, 53237 N Ave\, Lake Linden\, MI\, United States
CATEGORIES:Events
GEO:47.188547;-88.411956
X-APPLE-STRUCTURED-LOCATION;VALUE=URI;X-ADDRESS=Lake Linden United Methodist Church 53237 N Ave Lake Linden MI United States;X-APPLE-RADIUS=500;X-TITLE=53237 N Ave:geo:-88.411956,47.188547
END:VEVENT
BEGIN:VEVENT
DTSTART;TZID=America/New_York:20250521T180000
DTEND;TZID=America/New_York:20250521T190000
DTSTAMP:20260422T154248
CREATED:20241121T182639Z
LAST-MODIFIED:20250420T185452Z
UID:10004873-1747850400-1747854000@chassellmarket.com
SUMMARY:Fire Responder Meeting
DESCRIPTION:
URL:https://chassellmarket.com/community-calendar/fire-responder-meeting-25/
LOCATION:Chassell Township Fire Department\, 22098 7th St\, Chassell\, MI\, United States
CATEGORIES:Events
GEO:47.0219;-88.530903
X-APPLE-STRUCTURED-LOCATION;VALUE=URI;X-ADDRESS=Chassell Township Fire Department 22098 7th St Chassell MI United States;X-APPLE-RADIUS=500;X-TITLE=22098 7th St:geo:-88.530903,47.0219
END:VEVENT
BEGIN:VEVENT
DTSTART;TZID=America/New_York:20250521T190000
DTEND;TZID=America/New_York:20250521T200000
DTSTAMP:20260422T154248
CREATED:20241121T182640Z
LAST-MODIFIED:20250420T185452Z
UID:10004874-1747854000-1747857600@chassellmarket.com
SUMMARY:Fire Department Meeting
DESCRIPTION:
URL:https://chassellmarket.com/community-calendar/fire-department-meeting-25/
LOCATION:Chassell Township Fire Department\, 22098 7th St\, Chassell\, MI\, United States
CATEGORIES:Events
GEO:47.0219;-88.530903
X-APPLE-STRUCTURED-LOCATION;VALUE=URI;X-ADDRESS=Chassell Township Fire Department 22098 7th St Chassell MI United States;X-APPLE-RADIUS=500;X-TITLE=22098 7th St:geo:-88.530903,47.0219
END:VEVENT
BEGIN:VEVENT
DTSTART;TZID=America/New_York:20250522T000000
DTEND;TZID=America/New_York:20250522T235959
DTSTAMP:20260422T154248
CREATED:20250518T044221Z
LAST-MODIFIED:20250518T044221Z
UID:10006170-1747872000-1747958399@chassellmarket.com
SUMMARY:Camp 911 Application Period
DESCRIPTION:Bay Ambulance is currently accepting applications for Camp 911\, which will be held June 17th and 18th. Fifth and sixth graders from Baraga County schools are eligible. For additional information contact Bay Ambulance at 906-353-6196 between 7:00 am and 3:00 pm. The deadline for applications is June 3. Info can also be found at the Bay Ambulance Facebook Page.
URL:https://chassellmarket.com/community-calendar/camp-911-application-period-5/
LOCATION:MI
CATEGORIES:Events
END:VEVENT
BEGIN:VEVENT
DTSTART;TZID=America/New_York:20250522T000000
DTEND;TZID=America/New_York:20250522T235959
DTSTAMP:20260422T154248
CREATED:20250511T044142Z
LAST-MODIFIED:20250518T044220Z
UID:10006131-1747872000-1747958399@chassellmarket.com
SUMMARY:AA Meetings
DESCRIPTION:For an up to date list of all AA meetings in the Copper Country\, click here.
URL:https://chassellmarket.com/community-calendar/aa-meetings-778/
LOCATION:MI
CATEGORIES:Events
END:VEVENT
BEGIN:VEVENT
DTSTART;TZID=America/New_York:20250522T133000
DTEND;TZID=America/New_York:20250522T133000
DTSTAMP:20260422T154248
CREATED:20250511T044142Z
LAST-MODIFIED:20250518T044220Z
UID:10006132-1747920600-1747920600@chassellmarket.com
SUMMARY:Preschool Story Time
DESCRIPTION:Preschool story time meets each Wednesday at 10:30 and Thursday at 1:30 in the children's area at the Portage Lake District Library. Children can enjoy a story\, and bring home a take-and-make craft bag.
URL:https://chassellmarket.com/community-calendar/preschool-story-time-188/
LOCATION:Portage Lake District Library\, 58 Huron St\, Houghton\, MI\, United States
CATEGORIES:Events
GEO:47.122079;-88.568186
X-APPLE-STRUCTURED-LOCATION;VALUE=URI;X-ADDRESS=Portage Lake District Library 58 Huron St Houghton MI United States;X-APPLE-RADIUS=500;X-TITLE=58 Huron St:geo:-88.568186,47.122079
END:VEVENT
END:VCALENDAR