BEGIN:VCALENDAR
VERSION:2.0
PRODID:-//Chassell Farmers Market &amp; Houghton Indoor Farm and Craft Market - ECPv6.15.17//NONSGML v1.0//EN
CALSCALE:GREGORIAN
METHOD:PUBLISH
X-WR-CALNAME:Chassell Farmers Market &amp; Houghton Indoor Farm and Craft Market
X-ORIGINAL-URL:https://chassellmarket.com
X-WR-CALDESC:Events for Chassell Farmers Market &amp; Houghton Indoor Farm and Craft Market
REFRESH-INTERVAL;VALUE=DURATION:PT1H
X-Robots-Tag:noindex
X-PUBLISHED-TTL:PT1H
BEGIN:VTIMEZONE
TZID:America/New_York
BEGIN:DAYLIGHT
TZOFFSETFROM:-0500
TZOFFSETTO:-0400
TZNAME:EDT
DTSTART:20240310T070000
END:DAYLIGHT
BEGIN:STANDARD
TZOFFSETFROM:-0400
TZOFFSETTO:-0500
TZNAME:EST
DTSTART:20241103T060000
END:STANDARD
BEGIN:DAYLIGHT
TZOFFSETFROM:-0500
TZOFFSETTO:-0400
TZNAME:EDT
DTSTART:20250309T070000
END:DAYLIGHT
BEGIN:STANDARD
TZOFFSETFROM:-0400
TZOFFSETTO:-0500
TZNAME:EST
DTSTART:20251102T060000
END:STANDARD
BEGIN:DAYLIGHT
TZOFFSETFROM:-0500
TZOFFSETTO:-0400
TZNAME:EDT
DTSTART:20260308T070000
END:DAYLIGHT
BEGIN:STANDARD
TZOFFSETFROM:-0400
TZOFFSETTO:-0500
TZNAME:EST
DTSTART:20261101T060000
END:STANDARD
END:VTIMEZONE
BEGIN:VEVENT
DTSTART;TZID=America/New_York:20250515T150000
DTEND;TZID=America/New_York:20250515T150000
DTSTAMP:20260422T140326
CREATED:20250504T043414Z
LAST-MODIFIED:20250511T044026Z
UID:10006088-1747321200-1747321200@chassellmarket.com
SUMMARY:Caregivers Support Group
DESCRIPTION:The Baragaland Senior Center Caregiver’s Support Group meets every other Thursday at 3:00 (unless otherwise announced). Anyone caring for a loved one with dementia or Alzheimer’s is welcome. For more details\, call (906) 524-6711 or (906) 524-6922.
URL:https://chassellmarket.com/community-calendar/caregivers-support-group-17/
LOCATION:Baragaland Senior Citizens Center\, 6 N Main St\, L'Anse\, MI\, United States
CATEGORIES:Events
GEO:46.757969;-88.454464
X-APPLE-STRUCTURED-LOCATION;VALUE=URI;X-ADDRESS=Baragaland Senior Citizens Center 6 N Main St L'Anse MI United States;X-APPLE-RADIUS=500;X-TITLE=6 N Main St:geo:-88.454464,46.757969
END:VEVENT
BEGIN:VEVENT
DTSTART;TZID=America/New_York:20250515T150000
DTEND;TZID=America/New_York:20250515T180000
DTSTAMP:20260422T140326
CREATED:20250504T043414Z
LAST-MODIFIED:20250511T044026Z
UID:10006089-1747321200-1747332000@chassellmarket.com
SUMMARY:Blood Drive - Laurium
DESCRIPTION:The U.P. Regional Blood Center will hold a blood drive at Aspirus Keweenaw Hospital in Laurium. Walk-ins are welcome.
URL:https://chassellmarket.com/community-calendar/blood-drive-laurium-8/
LOCATION:Aspirus Keweenaw Hospital.\, 205 Osceola St\, Calumet\, MI\, United States
CATEGORIES:Events
GEO:47.238444;-88.443428
X-APPLE-STRUCTURED-LOCATION;VALUE=URI;X-ADDRESS=Aspirus Keweenaw Hospital. 205 Osceola St Calumet MI United States;X-APPLE-RADIUS=500;X-TITLE=205 Osceola St:geo:-88.443428,47.238444
END:VEVENT
BEGIN:VEVENT
DTSTART;TZID=America/New_York:20250515T170000
DTEND;TZID=America/New_York:20250515T170000
DTSTAMP:20260422T140326
CREATED:20250504T043414Z
LAST-MODIFIED:20250511T044036Z
UID:10006090-1747328400-1747328400@chassellmarket.com
SUMMARY:Omega House Grief Support Group
DESCRIPTION:Omega House’s Third Thursday Community Grief Support Group will meet from 5:00-6:00 in person at Omega House\, or via Zoom or phone. To reserve a place\, or to receive log in and phone information\, calling or texting Cynthia at 906-370-6686 or email cynthia.drake@omega-house.org by close of business the day before the meeting.
URL:https://chassellmarket.com/community-calendar/omega-house-grief-support-group-26/
LOCATION:Omega House\, 2211 Maureen Ln\, Houghton\, MI\, United States
CATEGORIES:Events
GEO:47.107531;-88.597713
X-APPLE-STRUCTURED-LOCATION;VALUE=URI;X-ADDRESS=Omega House 2211 Maureen Ln Houghton MI United States;X-APPLE-RADIUS=500;X-TITLE=2211 Maureen Ln:geo:-88.597713,47.107531
END:VEVENT
BEGIN:VEVENT
DTSTART;TZID=America/New_York:20250515T190000
DTEND;TZID=America/New_York:20250515T190000
DTSTAMP:20260422T140326
CREATED:20250504T043427Z
LAST-MODIFIED:20250511T044036Z
UID:10006092-1747335600-1747335600@chassellmarket.com
SUMMARY:Marine Corps League Meeting
DESCRIPTION:The Keweenaw Detachment #1016\, Marine Corps League meets on the third Thursday every month at 7:00 pm at the South Range VFW. Marine Corps veterans are invited to attend.
URL:https://chassellmarket.com/community-calendar/marine-corps-league-meeting-26/
LOCATION:Range Lounge & VFW\, 2 Baltic Ave\, South Range\, MI\, United States
CATEGORIES:Events
GEO:47.069797;-88.640509
X-APPLE-STRUCTURED-LOCATION;VALUE=URI;X-ADDRESS=Range Lounge & VFW 2 Baltic Ave South Range MI United States;X-APPLE-RADIUS=500;X-TITLE=2 Baltic Ave:geo:-88.640509,47.069797
END:VEVENT
BEGIN:VEVENT
DTSTART;TZID=America/New_York:20250515T190000
DTEND;TZID=America/New_York:20250515T190000
DTSTAMP:20260422T140326
CREATED:20250504T043414Z
LAST-MODIFIED:20250511T044036Z
UID:10006091-1747335600-1747335600@chassellmarket.com
SUMMARY:Sustainability Film Series
DESCRIPTION:The Sustainability Film and Discussion Series features thought-provoking movies and conversation about environmental and related issues.\n \nFilms will be shown in Fisher Hall. Everyone is welcome to attend. Each film will be followed by a discussion with refreshments. All films are free. A suggested $5 donation is appreciated and helps to support the continued offering of this film series.\nThis month’s film is: “Water for Life” — Fisher 135 – Hear the powerful stories of Berta Cáceres\, Francisco Pineda and Alberto Curamil — three Indigenous leaders who fought to protect their water resources from exploitation by governments and corporations\, despite facing threats\, corruption and violence\, all while advocating for environmental justice and Indigenous rights.
URL:https://chassellmarket.com/community-calendar/sustainability-film-series-10/
LOCATION:Fisher Hall\, 1400 Townsend Dr\, Houghton\, MI\, United States
CATEGORIES:Events
GEO:47.116254;-88.539277
X-APPLE-STRUCTURED-LOCATION;VALUE=URI;X-ADDRESS=Fisher Hall 1400 Townsend Dr Houghton MI United States;X-APPLE-RADIUS=500;X-TITLE=1400 Townsend Dr:geo:-88.539277,47.116254
END:VEVENT
BEGIN:VEVENT
DTSTART;TZID=America/New_York:20250516T000000
DTEND;TZID=America/New_York:20250516T235959
DTSTAMP:20260422T140326
CREATED:20250511T044044Z
LAST-MODIFIED:20250511T044044Z
UID:10006107-1747353600-1747439999@chassellmarket.com
SUMMARY:Ontonagon Lake Trout Classic
DESCRIPTION:The Ontonagon Lake Trout Classic will be held this weekend\, with activities to benefit the Ontonagon County Cancer Association. For registration and full details\, click here.
URL:https://chassellmarket.com/community-calendar/ontonagon-lake-trout-classic-7/
LOCATION:Ontonagon\, Ontonagon\, MI\, United States
CATEGORIES:Events
GEO:46.830223;-89.570429
END:VEVENT
BEGIN:VEVENT
DTSTART;TZID=America/New_York:20250516T000000
DTEND;TZID=America/New_York:20250516T235959
DTSTAMP:20260422T140326
CREATED:20250504T043427Z
LAST-MODIFIED:20250511T044044Z
UID:10006094-1747353600-1747439999@chassellmarket.com
SUMMARY:AA Meetings
DESCRIPTION:For an up to date list of all AA meetings in the Copper Country\, click here.
URL:https://chassellmarket.com/community-calendar/aa-meetings-772/
LOCATION:MI
CATEGORIES:Events
END:VEVENT
BEGIN:VEVENT
DTSTART;TZID=America/New_York:20250516T090000
DTEND;TZID=America/New_York:20250516T120000
DTSTAMP:20260422T140326
CREATED:20250504T043427Z
LAST-MODIFIED:20250511T044044Z
UID:10006093-1747386000-1747396800@chassellmarket.com
SUMMARY:Treehouse Playgroup
DESCRIPTION:The Keweenaw Family Resource Center playgroup will meet at the Tree House Indoor Playground. \nPlaygroup is for families in the area with children birth through 4 years of age. The playgroups provide an opportunity for children and parents to play in an environment that is supportive and nurturing. Morning playgroups are offered in the communities of Houghton\, and Mohawk.   \nPlaygroups are structured to allow children to explore and play at their own pace. We encourage parents to interact with their children at all times\, especially during snack time\, exploration time and during clean up. Playgroup coordinators are there to facilitate the sessions\, model appropriate adult behavior\, and interact with children in ways which will assist them in their learning and development of social skills. We strive for a positive experience for everyone. Playgroups are open to all area families. \nWhat to Expect at Playgroup:\n\nFree Play Time\, where children can choose to play with any toys they like.\nCircle time\, where the children are encouraged to sit in a group circle and sing songs and do finger plays.\nExploration time\, when children learn new things by free creation-finger painting\, coloring\, drawing.\nSnack time\, when children sit at the table with the other children and have a healthy snack.\nClean up time\, where both the children and their parents are required to participate. The snack is put away\, the toys put where they belong\, and the exploration area is tidied up.\n\nGet notification reminders for our playgroups by going to our event calendar\, then adding selected events to your Google calendar! Visit our Facebook page to stay informed on playgroup cancelations or other community events and resources.
URL:https://chassellmarket.com/community-calendar/treehouse-playgroup-63/
LOCATION:The Tree House Indoor Playground\, 850 W Sharon Ave\, Houghton\, MI\, United States
CATEGORIES:Events
GEO:47.113224;-88.585758
X-APPLE-STRUCTURED-LOCATION;VALUE=URI;X-ADDRESS=The Tree House Indoor Playground 850 W Sharon Ave Houghton MI United States;X-APPLE-RADIUS=500;X-TITLE=850 W Sharon Ave:geo:-88.585758,47.113224
END:VEVENT
BEGIN:VEVENT
DTSTART;TZID=America/New_York:20250516T110000
DTEND;TZID=America/New_York:20250516T150000
DTSTAMP:20260422T140326
CREATED:20250504T043428Z
LAST-MODIFIED:20250511T044044Z
UID:10006095-1747393200-1747407600@chassellmarket.com
SUMMARY:Blood Drive - L'Anse
DESCRIPTION:The U.P. Regional Blood Center will hold a blood drive at the L'Anse Methodist Church.  Walk-ins are welcome.
URL:https://chassellmarket.com/community-calendar/blood-drive-lanse-24/
LOCATION:L’Anse United Methodist Church\, 1300 Boundry St\, Calumet\, MI\, United States
CATEGORIES:Events
GEO:47.23748;-88.451976
X-APPLE-STRUCTURED-LOCATION;VALUE=URI;X-ADDRESS=L’Anse United Methodist Church 1300 Boundry St Calumet MI United States;X-APPLE-RADIUS=500;X-TITLE=1300 Boundry St:geo:-88.451976,47.23748
END:VEVENT
BEGIN:VEVENT
DTSTART;TZID=America/New_York:20250517T000000
DTEND;TZID=America/New_York:20250517T235959
DTSTAMP:20260422T140326
CREATED:20250511T044113Z
LAST-MODIFIED:20250511T044113Z
UID:10006111-1747440000-1747526399@chassellmarket.com
SUMMARY:Ontonagon Lake Trout Classic
DESCRIPTION:The Ontonagon Lake Trout Classic will be held this weekend\, with activities to benefit the Ontonagon County Cancer Association. For registration and full details\, click here.
URL:https://chassellmarket.com/community-calendar/ontonagon-lake-trout-classic-9/
LOCATION:Ontonagon\, Ontonagon\, MI\, United States
CATEGORIES:Events
GEO:46.830223;-89.570429
END:VEVENT
BEGIN:VEVENT
DTSTART;TZID=America/New_York:20250517T000000
DTEND;TZID=America/New_York:20250517T235959
DTSTAMP:20260422T140326
CREATED:20250504T043458Z
LAST-MODIFIED:20250511T044113Z
UID:10006102-1747440000-1747526399@chassellmarket.com
SUMMARY:Keweenaw Kids Registration
DESCRIPTION:Summer is around the corner\, and the Kermit’s Keweenaw Kids Youth Program is holding its annual sign-up from 10:00 a.m. until noon at the Allouez Township Hall in Mohawk. Participation is open to Keweenaw County youth\, 8 – 18 years of age. Youth must be registered to participate in either the recreation program or youth employment program. \n \nQuestions? Please call 906-337-1927.
URL:https://chassellmarket.com/community-calendar/keweenaw-kids-registration/
LOCATION:Allouez Township Hall\, 401 2nd St\, Mohawk\, MI\, United States
CATEGORIES:Events
GEO:47.458514;-88.162465
X-APPLE-STRUCTURED-LOCATION;VALUE=URI;X-ADDRESS=Allouez Township Hall 401 2nd St Mohawk MI United States;X-APPLE-RADIUS=500;X-TITLE=401 2nd St:geo:-88.162465,47.458514
END:VEVENT
BEGIN:VEVENT
DTSTART;TZID=America/New_York:20250517T000000
DTEND;TZID=America/New_York:20250517T235959
DTSTAMP:20260422T140326
CREATED:20250504T043446Z
LAST-MODIFIED:20250511T044052Z
UID:10006099-1747440000-1747526399@chassellmarket.com
SUMMARY:AA Meetings
DESCRIPTION:For an up to date list of all AA meetings in the Copper Country\, click here.
URL:https://chassellmarket.com/community-calendar/aa-meetings-773/
LOCATION:MI
CATEGORIES:Events
END:VEVENT
BEGIN:VEVENT
DTSTART;TZID=America/New_York:20250517T080000
DTEND;TZID=America/New_York:20250517T110000
DTSTAMP:20260422T140326
CREATED:20250504T043428Z
LAST-MODIFIED:20250511T044109Z
UID:10006096-1747468800-1747479600@chassellmarket.com
SUMMARY:Breakfast Buffet - Gay
DESCRIPTION:The Sherman Township Volunteer Fire Department will serve a pancake breakfast and hold a bake sale at the Fire Station in Gay. Enjoy pancakes\, French toast\, omelets\, sausage\, fruit and drinks. Free will donations will be accepted\, and a 50/50 raffle will be held.
URL:https://chassellmarket.com/community-calendar/breakfast-buffet-gay-4/
LOCATION:Sherman Twp Fire Hall\, 298 2nd St\, Lake Linden\, MI\, United States
CATEGORIES:Events
GEO:47.190627;-88.412429
X-APPLE-STRUCTURED-LOCATION;VALUE=URI;X-ADDRESS=Sherman Twp Fire Hall 298 2nd St Lake Linden MI United States;X-APPLE-RADIUS=500;X-TITLE=298 2nd St:geo:-88.412429,47.190627
END:VEVENT
BEGIN:VEVENT
DTSTART;TZID=America/New_York:20250517T090000
DTEND;TZID=America/New_York:20250517T130000
DTSTAMP:20260422T140326
CREATED:20250504T043458Z
LAST-MODIFIED:20250511T044053Z
UID:10006104-1747472400-1747486800@chassellmarket.com
SUMMARY:Treasures to Treats Rummage and Bake Sale
DESCRIPTION:St. Ann’s Church in Baraga will hold a rummage and bake sale\, with a basket auction.
URL:https://chassellmarket.com/community-calendar/treasures-to-treats-rummage-and-bake-sale/
LOCATION:Saint Ann’s Catholic Church\, 101 Michigan Ave\, Baraga\, MI\, United States
CATEGORIES:Events
GEO:46.779562;-88.487833
X-APPLE-STRUCTURED-LOCATION;VALUE=URI;X-ADDRESS=Saint Ann’s Catholic Church 101 Michigan Ave Baraga MI United States;X-APPLE-RADIUS=500;X-TITLE=101 Michigan Ave:geo:-88.487833,46.779562
END:VEVENT
BEGIN:VEVENT
DTSTART;TZID=America/New_York:20250517T100000
DTEND;TZID=America/New_York:20250517T100000
DTSTAMP:20260422T140326
CREATED:20250504T043446Z
LAST-MODIFIED:20250511T044044Z
UID:10006097-1747476000-1747476000@chassellmarket.com
SUMMARY:GriefShare Support Group Meeting
DESCRIPTION:GriefShare\, a special help seminar and support group for people experiencing grief and loss\, will be held on Saturday mornings at Bethany Baptist Church. All are welcome. For more information\, click here.
URL:https://chassellmarket.com/community-calendar/griefshare-support-group-meeting-51/
LOCATION:Bethany Baptist Church\, 48544 Main St\, Dollar Bay\, MI\, United States
CATEGORIES:Events
GEO:47.119196;-88.501611
X-APPLE-STRUCTURED-LOCATION;VALUE=URI;X-ADDRESS=Bethany Baptist Church 48544 Main St Dollar Bay MI United States;X-APPLE-RADIUS=500;X-TITLE=48544 Main St:geo:-88.501611,47.119196
END:VEVENT
BEGIN:VEVENT
DTSTART;TZID=America/New_York:20250517T100000
DTEND;TZID=America/New_York:20250517T120000
DTSTAMP:20260422T140326
CREATED:20250504T043446Z
LAST-MODIFIED:20250511T044109Z
UID:10006101-1747476000-1747483200@chassellmarket.com
SUMMARY:STEAM Saturday
DESCRIPTION:Kaleidoscope’s STEAM Saturdays offer kids ages 5 and up an opportunity to experience hands-on science and art activities. Kaleidoscope staff will be available to assist\, and will provide supplemental and complementary activities so that all family members can be engaged in age-appropriate projects.  \nSTEAM Saturdays take place at Kaleidoscope’s classrooms\, on the fourth floor of the Hancock Community Hub on Quincy Street. All community members are welcome\, at no charge\, although donations to support Kaleidoscope are welcome. For more details\, click here.
URL:https://chassellmarket.com/community-calendar/steam-saturday-5/
LOCATION:Kaleidoscope\, 417 Quincy St\, Hancock\, MI\, United States
CATEGORIES:Events
GEO:47.126515;-88.585366
X-APPLE-STRUCTURED-LOCATION;VALUE=URI;X-ADDRESS=Kaleidoscope 417 Quincy St Hancock MI United States;X-APPLE-RADIUS=500;X-TITLE=417 Quincy St:geo:-88.585366,47.126515
END:VEVENT
BEGIN:VEVENT
DTSTART;TZID=America/New_York:20250517T103000
DTEND;TZID=America/New_York:20250517T103000
DTSTAMP:20260422T140326
CREATED:20250504T043446Z
LAST-MODIFIED:20250511T044052Z
UID:10006098-1747477800-1747477800@chassellmarket.com
SUMMARY:Settlers Credit Union Cancer Walk
DESCRIPTION:The annual Settlers Federal Credit Union Cancer Walk will begin at 11 at the Credit Union in Bruce Crossing. Adults pay $25\, and youth pay $15. Onsite registration will begin at 10:30.
URL:https://chassellmarket.com/community-calendar/settlers-credit-union-cancer-walk/
LOCATION:MI
CATEGORIES:Events
END:VEVENT
BEGIN:VEVENT
DTSTART;TZID=America/New_York:20250517T120000
DTEND;TZID=America/New_York:20250517T120000
DTSTAMP:20260422T140326
CREATED:20250504T043446Z
LAST-MODIFIED:20250511T044052Z
UID:10006100-1747483200-1747483200@chassellmarket.com
SUMMARY:Benefit for Carissa and Megan
DESCRIPTION:Carisa Lafernier and Megan Corey recently experienced an unimaginable loss—their home\, belongings\, and their beloved two dogs – in a house fire. The American Legion Post in Baraga is hosting a fundraiser\, with a bake sale\, Indian taco sale\, music\, a cornhole tournament\, and a basket raffle. All ae welcome.
URL:https://chassellmarket.com/community-calendar/benefit-for-carissa-and-megan-2/
LOCATION:American Legion\, 301 Front St\, L'Anse\, MI\, United States
CATEGORIES:Events
GEO:46.76115;-88.45173
X-APPLE-STRUCTURED-LOCATION;VALUE=URI;X-ADDRESS=American Legion 301 Front St L'Anse MI United States;X-APPLE-RADIUS=500;X-TITLE=301 Front St:geo:-88.45173,46.76115
END:VEVENT
BEGIN:VEVENT
DTSTART;TZID=America/New_York:20250517T130000
DTEND;TZID=America/New_York:20250517T130000
DTSTAMP:20260422T140326
CREATED:20250504T043458Z
LAST-MODIFIED:20250511T044052Z
UID:10006103-1747486800-1747486800@chassellmarket.com
SUMMARY:Memory Loss/Dementia Caregiver Support Group
DESCRIPTION:The Memory Loss/Dementia Caregiver Support Group will meet at Canal View. All those caring for someone with memory loss or dementia are welcome.
URL:https://chassellmarket.com/community-calendar/memory-loss-dementia-caregiver-support-group-9/
LOCATION:Canal View – Houghton County\, 1100 Quincy St\, Hancock\, MI\, United States
CATEGORIES:Events
GEO:47.126806;-88.599785
X-APPLE-STRUCTURED-LOCATION;VALUE=URI;X-ADDRESS=Canal View – Houghton County 1100 Quincy St Hancock MI United States;X-APPLE-RADIUS=500;X-TITLE=1100 Quincy St:geo:-88.599785,47.126806
END:VEVENT
BEGIN:VEVENT
DTSTART;TZID=America/New_York:20250518T000000
DTEND;TZID=America/New_York:20250518T235959
DTSTAMP:20260422T140326
CREATED:20250518T044023Z
LAST-MODIFIED:20250518T044023Z
UID:10006167-1747526400-1747612799@chassellmarket.com
SUMMARY:Camp 911 Application Period
DESCRIPTION:Bay Ambulance is currently accepting applications for Camp 911\, which will be held June 17th and 18th. Fifth and sixth graders from Baraga County schools are eligible. For additional information contact Bay Ambulance at 906-353-6196 between 7:00 am and 3:00 pm. The deadline for applications is June 3. Info can also be found at the Bay Ambulance Facebook Page.
URL:https://chassellmarket.com/community-calendar/camp-911-application-period-3/
LOCATION:MI
CATEGORIES:Events
END:VEVENT
BEGIN:VEVENT
DTSTART;TZID=America/New_York:20250518T000000
DTEND;TZID=America/New_York:20250518T235959
DTSTAMP:20260422T140326
CREATED:20250511T044109Z
LAST-MODIFIED:20250518T044010Z
UID:10006109-1747526400-1747612799@chassellmarket.com
SUMMARY:Ontonagon Lake Trout Classic
DESCRIPTION:The Ontonagon Lake Trout Classic will be held this weekend\, with activities to benefit the Ontonagon County Cancer Association. For registration and full details\, click here.
URL:https://chassellmarket.com/community-calendar/ontonagon-lake-trout-classic-8/
LOCATION:Ontonagon\, Ontonagon\, MI\, United States
CATEGORIES:Events
GEO:46.830223;-89.570429
END:VEVENT
BEGIN:VEVENT
DTSTART;TZID=America/New_York:20250518T000000
DTEND;TZID=America/New_York:20250518T235959
DTSTAMP:20260422T140326
CREATED:20250511T044109Z
LAST-MODIFIED:20250518T044023Z
UID:10006110-1747526400-1747612799@chassellmarket.com
SUMMARY:AA Meetings
DESCRIPTION:For an up to date list of all AA meetings in the Copper Country\, click here.
URL:https://chassellmarket.com/community-calendar/aa-meetings-775/
LOCATION:MI
CATEGORIES:Events
END:VEVENT
BEGIN:VEVENT
DTSTART;TZID=America/New_York:20250518T080000
DTEND;TZID=America/New_York:20250518T120000
DTSTAMP:20260422T140326
CREATED:20250518T043957Z
LAST-MODIFIED:20250518T044009Z
UID:10006163-1747555200-1747569600@chassellmarket.com
SUMMARY:Breakfast Buffet - L'Anse
DESCRIPTION:The L’Anse American Legion Post will host a breakfast buffet. Adults pay $12.00; children ages 10 and under pay $8.00. The buffet includes biscuits and gravy\, scrambled eggs\, breakfast potatoes\, sausage\, ham\, and Scott’s fabulous pancakes made to order.
URL:https://chassellmarket.com/community-calendar/breakfast-buffet-lanse-5/
LOCATION:American Legion\, 301 Front St\, L'Anse\, MI\, United States
CATEGORIES:Events
GEO:46.76115;-88.45173
X-APPLE-STRUCTURED-LOCATION;VALUE=URI;X-ADDRESS=American Legion 301 Front St L'Anse MI United States;X-APPLE-RADIUS=500;X-TITLE=301 Front St:geo:-88.45173,46.76115
END:VEVENT
BEGIN:VEVENT
DTSTART;TZID=America/New_York:20250518T140000
DTEND;TZID=America/New_York:20250518T170000
DTSTAMP:20260422T140326
CREATED:20250504T043458Z
LAST-MODIFIED:20250518T044010Z
UID:10006105-1747576800-1747587600@chassellmarket.com
SUMMARY:Polka Dance - South Range
DESCRIPTION:The South Range Eagles Club hosts polka dances with live music each Sunday. All are welcome.
URL:https://chassellmarket.com/community-calendar/polka-dance-south-range-111/
LOCATION:South Range Eagles\, 8 Baltic Ave\, South Range\, MI\, United States
CATEGORIES:Events
GEO:47.070836;-88.640432
X-APPLE-STRUCTURED-LOCATION;VALUE=URI;X-ADDRESS=South Range Eagles 8 Baltic Ave South Range MI United States;X-APPLE-RADIUS=500;X-TITLE=8 Baltic Ave:geo:-88.640432,47.070836
END:VEVENT
BEGIN:VEVENT
DTSTART;TZID=America/New_York:20250518T150000
DTEND;TZID=America/New_York:20250518T150000
DTSTAMP:20260422T140326
CREATED:20250511T044114Z
LAST-MODIFIED:20250518T044009Z
UID:10006112-1747580400-1747580400@chassellmarket.com
SUMMARY:Copper Country Chorale Concert
DESCRIPTION:The Copper Country Chorale will present a 60th anniversary concert at Gloria Dei Lutheran Church in Hancock.  Guest groups performing on the concert are the Marquette Male Chorus and the St. Paul Evangelical Lutheran Church Choir of Laurium. There will be a Free Will Donation at the door. Refreshments follow the concert in the church’s fellowship hall.
URL:https://chassellmarket.com/community-calendar/copper-country-chorale-concert-2/
LOCATION:Gloria Dei Lutheran Church\, 1000 Quincy St\, Hancock\, MI\, United States
CATEGORIES:Events
GEO:47.126739;-88.597298
X-APPLE-STRUCTURED-LOCATION;VALUE=URI;X-ADDRESS=Gloria Dei Lutheran Church 1000 Quincy St Hancock MI United States;X-APPLE-RADIUS=500;X-TITLE=1000 Quincy St:geo:-88.597298,47.126739
END:VEVENT
BEGIN:VEVENT
DTSTART;TZID=America/New_York:20250518T160000
DTEND;TZID=America/New_York:20250518T173000
DTSTAMP:20260422T140326
CREATED:20250504T043459Z
LAST-MODIFIED:20250518T044009Z
UID:10006106-1747584000-1747589400@chassellmarket.com
SUMMARY:"Let's Eat" Community Meal
DESCRIPTION:The “Let’s Eat” community meal program offers a free dinner at Holy Trinity Lutheran Church in Chassell. This month’s menu includes lasagna\, mixed vegetables\, a roll and dessert. All are welcome.
URL:https://chassellmarket.com/community-calendar/lets-eat-community-meal-3/
LOCATION:Holy Trinity Lutheran Church\, 41899 Wilson Memorial Dr\, Chassell\, MI\, United States
CATEGORIES:Events
GEO:47.022923;-88.527343
X-APPLE-STRUCTURED-LOCATION;VALUE=URI;X-ADDRESS=Holy Trinity Lutheran Church 41899 Wilson Memorial Dr Chassell MI United States;X-APPLE-RADIUS=500;X-TITLE=41899 Wilson Memorial Dr:geo:-88.527343,47.022923
END:VEVENT
BEGIN:VEVENT
DTSTART;TZID=America/New_York:20250519T000000
DTEND;TZID=America/New_York:20250519T235959
DTSTAMP:20260422T140326
CREATED:20250518T044017Z
LAST-MODIFIED:20250518T044017Z
UID:10006166-1747612800-1747699199@chassellmarket.com
SUMMARY:Camp 911 Application Period
DESCRIPTION:Bay Ambulance is currently accepting applications for Camp 911\, which will be held June 17th and 18th. Fifth and sixth graders from Baraga County schools are eligible. For additional information contact Bay Ambulance at 906-353-6196 between 7:00 am and 3:00 pm. The deadline for applications is June 3. Info can also be found at the Bay Ambulance Facebook Page.
URL:https://chassellmarket.com/community-calendar/camp-911-application-period-2/
LOCATION:MI
CATEGORIES:Events
END:VEVENT
BEGIN:VEVENT
DTSTART;TZID=America/New_York:20250519T000000
DTEND;TZID=America/New_York:20250519T235959
DTSTAMP:20260422T140326
CREATED:20250511T044109Z
LAST-MODIFIED:20250518T044023Z
UID:10006108-1747612800-1747699199@chassellmarket.com
SUMMARY:AA Meetings
DESCRIPTION:For an up to date list of all AA meetings in the Copper Country\, click here.
URL:https://chassellmarket.com/community-calendar/aa-meetings-774/
LOCATION:MI
CATEGORIES:Events
END:VEVENT
BEGIN:VEVENT
DTSTART;TZID=America/New_York:20250519T080000
DTEND;TZID=America/New_York:20250519T130000
DTSTAMP:20260422T140326
CREATED:20250120T184233Z
LAST-MODIFIED:20250219T184052Z
UID:10005252-1747641600-1747659600@chassellmarket.com
SUMMARY:Township Clerk Office Hours
DESCRIPTION:
URL:https://chassellmarket.com/community-calendar/township-clerk-office-hours-34/
LOCATION:MI
CATEGORIES:Events
END:VEVENT
BEGIN:VEVENT
DTSTART;TZID=America/New_York:20250519T090000
DTEND;TZID=America/New_York:20250519T120000
DTSTAMP:20260422T140326
CREATED:20250511T044125Z
LAST-MODIFIED:20250518T044016Z
UID:10006113-1747645200-1747656000@chassellmarket.com
SUMMARY:Treehouse Playgroup
DESCRIPTION:The Keweenaw Family Resource Center playgroup will meet at the Tree House Indoor Playground. \nPlaygroup is for families in the area with children birth through 4 years of age. The playgroups provide an opportunity for children and parents to play in an environment that is supportive and nurturing. Morning playgroups are offered in the communities of Houghton\, and Mohawk.   \nPlaygroups are structured to allow children to explore and play at their own pace. We encourage parents to interact with their children at all times\, especially during snack time\, exploration time and during clean up. Playgroup coordinators are there to facilitate the sessions\, model appropriate adult behavior\, and interact with children in ways which will assist them in their learning and development of social skills. We strive for a positive experience for everyone. Playgroups are open to all area families. \nWhat to Expect at Playgroup:\n\nFree Play Time\, where children can choose to play with any toys they like.\nCircle time\, where the children are encouraged to sit in a group circle and sing songs and do finger plays.\nExploration time\, when children learn new things by free creation-finger painting\, coloring\, drawing.\nSnack time\, when children sit at the table with the other children and have a healthy snack.\nClean up time\, where both the children and their parents are required to participate. The snack is put away\, the toys put where they belong\, and the exploration area is tidied up.\n\nGet notification reminders for our playgroups by going to our event calendar\, then adding selected events to your Google calendar! Visit our Facebook page to stay informed on playgroup cancelations or other community events and resources.
URL:https://chassellmarket.com/community-calendar/treehouse-playgroup-64/
LOCATION:The Tree House Indoor Playground\, 850 W Sharon Ave\, Houghton\, MI\, United States
CATEGORIES:Events
GEO:47.113224;-88.585758
X-APPLE-STRUCTURED-LOCATION;VALUE=URI;X-ADDRESS=The Tree House Indoor Playground 850 W Sharon Ave Houghton MI United States;X-APPLE-RADIUS=500;X-TITLE=850 W Sharon Ave:geo:-88.585758,47.113224
END:VEVENT
END:VCALENDAR