BEGIN:VCALENDAR
VERSION:2.0
PRODID:-//Chassell Farmers Market &amp; Houghton Indoor Farm and Craft Market - ECPv6.15.17//NONSGML v1.0//EN
CALSCALE:GREGORIAN
METHOD:PUBLISH
X-WR-CALNAME:Chassell Farmers Market &amp; Houghton Indoor Farm and Craft Market
X-ORIGINAL-URL:https://chassellmarket.com
X-WR-CALDESC:Events for Chassell Farmers Market &amp; Houghton Indoor Farm and Craft Market
REFRESH-INTERVAL;VALUE=DURATION:PT1H
X-Robots-Tag:noindex
X-PUBLISHED-TTL:PT1H
BEGIN:VTIMEZONE
TZID:America/New_York
BEGIN:DAYLIGHT
TZOFFSETFROM:-0500
TZOFFSETTO:-0400
TZNAME:EDT
DTSTART:20240310T070000
END:DAYLIGHT
BEGIN:STANDARD
TZOFFSETFROM:-0400
TZOFFSETTO:-0500
TZNAME:EST
DTSTART:20241103T060000
END:STANDARD
BEGIN:DAYLIGHT
TZOFFSETFROM:-0500
TZOFFSETTO:-0400
TZNAME:EDT
DTSTART:20250309T070000
END:DAYLIGHT
BEGIN:STANDARD
TZOFFSETFROM:-0400
TZOFFSETTO:-0500
TZNAME:EST
DTSTART:20251102T060000
END:STANDARD
BEGIN:DAYLIGHT
TZOFFSETFROM:-0500
TZOFFSETTO:-0400
TZNAME:EDT
DTSTART:20260308T070000
END:DAYLIGHT
BEGIN:STANDARD
TZOFFSETFROM:-0400
TZOFFSETTO:-0500
TZNAME:EST
DTSTART:20261101T060000
END:STANDARD
END:VTIMEZONE
BEGIN:VEVENT
DTSTART;TZID=America/New_York:20250507T103000
DTEND;TZID=America/New_York:20250507T103000
DTSTAMP:20260422T110135
CREATED:20250420T043048Z
LAST-MODIFIED:20250504T042622Z
UID:10005984-1746613800-1746613800@chassellmarket.com
SUMMARY:Preschool Story Time
DESCRIPTION:Preschool story time meets each Wednesday at 10:30 and Thursday at 1:30 in the children’s area at the Portage Lake District Library. Children can enjoy a story\, and bring home a take-and-make craft bag.
URL:https://chassellmarket.com/community-calendar/preschool-story-time-183/
LOCATION:Portage Lake District Library\, 58 Huron St\, Houghton\, MI\, United States
CATEGORIES:Events
GEO:47.122079;-88.568186
X-APPLE-STRUCTURED-LOCATION;VALUE=URI;X-ADDRESS=Portage Lake District Library 58 Huron St Houghton MI United States;X-APPLE-RADIUS=500;X-TITLE=58 Huron St:geo:-88.568186,47.122079
END:VEVENT
BEGIN:VEVENT
DTSTART;TZID=America/New_York:20250507T110000
DTEND;TZID=America/New_York:20250507T133000
DTSTAMP:20260422T110135
CREATED:20241121T182624Z
LAST-MODIFIED:20250420T185438Z
UID:10004864-1746615600-1746624600@chassellmarket.com
SUMMARY:Senior Meals at the Fire Hall
DESCRIPTION:
URL:https://chassellmarket.com/community-calendar/senior-meals-at-the-fire-hall-212/
LOCATION:Chassell Township Fire Department\, 22098 7th St\, Chassell\, MI\, United States
CATEGORIES:Events
GEO:47.0219;-88.530903
X-APPLE-STRUCTURED-LOCATION;VALUE=URI;X-ADDRESS=Chassell Township Fire Department 22098 7th St Chassell MI United States;X-APPLE-RADIUS=500;X-TITLE=22098 7th St:geo:-88.530903,47.0219
END:VEVENT
BEGIN:VEVENT
DTSTART;TZID=America/New_York:20250507T130000
DTEND;TZID=America/New_York:20250507T160000
DTSTAMP:20260422T110135
CREATED:20250427T042739Z
LAST-MODIFIED:20250504T042627Z
UID:10006034-1746622800-1746633600@chassellmarket.com
SUMMARY:CLK Schools Kindergarten Registration
DESCRIPTION:CLK Elementary School will hold registration for kindergarten and the Junior Kings program. Visit the classrooms\, and tour the school and a school bus. For a registration packet\, and details about what documents you should bring with you\, call 337-0311.\nVision and dental screenings will also be conducted for incoming students. Make an appointment by calling the school. Walk-ins will be accepted as/if time permits.
URL:https://chassellmarket.com/community-calendar/clk-schools-kindergarten-registration/
LOCATION:CLK Elementary School\, 57070 Mine St\, Calumet\, MI\, United States
CATEGORIES:Events
GEO:47.243115;-88.448803
X-APPLE-STRUCTURED-LOCATION;VALUE=URI;X-ADDRESS=CLK Elementary School 57070 Mine St Calumet MI United States;X-APPLE-RADIUS=500;X-TITLE=57070 Mine St:geo:-88.448803,47.243115
END:VEVENT
BEGIN:VEVENT
DTSTART;TZID=America/New_York:20250507T130000
DTEND;TZID=America/New_York:20250507T180000
DTSTAMP:20260422T110135
CREATED:20250120T184219Z
LAST-MODIFIED:20250321T185541Z
UID:10005249-1746622800-1746640800@chassellmarket.com
SUMMARY:Township Clerk Office Hours
DESCRIPTION:
URL:https://chassellmarket.com/community-calendar/township-clerk-office-hours-31/
LOCATION:MI
CATEGORIES:Events
END:VEVENT
BEGIN:VEVENT
DTSTART;TZID=America/New_York:20250507T140000
DTEND;TZID=America/New_York:20250507T140000
DTSTAMP:20260422T110135
CREATED:20250420T043048Z
LAST-MODIFIED:20250504T042622Z
UID:10005985-1746626400-1746626400@chassellmarket.com
SUMMARY:Bingo - South Range
DESCRIPTION:The South Range Eagles Hall hosts Bingo every Wednesday. All are welcome.
URL:https://chassellmarket.com/community-calendar/bingo-south-range-110/
LOCATION:South Range Eagles\, 8 Baltic Ave\, South Range\, MI\, United States
CATEGORIES:Events
GEO:47.070836;-88.640432
X-APPLE-STRUCTURED-LOCATION;VALUE=URI;X-ADDRESS=South Range Eagles 8 Baltic Ave South Range MI United States;X-APPLE-RADIUS=500;X-TITLE=8 Baltic Ave:geo:-88.640432,47.070836
END:VEVENT
BEGIN:VEVENT
DTSTART;TZID=America/New_York:20250507T160000
DTEND;TZID=America/New_York:20250507T160000
DTSTAMP:20260422T110135
CREATED:20250427T042656Z
LAST-MODIFIED:20250504T042627Z
UID:10006033-1746633600-1746633600@chassellmarket.com
SUMMARY:Gentle Exercise Class - Lake Linden
DESCRIPTION:The Lake Linden United Methodist Church hosts a weekly gentle chair exercise group. All are welcome\, at no charge. Sessions are approximately 20 minutes long.
URL:https://chassellmarket.com/community-calendar/gentle-exercise-class-lake-linden-12/
LOCATION:Lake Linden United Methodist Church\, 53237 N Ave\, Lake Linden\, MI\, United States
CATEGORIES:Events
GEO:47.188547;-88.411956
X-APPLE-STRUCTURED-LOCATION;VALUE=URI;X-ADDRESS=Lake Linden United Methodist Church 53237 N Ave Lake Linden MI United States;X-APPLE-RADIUS=500;X-TITLE=53237 N Ave:geo:-88.411956,47.188547
END:VEVENT
BEGIN:VEVENT
DTSTART;TZID=America/New_York:20250507T170000
DTEND;TZID=America/New_York:20250507T170000
DTSTAMP:20260422T110135
CREATED:20250504T042627Z
LAST-MODIFIED:20250504T042627Z
UID:10006061-1746637200-1746637200@chassellmarket.com
SUMMARY:Ducks Unlimited Banquet
DESCRIPTION:Ducks Unlimited will hold its annual fundraising banquet at the Memorial Union Building. For details and tickets\, click here.
URL:https://chassellmarket.com/community-calendar/ducks-unlimited-banquet/
LOCATION:Memorial Union Building\, 201 Memorial Rd\, Houghton\, MI\, United States
CATEGORIES:Events
GEO:47.121159;-88.575734
X-APPLE-STRUCTURED-LOCATION;VALUE=URI;X-ADDRESS=Memorial Union Building 201 Memorial Rd Houghton MI United States;X-APPLE-RADIUS=500;X-TITLE=201 Memorial Rd:geo:-88.575734,47.121159
END:VEVENT
BEGIN:VEVENT
DTSTART;TZID=America/New_York:20250507T180000
DTEND;TZID=America/New_York:20250507T180000
DTSTAMP:20260422T110135
CREATED:20250427T042739Z
LAST-MODIFIED:20250504T042628Z
UID:10006035-1746640800-1746640800@chassellmarket.com
SUMMARY:Baraga County Search and Rescue Meeting
DESCRIPTION:Baraga County Search and Rescue will meet upstairs at Bay Ambulance. Volunteers are needed to join the team\, and prospective members are encouraged to attend the meeting. For more information call 353-7839.
URL:https://chassellmarket.com/community-calendar/baraga-county-search-and-rescue-meeting-4/
LOCATION:Bay Ambulance Inc\, 116 Michigan Ave\, Baraga\, MI\, United States
CATEGORIES:Events
GEO:46.77934;-88.490943
X-APPLE-STRUCTURED-LOCATION;VALUE=URI;X-ADDRESS=Bay Ambulance Inc 116 Michigan Ave Baraga MI United States;X-APPLE-RADIUS=500;X-TITLE=116 Michigan Ave:geo:-88.490943,46.77934
END:VEVENT
BEGIN:VEVENT
DTSTART;TZID=America/New_York:20250507T183000
DTEND;TZID=America/New_York:20250507T203000
DTSTAMP:20260422T110135
CREATED:20241121T182624Z
LAST-MODIFIED:20250420T185438Z
UID:10004865-1746642600-1746649800@chassellmarket.com
SUMMARY:Fire Department Training
DESCRIPTION:
URL:https://chassellmarket.com/community-calendar/fire-department-training-25/
LOCATION:Chassell Township Fire Department\, 22098 7th St\, Chassell\, MI\, United States
CATEGORIES:Events
GEO:47.0219;-88.530903
X-APPLE-STRUCTURED-LOCATION;VALUE=URI;X-ADDRESS=Chassell Township Fire Department 22098 7th St Chassell MI United States;X-APPLE-RADIUS=500;X-TITLE=22098 7th St:geo:-88.530903,47.0219
END:VEVENT
BEGIN:VEVENT
DTSTART;TZID=America/New_York:20250507T190000
DTEND;TZID=America/New_York:20250507T190000
DTSTAMP:20260422T110135
CREATED:20250427T042801Z
LAST-MODIFIED:20250504T042628Z
UID:10006036-1746644400-1746644400@chassellmarket.com
SUMMARY:Is It Really Recycled?
DESCRIPTION:The Copper Country Recycling Initiative will host Josh Wales\, Materials Management Supervisor at Recycle906 in Marquette\, for a discussion about what items and substances really get recycled\, and how it happens. The public is welcome\, and a Q&A session sill follow the presentation. Doors open at 6:30\, and the program begins at 7.
URL:https://chassellmarket.com/community-calendar/is-it-really-recycled/
LOCATION:The Orpheum Theater\, 426 Quincy St\, Hancock\, MI\, United States
CATEGORIES:Events
GEO:47.126506;-88.585467
X-APPLE-STRUCTURED-LOCATION;VALUE=URI;X-ADDRESS=The Orpheum Theater 426 Quincy St Hancock MI United States;X-APPLE-RADIUS=500;X-TITLE=426 Quincy St:geo:-88.585467,47.126506
END:VEVENT
BEGIN:VEVENT
DTSTART;TZID=America/New_York:20250508T000000
DTEND;TZID=America/New_York:20250508T235959
DTSTAMP:20260422T110135
CREATED:20250427T042801Z
LAST-MODIFIED:20250504T042647Z
UID:10006038-1746662400-1746748799@chassellmarket.com
SUMMARY:AA Meetings
DESCRIPTION:For an up to date list of all AA meetings in the Copper Country\, click here.
URL:https://chassellmarket.com/community-calendar/aa-meetings-764/
LOCATION:MI
CATEGORIES:Events
END:VEVENT
BEGIN:VEVENT
DTSTART;TZID=America/New_York:20250508T080000
DTEND;TZID=America/New_York:20250508T080000
DTSTAMP:20260422T110135
CREATED:20250504T042647Z
LAST-MODIFIED:20250504T042647Z
UID:10006062-1746691200-1746691200@chassellmarket.com
SUMMARY:Network Calumet
DESCRIPTION:Calumet area business owners are invited to Network Calumet. This free event at Keweenaw Coffee Works is a chance to connect with your Calumet business peers. Hear updates from Main Street Calumet and the Village of Calumet on downtown projects and upcoming events. RSVP appreciated to info@mainstreetcalumet.com.
URL:https://chassellmarket.com/community-calendar/network-calumet-3/
LOCATION:Keweenaw Coffee Works\, 113 5th St\, Calumet\, MI\, United States
CATEGORIES:Events
GEO:47.244504;-88.452708
X-APPLE-STRUCTURED-LOCATION;VALUE=URI;X-ADDRESS=Keweenaw Coffee Works 113 5th St Calumet MI United States;X-APPLE-RADIUS=500;X-TITLE=113 5th St:geo:-88.452708,47.244504
END:VEVENT
BEGIN:VEVENT
DTSTART;TZID=America/New_York:20250508T093000
DTEND;TZID=America/New_York:20250508T093000
DTSTAMP:20260422T110135
CREATED:20250427T042801Z
LAST-MODIFIED:20250504T042831Z
UID:10006037-1746696600-1746696600@chassellmarket.com
SUMMARY:Better Together Christian Women's Group
DESCRIPTION:“Better Together” will meet at 9:30 at the Zion Lutheran Church in Hancock. The speaker will be Lisa Watrous\, Director of Adult Discipleship and Ministry Development at Evangel Community Church in Houghton. Special music will be provided by Yvonne Blake\, a well-known Christian recording artist from Ontonagon. All area women are cordially invited to attend this fun event. A brunch will be served and there is a suggested donation of $10. All proceeds over the cost of the event will be donated to local charities. To reserve a spot\, call Barb Worrall at 906-523-4445 or email judyusitalo@hotmail.com.
URL:https://chassellmarket.com/community-calendar/better-together-christian-womens-group-3/
LOCATION:Zion Lutheran Church\, 800 Ingot St\, Hancock\, MI\, United States
CATEGORIES:Events
GEO:47.133746;-88.588931
X-APPLE-STRUCTURED-LOCATION;VALUE=URI;X-ADDRESS=Zion Lutheran Church 800 Ingot St Hancock MI United States;X-APPLE-RADIUS=500;X-TITLE=800 Ingot St:geo:-88.588931,47.133746
END:VEVENT
BEGIN:VEVENT
DTSTART;TZID=America/New_York:20250508T133000
DTEND;TZID=America/New_York:20250508T133000
DTSTAMP:20260422T110135
CREATED:20250427T042801Z
LAST-MODIFIED:20250504T042647Z
UID:10006039-1746711000-1746711000@chassellmarket.com
SUMMARY:Preschool Story Time
DESCRIPTION:Preschool story time meets each Wednesday at 10:30 and Thursday at 1:30 in the children's area at the Portage Lake District Library. Children can enjoy a story\, and bring home a take-and-make craft bag.
URL:https://chassellmarket.com/community-calendar/preschool-story-time-184/
LOCATION:Portage Lake District Library\, 58 Huron St\, Houghton\, MI\, United States
CATEGORIES:Events
GEO:47.122079;-88.568186
X-APPLE-STRUCTURED-LOCATION;VALUE=URI;X-ADDRESS=Portage Lake District Library 58 Huron St Houghton MI United States;X-APPLE-RADIUS=500;X-TITLE=58 Huron St:geo:-88.568186,47.122079
END:VEVENT
BEGIN:VEVENT
DTSTART;TZID=America/New_York:20250508T160000
DTEND;TZID=America/New_York:20250508T180000
DTSTAMP:20260422T110135
CREATED:20250427T042801Z
LAST-MODIFIED:20250504T042831Z
UID:10006040-1746720000-1746727200@chassellmarket.com
SUMMARY:Hancock Pitch In For Parks
DESCRIPTION:This City of Hancock Parks cleanup is a community event that is designed to bring \nneighbors together to spruce up city parks for summer. Choose your park and join in the\nfun from 4 – 6 pm. Call City Hall at 906-482-2720 to choose your park. Celebrate afterwards with hot dogs\, chips\, water\, and pop at the City of Hancock Fire Department at 6 pm.
URL:https://chassellmarket.com/community-calendar/hancock-pitch-in-for-parks/
LOCATION:MI
CATEGORIES:Events
END:VEVENT
BEGIN:VEVENT
DTSTART;TZID=America/New_York:20250508T173000
DTEND;TZID=America/New_York:20250508T193000
DTSTAMP:20260422T110135
CREATED:20250504T042647Z
LAST-MODIFIED:20250504T042647Z
UID:10006063-1746725400-1746732600@chassellmarket.com
SUMMARY:Houghton Elementary Fine Arts Night
DESCRIPTION:Houghton Elementary School will celebrate its Fine Arts Night. View student artwork between 5:30 and 7:30\, and enjoy a performance by the fourth and fifth grade choir at 6:30. A food truck will be onsite between 5:00 and 8:00.
URL:https://chassellmarket.com/community-calendar/houghton-elementary-fine-arts-night-2/
LOCATION:Houghton Elementary School\, 203 W Jacker Ave\, Houghton\, MI\, United States
CATEGORIES:Events
GEO:47.116074;-88.575943
X-APPLE-STRUCTURED-LOCATION;VALUE=URI;X-ADDRESS=Houghton Elementary School 203 W Jacker Ave Houghton MI United States;X-APPLE-RADIUS=500;X-TITLE=203 W Jacker Ave:geo:-88.575943,47.116074
END:VEVENT
BEGIN:VEVENT
DTSTART;TZID=America/New_York:20250508T190000
DTEND;TZID=America/New_York:20250508T200000
DTSTAMP:20260422T110135
CREATED:20241221T184141Z
LAST-MODIFIED:20250420T185438Z
UID:10005054-1746730800-1746734400@chassellmarket.com
SUMMARY:Planning Commission Meeting
DESCRIPTION:
URL:https://chassellmarket.com/community-calendar/planning-commission-meeting-44/
LOCATION:Chassell Township Fire Department\, 22098 7th St\, Chassell\, MI\, United States
CATEGORIES:Events
GEO:47.0219;-88.530903
X-APPLE-STRUCTURED-LOCATION;VALUE=URI;X-ADDRESS=Chassell Township Fire Department 22098 7th St Chassell MI United States;X-APPLE-RADIUS=500;X-TITLE=22098 7th St:geo:-88.530903,47.0219
END:VEVENT
BEGIN:VEVENT
DTSTART;TZID=America/New_York:20250508T190000
DTEND;TZID=America/New_York:20250508T200000
DTSTAMP:20260422T110135
CREATED:20241121T182624Z
LAST-MODIFIED:20241121T182624Z
UID:10004866-1746730800-1746734400@chassellmarket.com
SUMMARY:Planning Commission Meeting
DESCRIPTION:
URL:https://chassellmarket.com/community-calendar/planning-commission-meeting-41/
LOCATION:Chassell Township Fire Department\, 22098 7th St\, Chassell\, MI\, United States
CATEGORIES:Events
GEO:47.0219;-88.530903
X-APPLE-STRUCTURED-LOCATION;VALUE=URI;X-ADDRESS=Chassell Township Fire Department 22098 7th St Chassell MI United States;X-APPLE-RADIUS=500;X-TITLE=22098 7th St:geo:-88.530903,47.0219
END:VEVENT
BEGIN:VEVENT
DTSTART;TZID=America/New_York:20250509T000000
DTEND;TZID=America/New_York:20250509T235959
DTSTAMP:20260422T110135
CREATED:20250427T042812Z
LAST-MODIFIED:20250504T042838Z
UID:10006044-1746748800-1746835199@chassellmarket.com
SUMMARY:AA Meetings
DESCRIPTION:For an up to date list of all AA meetings in the Copper Country\, click here.
URL:https://chassellmarket.com/community-calendar/aa-meetings-765/
LOCATION:MI
CATEGORIES:Events
END:VEVENT
BEGIN:VEVENT
DTSTART;TZID=America/New_York:20250509T090000
DTEND;TZID=America/New_York:20250509T120000
DTSTAMP:20260422T110135
CREATED:20250427T042812Z
LAST-MODIFIED:20250504T042838Z
UID:10006041-1746781200-1746792000@chassellmarket.com
SUMMARY:Treehouse Playgroup
DESCRIPTION:The Keweenaw Family Resource Center playgroup will meet at the Tree House Indoor Playground. \nPlaygroup is for families in the area with children birth through 4 years of age. The playgroups provide an opportunity for children and parents to play in an environment that is supportive and nurturing. Morning playgroups are offered in the communities of Houghton\, and Mohawk.   \nPlaygroups are structured to allow children to explore and play at their own pace. We encourage parents to interact with their children at all times\, especially during snack time\, exploration time and during clean up. Playgroup coordinators are there to facilitate the sessions\, model appropriate adult behavior\, and interact with children in ways which will assist them in their learning and development of social skills. We strive for a positive experience for everyone. Playgroups are open to all area families. \nWhat to Expect at Playgroup:\n\nFree Play Time\, where children can choose to play with any toys they like.\nCircle time\, where the children are encouraged to sit in a group circle and sing songs and do finger plays.\nExploration time\, when children learn new things by free creation-finger painting\, coloring\, drawing.\nSnack time\, when children sit at the table with the other children and have a healthy snack.\nClean up time\, where both the children and their parents are required to participate. The snack is put away\, the toys put where they belong\, and the exploration area is tidied up.\n\nGet notification reminders for our playgroups by going to our event calendar\, then adding selected events to your Google calendar! Visit our Facebook page to stay informed on playgroup cancelations or other community events and resources.
URL:https://chassellmarket.com/community-calendar/treehouse-playgroup-61/
LOCATION:The Tree House Indoor Playground\, 850 W Sharon Ave\, Houghton\, MI\, United States
CATEGORIES:Events
GEO:47.113224;-88.585758
X-APPLE-STRUCTURED-LOCATION;VALUE=URI;X-ADDRESS=The Tree House Indoor Playground 850 W Sharon Ave Houghton MI United States;X-APPLE-RADIUS=500;X-TITLE=850 W Sharon Ave:geo:-88.585758,47.113224
END:VEVENT
BEGIN:VEVENT
DTSTART;TZID=America/New_York:20250509T160000
DTEND;TZID=America/New_York:20250509T160000
DTSTAMP:20260422T110135
CREATED:20250427T042812Z
LAST-MODIFIED:20250504T042831Z
UID:10006042-1746806400-1746806400@chassellmarket.com
SUMMARY:Art 'n' Chill Teen Art Club
DESCRIPTION:The Art 'n' Chill Teen Art Club at the Portage Lake District Library gives teens a chance to explore traditional art media.
URL:https://chassellmarket.com/community-calendar/art-n-chill-teen-art-club-4/
LOCATION:Portage Lake District Library\, 58 Huron St\, Houghton\, MI\, United States
CATEGORIES:Events
GEO:47.122079;-88.568186
X-APPLE-STRUCTURED-LOCATION;VALUE=URI;X-ADDRESS=Portage Lake District Library 58 Huron St Houghton MI United States;X-APPLE-RADIUS=500;X-TITLE=58 Huron St:geo:-88.568186,47.122079
END:VEVENT
BEGIN:VEVENT
DTSTART;TZID=America/New_York:20250509T170000
DTEND;TZID=America/New_York:20250509T170000
DTSTAMP:20260422T110135
CREATED:20250427T042812Z
LAST-MODIFIED:20250504T042838Z
UID:10006043-1746810000-1746810000@chassellmarket.com
SUMMARY:Gogebic Community College Commencement
DESCRIPTION:Gogebic Community College's commencement ceremony will be held at 5:00 CENTRAL TIME (6:00 Eastern time) in the David G. Lindquist Student and Conference Center Gymnasium on the GCC campus in Ironwood.
URL:https://chassellmarket.com/community-calendar/gogebic-community-college-commencement-3/
LOCATION:Gogebic Community College\, 4946 Jackson Rd\, Ironwood\, MI\, United States
CATEGORIES:Events
GEO:46.470641;-90.159135
X-APPLE-STRUCTURED-LOCATION;VALUE=URI;X-ADDRESS=Gogebic Community College 4946 Jackson Rd Ironwood MI United States;X-APPLE-RADIUS=500;X-TITLE=4946 Jackson Rd:geo:-90.159135,46.470641
END:VEVENT
BEGIN:VEVENT
DTSTART;TZID=America/New_York:20250509T180000
DTEND;TZID=America/New_York:20250509T180000
DTSTAMP:20260422T110135
CREATED:20250427T042818Z
LAST-MODIFIED:20250504T042831Z
UID:10006046-1746813600-1746813600@chassellmarket.com
SUMMARY:Benefit for Carissa and Megan
DESCRIPTION:Carisa Lafernier and Megan Corey recently experienced an unimaginable loss—their home\, belongings\, and their beloved two dogs – in a house fire. This night of music\, raffles\, and good company will raise funds to help them. Live music will be provided by Daryn Reece & Anthony Lindsey. Freewill donations will be accepted at the door\, and there will be raffles and prize giveaways. Bring your own beverages – soda and snacks for purchase. Feel free to bring a dish to pass.
URL:https://chassellmarket.com/community-calendar/benefit-for-carissa-and-megan/
LOCATION:The Extra Event Center | By\, 2 S Main St\, L'Anse\, MI\, United States
CATEGORIES:Events
GEO:46.75714;-88.455522
X-APPLE-STRUCTURED-LOCATION;VALUE=URI;X-ADDRESS=The Extra Event Center | By 2 S Main St L'Anse MI United States;X-APPLE-RADIUS=500;X-TITLE=2 S Main St:geo:-88.455522,46.75714
END:VEVENT
BEGIN:VEVENT
DTSTART;TZID=America/New_York:20250509T180000
DTEND;TZID=America/New_York:20250509T180000
DTSTAMP:20260422T110135
CREATED:20250427T042812Z
LAST-MODIFIED:20250504T042838Z
UID:10006045-1746813600-1746813600@chassellmarket.com
SUMMARY:LOVE INC Banquet Fundraiser
DESCRIPTION:Houghton Baptist Church will host the LOVE INC banquet fundraiser. LOVE INC offers low income clients and families emergency food assistance\, personal care kits and household items. \nThe evening will include a catered dinner\, live music\, door prizes and a speaker. \nDinner tickets and sponsorships are available. For details\, click here.
URL:https://chassellmarket.com/community-calendar/love-inc-banquet-fundraiser/
LOCATION:Houghton Baptist Church\, 1398 W Sharon Ave\, Houghton\, MI\, United States
CATEGORIES:Events
GEO:47.113066;-88.594162
X-APPLE-STRUCTURED-LOCATION;VALUE=URI;X-ADDRESS=Houghton Baptist Church 1398 W Sharon Ave Houghton MI United States;X-APPLE-RADIUS=500;X-TITLE=1398 W Sharon Ave:geo:-88.594162,47.113066
END:VEVENT
BEGIN:VEVENT
DTSTART;TZID=America/New_York:20250509T193000
DTEND;TZID=America/New_York:20250509T193000
DTSTAMP:20260422T110135
CREATED:20250427T042818Z
LAST-MODIFIED:20250504T042831Z
UID:10006047-1746819000-1746819000@chassellmarket.com
SUMMARY:Mom Prom
DESCRIPTION:Mom Prom Keweenaw in partnership with U.P. Kids will hold its 10th annual Mom Prom Adoption Fundraiser in the Rozsa Center lobby. The red carpet rolls out at 7:30. \nThis fundraiser supports local families in the process of adopting children. Each ticket includes: two drinks\, catered hors d’oeuvres\, non-stop dancing to music spun by a professional DJ\, access to the event photographer\, and opportunities to bid on silent auction and raffle items. Wear any dressy attire that makes you feel like a rock star!  \nTickets are limited\, and must be purchased in advance here.
URL:https://chassellmarket.com/community-calendar/mom-prom-2/
LOCATION:Rozsa Center for the Performing Arts\, 1300 Townsend Dr\, Houghton\, MI\, United States
CATEGORIES:Events
GEO:47.120148;-88.552763
X-APPLE-STRUCTURED-LOCATION;VALUE=URI;X-ADDRESS=Rozsa Center for the Performing Arts 1300 Townsend Dr Houghton MI United States;X-APPLE-RADIUS=500;X-TITLE=1300 Townsend Dr:geo:-88.552763,47.120148
END:VEVENT
BEGIN:VEVENT
DTSTART;TZID=America/New_York:20250510T000000
DTEND;TZID=America/New_York:20250510T235959
DTSTAMP:20260422T110135
CREATED:20250427T042912Z
LAST-MODIFIED:20250504T042938Z
UID:10006059-1746835200-1746921599@chassellmarket.com
SUMMARY:AA Meetings
DESCRIPTION:For an up to date list of all AA meetings in the Copper Country\, click here.
URL:https://chassellmarket.com/community-calendar/aa-meetings-768/
LOCATION:MI
CATEGORIES:Events
END:VEVENT
BEGIN:VEVENT
DTSTART;TZID=America/New_York:20250510T070000
DTEND;TZID=America/New_York:20250510T110000
DTSTAMP:20260422T110135
CREATED:20250504T042839Z
LAST-MODIFIED:20250504T042839Z
UID:10006064-1746860400-1746874800@chassellmarket.com
SUMMARY:Anderson/Durocher Benefit Breakfast
DESCRIPTION:The Stanton Township Volunteer Fire Department will host a benefit breakfast. Enjoy pancakes\, French toast\, sausage\, juice and coffee for $10 for adults\, and $5 for children. Tickets will be available at the door. A 50-50 raffle will be held. Proceeds will support the Anderson and Durocher families.
URL:https://chassellmarket.com/community-calendar/anderson-durocher-benefit-breakfast/
LOCATION:Stanton Township Fire Hall\, 699 Frue Ave\, Houghton\, MI\, United States
CATEGORIES:Events
GEO:47.113071;-88.568131
X-APPLE-STRUCTURED-LOCATION;VALUE=URI;X-ADDRESS=Stanton Township Fire Hall 699 Frue Ave Houghton MI United States;X-APPLE-RADIUS=500;X-TITLE=699 Frue Ave:geo:-88.568131,47.113071
END:VEVENT
BEGIN:VEVENT
DTSTART;TZID=America/New_York:20250510T070000
DTEND;TZID=America/New_York:20250510T170000
DTSTAMP:20260422T110135
CREATED:20250427T042854Z
LAST-MODIFIED:20250504T042926Z
UID:10006054-1746860400-1746896400@chassellmarket.com
SUMMARY:Hancock Spring Clean-up
DESCRIPTION:Hancock’s Spring Clean-up begins Saturday\, May 10th. Discarded household items may be dropped off from 7 am to 5 pm at the DPW Garage at 1601 Tomasi Drive.\nFor City of Hancock disabled residents and seniors 65 and older\, pickup dates for discarded\nhousehold items are May 12th\, 19th\, and 27th. Call City Hall at 906-482-2720 to reserve your\npickup date.\nCitywide curbside pickup of leaf bags and bundled tree branches 4′ or less in length will take place from May 12th through June 6th.
URL:https://chassellmarket.com/community-calendar/hancock-spring-clean-up-3/
LOCATION:MI
CATEGORIES:Events
END:VEVENT
BEGIN:VEVENT
DTSTART;TZID=America/New_York:20250510T090000
DTEND;TZID=America/New_York:20250510T140000
DTSTAMP:20260422T110135
CREATED:20250427T042819Z
LAST-MODIFIED:20250504T042926Z
UID:10006050-1746867600-1746885600@chassellmarket.com
SUMMARY:Pie Social/Used Book Sale - Hancock
DESCRIPTION:First United Methodist Church  in Hancock will hold a used book sale and pie social. They’ll have a wide range of well-organized books suitable for all ages and all interests\, including more than 150 Young Adult (YA) books and a selection of Disney videotapes. Arrive early for the best selection\, and stay for a delicious treat\, with more than two dozen varieties of pie.
URL:https://chassellmarket.com/community-calendar/pie-social-used-book-sale-hancock-3/
LOCATION:First United Methodist Church\, 401 Quincy St\, Hancock\, MI\, United States
CATEGORIES:Events
GEO:47.126532;-88.585184
X-APPLE-STRUCTURED-LOCATION;VALUE=URI;X-ADDRESS=First United Methodist Church 401 Quincy St Hancock MI United States;X-APPLE-RADIUS=500;X-TITLE=401 Quincy St:geo:-88.585184,47.126532
END:VEVENT
BEGIN:VEVENT
DTSTART;TZID=America/New_York:20250510T100000
DTEND;TZID=America/New_York:20250510T100000
DTSTAMP:20260422T110135
CREATED:20250427T042818Z
LAST-MODIFIED:20250504T042925Z
UID:10006048-1746871200-1746871200@chassellmarket.com
SUMMARY:GriefShare Support Group Meeting
DESCRIPTION:GriefShare\, a special help seminar and support group for people experiencing grief and loss\, will be held on Saturday mornings at Bethany Baptist Church. All are welcome. For more information\, click here.
URL:https://chassellmarket.com/community-calendar/griefshare-support-group-meeting-50/
LOCATION:Bethany Baptist Church\, 48544 Main St\, Dollar Bay\, MI\, United States
CATEGORIES:Events
GEO:47.119196;-88.501611
X-APPLE-STRUCTURED-LOCATION;VALUE=URI;X-ADDRESS=Bethany Baptist Church 48544 Main St Dollar Bay MI United States;X-APPLE-RADIUS=500;X-TITLE=48544 Main St:geo:-88.501611,47.119196
END:VEVENT
END:VCALENDAR