BEGIN:VCALENDAR
VERSION:2.0
PRODID:-//Chassell Farmers Market &amp; Houghton Indoor Farm and Craft Market - ECPv6.15.17//NONSGML v1.0//EN
CALSCALE:GREGORIAN
METHOD:PUBLISH
X-WR-CALNAME:Chassell Farmers Market &amp; Houghton Indoor Farm and Craft Market
X-ORIGINAL-URL:https://chassellmarket.com
X-WR-CALDESC:Events for Chassell Farmers Market &amp; Houghton Indoor Farm and Craft Market
REFRESH-INTERVAL;VALUE=DURATION:PT1H
X-Robots-Tag:noindex
X-PUBLISHED-TTL:PT1H
BEGIN:VTIMEZONE
TZID:America/New_York
BEGIN:DAYLIGHT
TZOFFSETFROM:-0500
TZOFFSETTO:-0400
TZNAME:EDT
DTSTART:20240310T070000
END:DAYLIGHT
BEGIN:STANDARD
TZOFFSETFROM:-0400
TZOFFSETTO:-0500
TZNAME:EST
DTSTART:20241103T060000
END:STANDARD
BEGIN:DAYLIGHT
TZOFFSETFROM:-0500
TZOFFSETTO:-0400
TZNAME:EDT
DTSTART:20250309T070000
END:DAYLIGHT
BEGIN:STANDARD
TZOFFSETFROM:-0400
TZOFFSETTO:-0500
TZNAME:EST
DTSTART:20251102T060000
END:STANDARD
BEGIN:DAYLIGHT
TZOFFSETFROM:-0500
TZOFFSETTO:-0400
TZNAME:EDT
DTSTART:20260308T070000
END:DAYLIGHT
BEGIN:STANDARD
TZOFFSETFROM:-0400
TZOFFSETTO:-0500
TZNAME:EST
DTSTART:20261101T060000
END:STANDARD
END:VTIMEZONE
BEGIN:VEVENT
DTSTART;TZID=America/New_York:20251022T090000
DTEND;TZID=America/New_York:20251022T123000
DTSTAMP:20260424T061155
CREATED:20250920T084023Z
LAST-MODIFIED:20251020T083925Z
UID:10006815-1761123600-1761136200@chassellmarket.com
SUMMARY:Treasurer Hours
DESCRIPTION:
URL:https://chassellmarket.com/community-calendar/treasurer-hours-14/
LOCATION:MI
CATEGORIES:Events
END:VEVENT
BEGIN:VEVENT
DTSTART;TZID=America/New_York:20251022T100000
DTEND;TZID=America/New_York:20251022T120000
DTSTAMP:20260424T061156
CREATED:20250928T104454Z
LAST-MODIFIED:20251019T104013Z
UID:10006887-1761127200-1761134400@chassellmarket.com
SUMMARY:Mohawk Playgroup
DESCRIPTION:The Keweenaw Family Resource Center playgroup will meet at the Horizons School in Mohawk. \nPlaygroup is for families in the area with children birth through 4 years of age. The playgroups provide an opportunity for children and parents to play in an environment that is supportive and nurturing. Morning playgroups are offered in the communities of Houghton\, and Mohawk.   \nPlaygroups are structured to allow children to explore and play at their own pace. We encourage parents to interact with their children at all times\, especially during snack time\, exploration time and during clean up. Playgroup coordinators are there to facilitate the sessions\, model appropriate adult behavior\, and interact with children in ways which will assist them in their learning and development of social skills. We strive for a positive experience for everyone. Playgroups are open to all area families. \nWhat to Expect at Playgroup:\n\nFree Play Time\, where children can choose to play with any toys they like.\nCircle time\, where the children are encouraged to sit in a group circle and sing songs and do finger plays.\nExploration time\, when children learn new things by free creation-finger painting\, coloring\, drawing.\nSnack time\, when children sit at the table with the other children and have a healthy snack.\nClean up time\, where both the children and their parents are required to participate. The snack is put away\, the toys put where they belong\, and the exploration area is tidied up.\n\nGet notification reminders for our playgroups by going to our event calendar\, then adding selected events to your Google calendar! Visit our Facebook page to stay informed on playgroup cancelations or other community events and resources.
URL:https://chassellmarket.com/community-calendar/mohawk-playgroup-50/
LOCATION:Horizons Alternative High School\, 110 Stanton Ave\, Mohawk\, MI\, United States
CATEGORIES:Events
GEO:47.304851;-88.361226
X-APPLE-STRUCTURED-LOCATION;VALUE=URI;X-ADDRESS=Horizons Alternative High School 110 Stanton Ave Mohawk MI United States;X-APPLE-RADIUS=500;X-TITLE=110 Stanton Ave:geo:-88.361226,47.304851
END:VEVENT
BEGIN:VEVENT
DTSTART;TZID=America/New_York:20251022T103000
DTEND;TZID=America/New_York:20251022T103000
DTSTAMP:20260424T061156
CREATED:20250928T104502Z
LAST-MODIFIED:20251019T104013Z
UID:10006888-1761129000-1761129000@chassellmarket.com
SUMMARY:Preschool Story Time
DESCRIPTION:Preschool story time meets each Wednesday at 10:30 and Thursday at 1:30 in the children’s area at the Portage Lake District Library. Children can enjoy a story\, and bring home a take-and-make craft bag.
URL:https://chassellmarket.com/community-calendar/preschool-story-time-231/
LOCATION:Portage Lake District Library\, 58 Huron St\, Houghton\, MI\, United States
CATEGORIES:Events
GEO:47.122079;-88.568186
X-APPLE-STRUCTURED-LOCATION;VALUE=URI;X-ADDRESS=Portage Lake District Library 58 Huron St Houghton MI United States;X-APPLE-RADIUS=500;X-TITLE=58 Huron St:geo:-88.568186,47.122079
END:VEVENT
BEGIN:VEVENT
DTSTART;TZID=America/New_York:20251022T110000
DTEND;TZID=America/New_York:20251022T133000
DTSTAMP:20260424T061156
CREATED:20250622T081126Z
LAST-MODIFIED:20251020T083925Z
UID:10006430-1761130800-1761139800@chassellmarket.com
SUMMARY:Senior Meals at the Fire Hall
DESCRIPTION:
URL:https://chassellmarket.com/community-calendar/senior-meals-at-the-fire-hall-260/
LOCATION:Chassell Township Fire Department\, 22098 7th St\, Chassell\, MI\, United States
CATEGORIES:Events
GEO:47.0219;-88.530903
X-APPLE-STRUCTURED-LOCATION;VALUE=URI;X-ADDRESS=Chassell Township Fire Department 22098 7th St Chassell MI United States;X-APPLE-RADIUS=500;X-TITLE=22098 7th St:geo:-88.530903,47.0219
END:VEVENT
BEGIN:VEVENT
DTSTART;TZID=America/New_York:20251022T123000
DTEND;TZID=America/New_York:20251022T150000
DTSTAMP:20260424T061156
CREATED:20251020T083925Z
LAST-MODIFIED:20251020T083925Z
UID:10006976-1761136200-1761145200@chassellmarket.com
SUMMARY:W/S Clerk Hours
DESCRIPTION:
URL:https://chassellmarket.com/community-calendar/w-s-clerk-hours-3/
LOCATION:41950 Willson Memorial Dr\, Chassell\, MI\, United States
CATEGORIES:Events
GEO:47.020152;-88.572499
END:VEVENT
BEGIN:VEVENT
DTSTART;TZID=America/New_York:20251022T140000
DTEND;TZID=America/New_York:20251022T140000
DTSTAMP:20260424T061156
CREATED:20250928T104504Z
LAST-MODIFIED:20251019T104013Z
UID:10006889-1761141600-1761141600@chassellmarket.com
SUMMARY:Bingo - South Range
DESCRIPTION:The South Range Eagles Hall hosts Bingo every Wednesday. All are welcome.
URL:https://chassellmarket.com/community-calendar/bingo-south-range-134/
LOCATION:South Range Eagles\, 8 Baltic Ave\, South Range\, MI\, United States
CATEGORIES:Events
GEO:47.070836;-88.640432
X-APPLE-STRUCTURED-LOCATION;VALUE=URI;X-ADDRESS=South Range Eagles 8 Baltic Ave South Range MI United States;X-APPLE-RADIUS=500;X-TITLE=8 Baltic Ave:geo:-88.640432,47.070836
END:VEVENT
BEGIN:VEVENT
DTSTART;TZID=America/New_York:20251022T160000
DTEND;TZID=America/New_York:20251022T160000
DTSTAMP:20260424T061156
CREATED:20250928T104504Z
LAST-MODIFIED:20251019T104019Z
UID:10006890-1761148800-1761148800@chassellmarket.com
SUMMARY:Gentle Exercise Class - Lake Linden
DESCRIPTION:The Lake Linden United Methodist Church hosts a weekly gentle chair exercise group. All are welcome\, at no charge. Sessions are approximately 20 minutes long.
URL:https://chassellmarket.com/community-calendar/gentle-exercise-class-lake-linden-36/
LOCATION:Lake Linden United Methodist Church\, 53237 N Ave\, Lake Linden\, MI\, United States
CATEGORIES:Events
GEO:47.188547;-88.411956
X-APPLE-STRUCTURED-LOCATION;VALUE=URI;X-ADDRESS=Lake Linden United Methodist Church 53237 N Ave Lake Linden MI United States;X-APPLE-RADIUS=500;X-TITLE=53237 N Ave:geo:-88.411956,47.188547
END:VEVENT
BEGIN:VEVENT
DTSTART;TZID=America/New_York:20251022T160000
DTEND;TZID=America/New_York:20251022T183000
DTSTAMP:20260424T061156
CREATED:20251020T083925Z
LAST-MODIFIED:20251020T083925Z
UID:10006977-1761148800-1761157800@chassellmarket.com
SUMMARY:W/S Clerk Hours
DESCRIPTION:
URL:https://chassellmarket.com/community-calendar/w-s-clerk-hours-4/
LOCATION:41950 Willson Memorial Dr\, Chassell\, MI\, United States
CATEGORIES:Events
GEO:47.020152;-88.572499
END:VEVENT
BEGIN:VEVENT
DTSTART;TZID=America/New_York:20251022T180000
DTEND;TZID=America/New_York:20251022T190000
DTSTAMP:20260424T061156
CREATED:20250622T081127Z
LAST-MODIFIED:20251020T083926Z
UID:10006431-1761156000-1761159600@chassellmarket.com
SUMMARY:Chassell Lions Meeting at VFW
DESCRIPTION:
URL:https://chassellmarket.com/community-calendar/chassell-lions-meeting-at-vfw-12/
LOCATION:Chassell VFW\, 41899 Wilson Memorial Dr\, Chassell\, MI\, United States
CATEGORIES:Events
GEO:47.022923;-88.527343
X-APPLE-STRUCTURED-LOCATION;VALUE=URI;X-ADDRESS=Chassell VFW 41899 Wilson Memorial Dr Chassell MI United States;X-APPLE-RADIUS=500;X-TITLE=41899 Wilson Memorial Dr:geo:-88.527343,47.022923
END:VEVENT
BEGIN:VEVENT
DTSTART;TZID=America/New_York:20251023T000000
DTEND;TZID=America/New_York:20251023T235959
DTSTAMP:20260424T061156
CREATED:20251005T104741Z
LAST-MODIFIED:20251019T104019Z
UID:10006893-1761177600-1761263999@chassellmarket.com
SUMMARY:AA Meetings
DESCRIPTION:For an up to date list of all AA meetings in the Copper Country\, click here.
URL:https://chassellmarket.com/community-calendar/aa-meetings-932/
LOCATION:MI
CATEGORIES:Events
END:VEVENT
BEGIN:VEVENT
DTSTART;TZID=America/New_York:20251023T090000
DTEND;TZID=America/New_York:20251023T130000
DTSTAMP:20260424T061156
CREATED:20250920T084036Z
LAST-MODIFIED:20251020T083926Z
UID:10006816-1761210000-1761224400@chassellmarket.com
SUMMARY:Treasurer Hours
DESCRIPTION:
URL:https://chassellmarket.com/community-calendar/treasurer-hours-15/
LOCATION:MI
CATEGORIES:Events
END:VEVENT
BEGIN:VEVENT
DTSTART;TZID=America/New_York:20251023T133000
DTEND;TZID=America/New_York:20251023T133000
DTSTAMP:20260424T061156
CREATED:20250928T104505Z
LAST-MODIFIED:20251019T104019Z
UID:10006891-1761226200-1761226200@chassellmarket.com
SUMMARY:Preschool Story Time
DESCRIPTION:Preschool story time meets each Wednesday at 10:30 and Thursday at 1:30 in the children's area at the Portage Lake District Library. Children can enjoy a story\, and bring home a take-and-make craft bag.
URL:https://chassellmarket.com/community-calendar/preschool-story-time-232/
LOCATION:Portage Lake District Library\, 58 Huron St\, Houghton\, MI\, United States
CATEGORIES:Events
GEO:47.122079;-88.568186
X-APPLE-STRUCTURED-LOCATION;VALUE=URI;X-ADDRESS=Portage Lake District Library 58 Huron St Houghton MI United States;X-APPLE-RADIUS=500;X-TITLE=58 Huron St:geo:-88.568186,47.122079
END:VEVENT
BEGIN:VEVENT
DTSTART;TZID=America/New_York:20251024T000000
DTEND;TZID=America/New_York:20251024T235959
DTSTAMP:20260424T061156
CREATED:20251005T104746Z
LAST-MODIFIED:20251019T104019Z
UID:10006895-1761264000-1761350399@chassellmarket.com
SUMMARY:AA Meetings
DESCRIPTION:For an up to date list of all AA meetings in the Copper Country\, click here.
URL:https://chassellmarket.com/community-calendar/aa-meetings-934/
LOCATION:MI
CATEGORIES:Events
END:VEVENT
BEGIN:VEVENT
DTSTART;TZID=America/New_York:20251024T090000
DTEND;TZID=America/New_York:20251024T120000
DTSTAMP:20260424T061156
CREATED:20250928T104505Z
LAST-MODIFIED:20251019T104033Z
UID:10006892-1761296400-1761307200@chassellmarket.com
SUMMARY:Treehouse Playgroup
DESCRIPTION:The Keweenaw Family Resource Center playgroup will meet at the Tree House Indoor Playground. \nPlaygroup is for families in the area with children birth through 4 years of age. The playgroups provide an opportunity for children and parents to play in an environment that is supportive and nurturing. Morning playgroups are offered in the communities of Houghton\, and Mohawk.   \nPlaygroups are structured to allow children to explore and play at their own pace. We encourage parents to interact with their children at all times\, especially during snack time\, exploration time and during clean up. Playgroup coordinators are there to facilitate the sessions\, model appropriate adult behavior\, and interact with children in ways which will assist them in their learning and development of social skills. We strive for a positive experience for everyone. Playgroups are open to all area families. \nWhat to Expect at Playgroup:\n\nFree Play Time\, where children can choose to play with any toys they like.\nCircle time\, where the children are encouraged to sit in a group circle and sing songs and do finger plays.\nExploration time\, when children learn new things by free creation-finger painting\, coloring\, drawing.\nSnack time\, when children sit at the table with the other children and have a healthy snack.\nClean up time\, where both the children and their parents are required to participate. The snack is put away\, the toys put where they belong\, and the exploration area is tidied up.\n\nGet notification reminders for our playgroups by going to our event calendar\, then adding selected events to your Google calendar! Visit our Facebook page to stay informed on playgroup cancelations or other community events and resources.
URL:https://chassellmarket.com/community-calendar/treehouse-playgroup-109/
LOCATION:The Tree House Indoor Playground\, 850 W Sharon Ave\, Houghton\, MI\, United States
CATEGORIES:Events
GEO:47.113224;-88.585758
X-APPLE-STRUCTURED-LOCATION;VALUE=URI;X-ADDRESS=The Tree House Indoor Playground 850 W Sharon Ave Houghton MI United States;X-APPLE-RADIUS=500;X-TITLE=850 W Sharon Ave:geo:-88.585758,47.113224
END:VEVENT
BEGIN:VEVENT
DTSTART;TZID=America/New_York:20251025T000000
DTEND;TZID=America/New_York:20251025T235959
DTSTAMP:20260424T061156
CREATED:20251020T083938Z
LAST-MODIFIED:20251020T083938Z
UID:10006978-1761350400-1761436799@chassellmarket.com
SUMMARY:Make a Difference Day
DESCRIPTION:
URL:https://chassellmarket.com/community-calendar/make-a-difference-day/
LOCATION:MI
CATEGORIES:Events
END:VEVENT
BEGIN:VEVENT
DTSTART;TZID=America/New_York:20251025T000000
DTEND;TZID=America/New_York:20251025T235959
DTSTAMP:20260424T061156
CREATED:20251005T104745Z
LAST-MODIFIED:20251019T104034Z
UID:10006894-1761350400-1761436799@chassellmarket.com
SUMMARY:AA Meetings
DESCRIPTION:For an up to date list of all AA meetings in the Copper Country\, click here.
URL:https://chassellmarket.com/community-calendar/aa-meetings-933/
LOCATION:MI
CATEGORIES:Events
END:VEVENT
BEGIN:VEVENT
DTSTART;TZID=America/New_York:20251026T000000
DTEND;TZID=America/New_York:20251026T235959
DTSTAMP:20260424T061156
CREATED:20251005T104750Z
LAST-MODIFIED:20251026T103945Z
UID:10006899-1761436800-1761523199@chassellmarket.com
SUMMARY:AA Meetings
DESCRIPTION:For an up to date list of all AA meetings in the Copper Country\, click here.
URL:https://chassellmarket.com/community-calendar/aa-meetings-936/
LOCATION:MI
CATEGORIES:Events
END:VEVENT
BEGIN:VEVENT
DTSTART;TZID=America/New_York:20251026T140000
DTEND;TZID=America/New_York:20251026T170000
DTSTAMP:20260424T061156
CREATED:20251005T104746Z
LAST-MODIFIED:20251026T103945Z
UID:10006896-1761487200-1761498000@chassellmarket.com
SUMMARY:Polka Dance - South Range
DESCRIPTION:The South Range Eagles Club hosts polka dances with live music each Sunday. All are welcome.
URL:https://chassellmarket.com/community-calendar/polka-dance-south-range-134/
LOCATION:South Range Eagles\, 8 Baltic Ave\, South Range\, MI\, United States
CATEGORIES:Events
GEO:47.070836;-88.640432
X-APPLE-STRUCTURED-LOCATION;VALUE=URI;X-ADDRESS=South Range Eagles 8 Baltic Ave South Range MI United States;X-APPLE-RADIUS=500;X-TITLE=8 Baltic Ave:geo:-88.640432,47.070836
END:VEVENT
BEGIN:VEVENT
DTSTART;TZID=America/New_York:20251027T000000
DTEND;TZID=America/New_York:20251027T235959
DTSTAMP:20260424T061156
CREATED:20251005T104747Z
LAST-MODIFIED:20251026T103945Z
UID:10006898-1761523200-1761609599@chassellmarket.com
SUMMARY:AA Meetings
DESCRIPTION:For an up to date list of all AA meetings in the Copper Country\, click here.
URL:https://chassellmarket.com/community-calendar/aa-meetings-935/
LOCATION:MI
CATEGORIES:Events
END:VEVENT
BEGIN:VEVENT
DTSTART;TZID=America/New_York:20251027T090000
DTEND;TZID=America/New_York:20251027T120000
DTSTAMP:20260424T061156
CREATED:20251005T104751Z
LAST-MODIFIED:20251026T103953Z
UID:10006900-1761555600-1761566400@chassellmarket.com
SUMMARY:Treehouse Playgroup
DESCRIPTION:The Keweenaw Family Resource Center playgroup will meet at the Tree House Indoor Playground. \nPlaygroup is for families in the area with children birth through 4 years of age. The playgroups provide an opportunity for children and parents to play in an environment that is supportive and nurturing. Morning playgroups are offered in the communities of Houghton\, and Mohawk.   \nPlaygroups are structured to allow children to explore and play at their own pace. We encourage parents to interact with their children at all times\, especially during snack time\, exploration time and during clean up. Playgroup coordinators are there to facilitate the sessions\, model appropriate adult behavior\, and interact with children in ways which will assist them in their learning and development of social skills. We strive for a positive experience for everyone. Playgroups are open to all area families. \nWhat to Expect at Playgroup:\n\nFree Play Time\, where children can choose to play with any toys they like.\nCircle time\, where the children are encouraged to sit in a group circle and sing songs and do finger plays.\nExploration time\, when children learn new things by free creation-finger painting\, coloring\, drawing.\nSnack time\, when children sit at the table with the other children and have a healthy snack.\nClean up time\, where both the children and their parents are required to participate. The snack is put away\, the toys put where they belong\, and the exploration area is tidied up.\n\nGet notification reminders for our playgroups by going to our event calendar\, then adding selected events to your Google calendar! Visit our Facebook page to stay informed on playgroup cancelations or other community events and resources.
URL:https://chassellmarket.com/community-calendar/treehouse-playgroup-110/
LOCATION:The Tree House Indoor Playground\, 850 W Sharon Ave\, Houghton\, MI\, United States
CATEGORIES:Events
GEO:47.113224;-88.585758
X-APPLE-STRUCTURED-LOCATION;VALUE=URI;X-ADDRESS=The Tree House Indoor Playground 850 W Sharon Ave Houghton MI United States;X-APPLE-RADIUS=500;X-TITLE=850 W Sharon Ave:geo:-88.585758,47.113224
END:VEVENT
BEGIN:VEVENT
DTSTART;TZID=America/New_York:20251027T090000
DTEND;TZID=America/New_York:20251027T123000
DTSTAMP:20260424T061156
CREATED:20250920T084037Z
LAST-MODIFIED:20251020T083938Z
UID:10006817-1761555600-1761568200@chassellmarket.com
SUMMARY:Treasurer Hours
DESCRIPTION:
URL:https://chassellmarket.com/community-calendar/treasurer-hours-16/
LOCATION:MI
CATEGORIES:Events
END:VEVENT
BEGIN:VEVENT
DTSTART;TZID=America/New_York:20251027T110000
DTEND;TZID=America/New_York:20251027T133000
DTSTAMP:20260424T061156
CREATED:20250622T081127Z
LAST-MODIFIED:20251020T083938Z
UID:10006432-1761562800-1761571800@chassellmarket.com
SUMMARY:Senior Meals at the Fire Hall
DESCRIPTION:
URL:https://chassellmarket.com/community-calendar/senior-meals-at-the-fire-hall-261/
LOCATION:Chassell Township Fire Department\, 22098 7th St\, Chassell\, MI\, United States
CATEGORIES:Events
GEO:47.0219;-88.530903
X-APPLE-STRUCTURED-LOCATION;VALUE=URI;X-ADDRESS=Chassell Township Fire Department 22098 7th St Chassell MI United States;X-APPLE-RADIUS=500;X-TITLE=22098 7th St:geo:-88.530903,47.0219
END:VEVENT
BEGIN:VEVENT
DTSTART;TZID=America/New_York:20251027T123000
DTEND;TZID=America/New_York:20251027T150000
DTSTAMP:20260424T061156
CREATED:20251020T083938Z
LAST-MODIFIED:20251020T083938Z
UID:10006979-1761568200-1761577200@chassellmarket.com
SUMMARY:W/S Clerk Hours
DESCRIPTION:
URL:https://chassellmarket.com/community-calendar/w-s-clerk-hours-5/
LOCATION:41950 Willson Memorial Dr\, Chassell\, MI\, United States
CATEGORIES:Events
GEO:47.020152;-88.572499
END:VEVENT
BEGIN:VEVENT
DTSTART;TZID=America/New_York:20251027T130000
DTEND;TZID=America/New_York:20251027T180000
DTSTAMP:20260424T061156
CREATED:20250622T081127Z
LAST-MODIFIED:20250920T084037Z
UID:10006433-1761570000-1761588000@chassellmarket.com
SUMMARY:Township Clerk Office Hours
DESCRIPTION:
URL:https://chassellmarket.com/community-calendar/township-clerk-office-hours-77/
LOCATION:MI
CATEGORIES:Events
END:VEVENT
BEGIN:VEVENT
DTSTART;TZID=America/New_York:20251027T160000
DTEND;TZID=America/New_York:20251027T180000
DTSTAMP:20260424T061156
CREATED:20251005T104747Z
LAST-MODIFIED:20251026T103945Z
UID:10006897-1761580800-1761588000@chassellmarket.com
SUMMARY:Chess Club
DESCRIPTION:Chess enthusiasts of all levels are invited to join the weekly Chess Club at the Portage Lake District Library. Whether you’re a beginner or a seasoned player\, you’ll find a welcoming environment to learn\, play\, and compete. Activities start at 4:00 pm\, followed by skill-building exercises at 5:00 pm to enhance your gameplay. Open to those ages 7 and up\, this is a great opportunity to meet new friends and challenge your mind.
URL:https://chassellmarket.com/community-calendar/chess-club-40/
LOCATION:Portage Lake District Library\, 58 Huron St\, Houghton\, MI\, United States
CATEGORIES:Events
GEO:47.122079;-88.568186
X-APPLE-STRUCTURED-LOCATION;VALUE=URI;X-ADDRESS=Portage Lake District Library 58 Huron St Houghton MI United States;X-APPLE-RADIUS=500;X-TITLE=58 Huron St:geo:-88.568186,47.122079
END:VEVENT
BEGIN:VEVENT
DTSTART;TZID=America/New_York:20251027T160000
DTEND;TZID=America/New_York:20251027T183000
DTSTAMP:20260424T061156
CREATED:20251020T083939Z
LAST-MODIFIED:20251020T083939Z
UID:10006980-1761580800-1761589800@chassellmarket.com
SUMMARY:W/S Clerk Hours
DESCRIPTION:
URL:https://chassellmarket.com/community-calendar/w-s-clerk-hours-6/
LOCATION:41950 Willson Memorial Dr\, Chassell\, MI\, United States
CATEGORIES:Events
GEO:47.020152;-88.572499
END:VEVENT
BEGIN:VEVENT
DTSTART;TZID=America/New_York:20251027T183000
DTEND;TZID=America/New_York:20251027T183000
DTSTAMP:20260424T061156
CREATED:20251005T104751Z
LAST-MODIFIED:20251026T103953Z
UID:10006901-1761589800-1761589800@chassellmarket.com
SUMMARY:Celebrate Recovery Support Group - Houghton
DESCRIPTION:The Celebrate Recovery group at Evangel Community Church meets weekly Mondays at 6:30. The group provides a safe place to find freedom and healing\, offering hope\, support\, and real change. \nCome as you are – all are welcome. For more information\, text “recovery” to 906-254-5444 or visit the church website.
URL:https://chassellmarket.com/community-calendar/celebrate-recovery-support-group-houghton-33/
LOCATION:Evangel Community Church\, 1600 Memorial Dr\, Houghton\, MI\, United States
CATEGORIES:Events
GEO:47.104042;-88.595585
X-APPLE-STRUCTURED-LOCATION;VALUE=URI;X-ADDRESS=Evangel Community Church 1600 Memorial Dr Houghton MI United States;X-APPLE-RADIUS=500;X-TITLE=1600 Memorial Dr:geo:-88.595585,47.104042
END:VEVENT
BEGIN:VEVENT
DTSTART;TZID=America/New_York:20251028T000000
DTEND;TZID=America/New_York:20251028T235959
DTSTAMP:20260424T061156
CREATED:20251005T104751Z
LAST-MODIFIED:20251026T103945Z
UID:10006903-1761609600-1761695999@chassellmarket.com
SUMMARY:AA Meetings
DESCRIPTION:For an up to date list of all AA meetings in the Copper Country\, click here.
URL:https://chassellmarket.com/community-calendar/aa-meetings-937/
LOCATION:MI
CATEGORIES:Events
END:VEVENT
BEGIN:VEVENT
DTSTART;TZID=America/New_York:20251028T100000
DTEND;TZID=America/New_York:20251028T100000
DTSTAMP:20260424T061156
CREATED:20251005T104751Z
LAST-MODIFIED:20251026T103953Z
UID:10006902-1761645600-1761645600@chassellmarket.com
SUMMARY:Gentle Exercise Class
DESCRIPTION:UP Health System-Portage presents a free gentle exercise class the last Tuesday of each month at Grace Lutheran Church in South Range. The focus will include strength\, cardio and flexibility to improve overall fitness. Options will be given for standing or chair-based workouts. No equipment or registration is needed.
URL:https://chassellmarket.com/community-calendar/gentle-exercise-class-22/
LOCATION:Grace Lutheran Church\, 4 M-26\, South Range\, MI\, United States
CATEGORIES:Events
GEO:47.07058;-88.640502
X-APPLE-STRUCTURED-LOCATION;VALUE=URI;X-ADDRESS=Grace Lutheran Church 4 M-26 South Range MI United States;X-APPLE-RADIUS=500;X-TITLE=4 M-26:geo:-88.640502,47.07058
END:VEVENT
BEGIN:VEVENT
DTSTART;TZID=America/New_York:20251028T130000
DTEND;TZID=America/New_York:20251028T130000
DTSTAMP:20260424T061156
CREATED:20251005T104802Z
LAST-MODIFIED:20251026T103953Z
UID:10006904-1761656400-1761656400@chassellmarket.com
SUMMARY:Bridge Games
DESCRIPTION:The Baragaland Senior Center hosts Bridge games each Tuesday at 1.
URL:https://chassellmarket.com/community-calendar/bridge-games-41/
LOCATION:Baragaland Senior Citizens Center\, 6 N Main St\, L'Anse\, MI\, United States
CATEGORIES:Events
GEO:46.757969;-88.454464
X-APPLE-STRUCTURED-LOCATION;VALUE=URI;X-ADDRESS=Baragaland Senior Citizens Center 6 N Main St L'Anse MI United States;X-APPLE-RADIUS=500;X-TITLE=6 N Main St:geo:-88.454464,46.757969
END:VEVENT
END:VCALENDAR