BEGIN:VCALENDAR
VERSION:2.0
PRODID:-//Chassell Farmers Market &amp; Houghton Indoor Farm and Craft Market - ECPv6.15.17//NONSGML v1.0//EN
CALSCALE:GREGORIAN
METHOD:PUBLISH
X-WR-CALNAME:Chassell Farmers Market &amp; Houghton Indoor Farm and Craft Market
X-ORIGINAL-URL:https://chassellmarket.com
X-WR-CALDESC:Events for Chassell Farmers Market &amp; Houghton Indoor Farm and Craft Market
REFRESH-INTERVAL;VALUE=DURATION:PT1H
X-Robots-Tag:noindex
X-PUBLISHED-TTL:PT1H
BEGIN:VTIMEZONE
TZID:America/New_York
BEGIN:DAYLIGHT
TZOFFSETFROM:-0500
TZOFFSETTO:-0400
TZNAME:EDT
DTSTART:20240310T070000
END:DAYLIGHT
BEGIN:STANDARD
TZOFFSETFROM:-0400
TZOFFSETTO:-0500
TZNAME:EST
DTSTART:20241103T060000
END:STANDARD
BEGIN:DAYLIGHT
TZOFFSETFROM:-0500
TZOFFSETTO:-0400
TZNAME:EDT
DTSTART:20250309T070000
END:DAYLIGHT
BEGIN:STANDARD
TZOFFSETFROM:-0400
TZOFFSETTO:-0500
TZNAME:EST
DTSTART:20251102T060000
END:STANDARD
BEGIN:DAYLIGHT
TZOFFSETFROM:-0500
TZOFFSETTO:-0400
TZNAME:EDT
DTSTART:20260308T070000
END:DAYLIGHT
BEGIN:STANDARD
TZOFFSETFROM:-0400
TZOFFSETTO:-0500
TZNAME:EST
DTSTART:20261101T060000
END:STANDARD
END:VTIMEZONE
BEGIN:VEVENT
DTSTART;TZID=America/New_York:20250916T150000
DTEND;TZID=America/New_York:20250916T180000
DTSTAMP:20260423T214129
CREATED:20250821T082544Z
LAST-MODIFIED:20250821T082544Z
UID:10006673-1758034800-1758045600@chassellmarket.com
SUMMARY:Blood Drive
DESCRIPTION:
URL:https://chassellmarket.com/community-calendar/blood-drive/
LOCATION:Chassell Township Fire Department\, 22098 7th St\, Chassell\, MI\, United States
CATEGORIES:Events
GEO:47.0219;-88.530903
X-APPLE-STRUCTURED-LOCATION;VALUE=URI;X-ADDRESS=Chassell Township Fire Department 22098 7th St Chassell MI United States;X-APPLE-RADIUS=500;X-TITLE=22098 7th St:geo:-88.530903,47.0219
END:VEVENT
BEGIN:VEVENT
DTSTART;TZID=America/New_York:20250916T160000
DTEND;TZID=America/New_York:20250916T160000
DTSTAMP:20260423T214129
CREATED:20250824T102955Z
LAST-MODIFIED:20250914T103954Z
UID:10006705-1758038400-1758038400@chassellmarket.com
SUMMARY:Cribbage League
DESCRIPTION:The Cribbage League meets each Tuesday at Armando’s in Houghton. All ages and skill levels are welcome. To get involved\, call or text 906-482-2422\, or just show up at a session.
URL:https://chassellmarket.com/community-calendar/cribbage-league-48/
LOCATION:Armando’s Restaurant\, 517 Shelden Ave\, Houghton\, MI\, United States
CATEGORIES:Events
GEO:47.121788;-88.567979
X-APPLE-STRUCTURED-LOCATION;VALUE=URI;X-ADDRESS=Armando’s Restaurant 517 Shelden Ave Houghton MI United States;X-APPLE-RADIUS=500;X-TITLE=517 Shelden Ave:geo:-88.567979,47.121788
END:VEVENT
BEGIN:VEVENT
DTSTART;TZID=America/New_York:20250916T183000
DTEND;TZID=America/New_York:20250916T183000
DTSTAMP:20260423T214129
CREATED:20250824T103009Z
LAST-MODIFIED:20250914T104008Z
UID:10006708-1758047400-1758047400@chassellmarket.com
SUMMARY:Celebrate Recovery Support Group - L'Anse
DESCRIPTION:The Celebrate Recovery group at Northiron Church in L’Anse meets weekly Mondays at 6:30. The group provides a safe place to find freedom and healing\, offering hope\, support\, and real change.
URL:https://chassellmarket.com/community-calendar/celebrate-recovery-support-group-lanse-29/
LOCATION:Northiron Church\, 46001 Hwy US 41\, Houghton\, MI\, United States
CATEGORIES:Events
GEO:47.08307;-88.516647
X-APPLE-STRUCTURED-LOCATION;VALUE=URI;X-ADDRESS=Northiron Church 46001 Hwy US 41 Houghton MI United States;X-APPLE-RADIUS=500;X-TITLE=46001 Hwy US 41:geo:-88.516647,47.08307
END:VEVENT
BEGIN:VEVENT
DTSTART;TZID=America/New_York:20250916T190000
DTEND;TZID=America/New_York:20250916T190000
DTSTAMP:20260423T214129
CREATED:20250824T102955Z
LAST-MODIFIED:20250914T104008Z
UID:10006706-1758049200-1758049200@chassellmarket.com
SUMMARY:VetsForJesus Meeting
DESCRIPTION: VetsForJesus is a veteran-led Bible study for veterans and whoever else wants to attend.  Typically\, they read a small portion of the Bible and talk about it around the table.
URL:https://chassellmarket.com/community-calendar/vetsforjesus-meeting-126/
LOCATION:VFW HALL- POST 4624\, 52218 Duncan Ave\, Hubbell\, MI\, United States
CATEGORIES:Events
GEO:47.174133;-88.427997
X-APPLE-STRUCTURED-LOCATION;VALUE=URI;X-ADDRESS=VFW HALL- POST 4624 52218 Duncan Ave Hubbell MI United States;X-APPLE-RADIUS=500;X-TITLE=52218 Duncan Ave:geo:-88.427997,47.174133
END:VEVENT
BEGIN:VEVENT
DTSTART;TZID=America/New_York:20250917T000000
DTEND;TZID=America/New_York:20250917T235959
DTSTAMP:20260423T214129
CREATED:20250824T103010Z
LAST-MODIFIED:20250914T104030Z
UID:10006711-1758067200-1758153599@chassellmarket.com
SUMMARY:AA Meetings
DESCRIPTION:For an up to date list of all AA meetings in the Copper Country\, click here.
URL:https://chassellmarket.com/community-calendar/aa-meetings-896/
LOCATION:MI
CATEGORIES:Events
END:VEVENT
BEGIN:VEVENT
DTSTART;TZID=America/New_York:20250917T100000
DTEND;TZID=America/New_York:20250917T120000
DTSTAMP:20260423T214129
CREATED:20250824T103010Z
LAST-MODIFIED:20250914T104008Z
UID:10006709-1758103200-1758110400@chassellmarket.com
SUMMARY:Mohawk Playgroup
DESCRIPTION:The Keweenaw Family Resource Center playgroup will meet at the Horizons School in Mohawk. \nPlaygroup is for families in the area with children birth through 4 years of age. The playgroups provide an opportunity for children and parents to play in an environment that is supportive and nurturing. Morning playgroups are offered in the communities of Houghton\, and Mohawk.   \nPlaygroups are structured to allow children to explore and play at their own pace. We encourage parents to interact with their children at all times\, especially during snack time\, exploration time and during clean up. Playgroup coordinators are there to facilitate the sessions\, model appropriate adult behavior\, and interact with children in ways which will assist them in their learning and development of social skills. We strive for a positive experience for everyone. Playgroups are open to all area families. \nWhat to Expect at Playgroup:\n\nFree Play Time\, where children can choose to play with any toys they like.\nCircle time\, where the children are encouraged to sit in a group circle and sing songs and do finger plays.\nExploration time\, when children learn new things by free creation-finger painting\, coloring\, drawing.\nSnack time\, when children sit at the table with the other children and have a healthy snack.\nClean up time\, where both the children and their parents are required to participate. The snack is put away\, the toys put where they belong\, and the exploration area is tidied up.\n\nGet notification reminders for our playgroups by going to our event calendar\, then adding selected events to your Google calendar! Visit our Facebook page to stay informed on playgroup cancelations or other community events and resources.
URL:https://chassellmarket.com/community-calendar/mohawk-playgroup-45/
LOCATION:Horizons Alternative High School\, 110 Stanton Ave\, Mohawk\, MI\, United States
CATEGORIES:Events
GEO:47.304851;-88.361226
X-APPLE-STRUCTURED-LOCATION;VALUE=URI;X-ADDRESS=Horizons Alternative High School 110 Stanton Ave Mohawk MI United States;X-APPLE-RADIUS=500;X-TITLE=110 Stanton Ave:geo:-88.361226,47.304851
END:VEVENT
BEGIN:VEVENT
DTSTART;TZID=America/New_York:20250917T103000
DTEND;TZID=America/New_York:20250917T103000
DTSTAMP:20260423T214129
CREATED:20250824T103010Z
LAST-MODIFIED:20250914T104008Z
UID:10006710-1758105000-1758105000@chassellmarket.com
SUMMARY:Preschool Story Time
DESCRIPTION:Preschool story time meets each Wednesday at 10:30 and Thursday at 1:30 in the children’s area at the Portage Lake District Library. Children can enjoy a story\, and bring home a take-and-make craft bag.
URL:https://chassellmarket.com/community-calendar/preschool-story-time-221/
LOCATION:Portage Lake District Library\, 58 Huron St\, Houghton\, MI\, United States
CATEGORIES:Events
GEO:47.122079;-88.568186
X-APPLE-STRUCTURED-LOCATION;VALUE=URI;X-ADDRESS=Portage Lake District Library 58 Huron St Houghton MI United States;X-APPLE-RADIUS=500;X-TITLE=58 Huron St:geo:-88.568186,47.122079
END:VEVENT
BEGIN:VEVENT
DTSTART;TZID=America/New_York:20250917T110000
DTEND;TZID=America/New_York:20250917T133000
DTSTAMP:20260423T214129
CREATED:20250522T114136Z
LAST-MODIFIED:20250821T082544Z
UID:10006228-1758106800-1758115800@chassellmarket.com
SUMMARY:Senior Meals at the Fire Hall
DESCRIPTION:
URL:https://chassellmarket.com/community-calendar/senior-meals-at-the-fire-hall-250/
LOCATION:Chassell Township Fire Department\, 22098 7th St\, Chassell\, MI\, United States
CATEGORIES:Events
GEO:47.0219;-88.530903
X-APPLE-STRUCTURED-LOCATION;VALUE=URI;X-ADDRESS=Chassell Township Fire Department 22098 7th St Chassell MI United States;X-APPLE-RADIUS=500;X-TITLE=22098 7th St:geo:-88.530903,47.0219
END:VEVENT
BEGIN:VEVENT
DTSTART;TZID=America/New_York:20250917T140000
DTEND;TZID=America/New_York:20250917T140000
DTSTAMP:20260423T214129
CREATED:20250824T103019Z
LAST-MODIFIED:20250914T104009Z
UID:10006712-1758117600-1758117600@chassellmarket.com
SUMMARY:Bingo - South Range
DESCRIPTION:The South Range Eagles Hall hosts Bingo every Wednesday. All are welcome.
URL:https://chassellmarket.com/community-calendar/bingo-south-range-129/
LOCATION:South Range Eagles\, 8 Baltic Ave\, South Range\, MI\, United States
CATEGORIES:Events
GEO:47.070836;-88.640432
X-APPLE-STRUCTURED-LOCATION;VALUE=URI;X-ADDRESS=South Range Eagles 8 Baltic Ave South Range MI United States;X-APPLE-RADIUS=500;X-TITLE=8 Baltic Ave:geo:-88.640432,47.070836
END:VEVENT
BEGIN:VEVENT
DTSTART;TZID=America/New_York:20250917T160000
DTEND;TZID=America/New_York:20250917T160000
DTSTAMP:20260423T214129
CREATED:20250824T103019Z
LAST-MODIFIED:20250914T104030Z
UID:10006713-1758124800-1758124800@chassellmarket.com
SUMMARY:Gentle Exercise Class - Lake Linden
DESCRIPTION:The Lake Linden United Methodist Church hosts a weekly gentle chair exercise group. All are welcome\, at no charge. Sessions are approximately 20 minutes long.
URL:https://chassellmarket.com/community-calendar/gentle-exercise-class-lake-linden-31/
LOCATION:Lake Linden United Methodist Church\, 53237 N Ave\, Lake Linden\, MI\, United States
CATEGORIES:Events
GEO:47.188547;-88.411956
X-APPLE-STRUCTURED-LOCATION;VALUE=URI;X-ADDRESS=Lake Linden United Methodist Church 53237 N Ave Lake Linden MI United States;X-APPLE-RADIUS=500;X-TITLE=53237 N Ave:geo:-88.411956,47.188547
END:VEVENT
BEGIN:VEVENT
DTSTART;TZID=America/New_York:20250917T180000
DTEND;TZID=America/New_York:20250917T190000
DTSTAMP:20260423T214129
CREATED:20250522T114136Z
LAST-MODIFIED:20250821T082544Z
UID:10006230-1758132000-1758135600@chassellmarket.com
SUMMARY:Fire Responder Meeting
DESCRIPTION:
URL:https://chassellmarket.com/community-calendar/fire-responder-meeting-29/
LOCATION:Chassell Township Fire Department\, 22098 7th St\, Chassell\, MI\, United States
CATEGORIES:Events
GEO:47.0219;-88.530903
X-APPLE-STRUCTURED-LOCATION;VALUE=URI;X-ADDRESS=Chassell Township Fire Department 22098 7th St Chassell MI United States;X-APPLE-RADIUS=500;X-TITLE=22098 7th St:geo:-88.530903,47.0219
END:VEVENT
BEGIN:VEVENT
DTSTART;TZID=America/New_York:20250917T190000
DTEND;TZID=America/New_York:20250917T200000
DTSTAMP:20260423T214129
CREATED:20250522T114136Z
LAST-MODIFIED:20250821T082544Z
UID:10006229-1758135600-1758139200@chassellmarket.com
SUMMARY:Fire Department Meeting
DESCRIPTION:
URL:https://chassellmarket.com/community-calendar/fire-department-meeting-29/
LOCATION:Chassell Township Fire Department\, 22098 7th St\, Chassell\, MI\, United States
CATEGORIES:Events
GEO:47.0219;-88.530903
X-APPLE-STRUCTURED-LOCATION;VALUE=URI;X-ADDRESS=Chassell Township Fire Department 22098 7th St Chassell MI United States;X-APPLE-RADIUS=500;X-TITLE=22098 7th St:geo:-88.530903,47.0219
END:VEVENT
BEGIN:VEVENT
DTSTART;TZID=America/New_York:20250918T000000
DTEND;TZID=America/New_York:20250918T235959
DTSTAMP:20260423T214129
CREATED:20250824T103023Z
LAST-MODIFIED:20250914T104030Z
UID:10006718-1758153600-1758239999@chassellmarket.com
SUMMARY:AA Meetings
DESCRIPTION:For an up to date list of all AA meetings in the Copper Country\, click here.
URL:https://chassellmarket.com/community-calendar/aa-meetings-897/
LOCATION:MI
CATEGORIES:Events
END:VEVENT
BEGIN:VEVENT
DTSTART;TZID=America/New_York:20250918T133000
DTEND;TZID=America/New_York:20250918T133000
DTSTAMP:20260423T214129
CREATED:20250824T103019Z
LAST-MODIFIED:20250914T104030Z
UID:10006714-1758202200-1758202200@chassellmarket.com
SUMMARY:Preschool Story Time
DESCRIPTION:Preschool story time meets each Wednesday at 10:30 and Thursday at 1:30 in the children's area at the Portage Lake District Library. Children can enjoy a story\, and bring home a take-and-make craft bag.
URL:https://chassellmarket.com/community-calendar/preschool-story-time-222/
LOCATION:Portage Lake District Library\, 58 Huron St\, Houghton\, MI\, United States
CATEGORIES:Events
GEO:47.122079;-88.568186
X-APPLE-STRUCTURED-LOCATION;VALUE=URI;X-ADDRESS=Portage Lake District Library 58 Huron St Houghton MI United States;X-APPLE-RADIUS=500;X-TITLE=58 Huron St:geo:-88.568186,47.122079
END:VEVENT
BEGIN:VEVENT
DTSTART;TZID=America/New_York:20250918T150000
DTEND;TZID=America/New_York:20250918T150000
DTSTAMP:20260423T214129
CREATED:20250824T103019Z
LAST-MODIFIED:20250914T104030Z
UID:10006715-1758207600-1758207600@chassellmarket.com
SUMMARY:Caregivers Support Group
DESCRIPTION:The Baragaland Senior Center Caregiver’s Support Group meets every other Thursday at 3:00 (unless otherwise announced). Anyone caring for a loved one with dementia or Alzheimer’s is welcome. For more details\, call (906) 524-6711 or (906) 524-6922.
URL:https://chassellmarket.com/community-calendar/caregivers-support-group-26/
LOCATION:Baragaland Senior Citizens Center\, 6 N Main St\, L'Anse\, MI\, United States
CATEGORIES:Events
GEO:46.757969;-88.454464
X-APPLE-STRUCTURED-LOCATION;VALUE=URI;X-ADDRESS=Baragaland Senior Citizens Center 6 N Main St L'Anse MI United States;X-APPLE-RADIUS=500;X-TITLE=6 N Main St:geo:-88.454464,46.757969
END:VEVENT
BEGIN:VEVENT
DTSTART;TZID=America/New_York:20250918T170000
DTEND;TZID=America/New_York:20250918T170000
DTSTAMP:20260423T214129
CREATED:20250824T103020Z
LAST-MODIFIED:20250914T104051Z
UID:10006716-1758214800-1758214800@chassellmarket.com
SUMMARY:Omega House Grief Support Group
DESCRIPTION:Omega House’s Third Thursday Community Grief Support Group will meet from 5:00-6:00 in person at Omega House\, or via Zoom or phone. To reserve a place\, or to receive log in and phone information\, calling or texting Cynthia at 906-370-6686 or email cynthia.drake@omega-house.org by close of business the day before the meeting.
URL:https://chassellmarket.com/community-calendar/omega-house-grief-support-group-30/
LOCATION:Omega House\, 2211 Maureen Ln\, Houghton\, MI\, United States
CATEGORIES:Events
GEO:47.107531;-88.597713
X-APPLE-STRUCTURED-LOCATION;VALUE=URI;X-ADDRESS=Omega House 2211 Maureen Ln Houghton MI United States;X-APPLE-RADIUS=500;X-TITLE=2211 Maureen Ln:geo:-88.597713,47.107531
END:VEVENT
BEGIN:VEVENT
DTSTART;TZID=America/New_York:20250918T190000
DTEND;TZID=America/New_York:20250918T190000
DTSTAMP:20260423T214129
CREATED:20250824T103022Z
LAST-MODIFIED:20250914T104051Z
UID:10006717-1758222000-1758222000@chassellmarket.com
SUMMARY:Marine Corps League Meeting
DESCRIPTION:The Keweenaw Detachment #1016\, Marine Corps League meets on the third Thursday every month at 7:00 pm at the South Range VFW. Marine Corps veterans are invited to attend.
URL:https://chassellmarket.com/community-calendar/marine-corps-league-meeting-30/
LOCATION:Range Lounge & VFW\, 2 Baltic Ave\, South Range\, MI\, United States
CATEGORIES:Events
GEO:47.069797;-88.640509
X-APPLE-STRUCTURED-LOCATION;VALUE=URI;X-ADDRESS=Range Lounge & VFW 2 Baltic Ave South Range MI United States;X-APPLE-RADIUS=500;X-TITLE=2 Baltic Ave:geo:-88.640509,47.069797
END:VEVENT
BEGIN:VEVENT
DTSTART;TZID=America/New_York:20250919T000000
DTEND;TZID=America/New_York:20250919T235959
DTSTAMP:20260423T214129
CREATED:20250824T103024Z
LAST-MODIFIED:20250914T104051Z
UID:10006721-1758240000-1758326399@chassellmarket.com
SUMMARY:AA Meetings
DESCRIPTION:For an up to date list of all AA meetings in the Copper Country\, click here.
URL:https://chassellmarket.com/community-calendar/aa-meetings-899/
LOCATION:MI
CATEGORIES:Events
END:VEVENT
BEGIN:VEVENT
DTSTART;TZID=America/New_York:20250919T000000
DTEND;TZID=America/New_York:20250919T235959
DTSTAMP:20260423T214129
CREATED:20250622T081057Z
LAST-MODIFIED:20250821T082544Z
UID:10006408-1758240000-1758326399@chassellmarket.com
SUMMARY:Pavilion Not Available (NC)
DESCRIPTION:
URL:https://chassellmarket.com/community-calendar/pavilion-not-available-nc-23/
LOCATION:MI
CATEGORIES:Events
END:VEVENT
BEGIN:VEVENT
DTSTART;TZID=America/New_York:20250919T090000
DTEND;TZID=America/New_York:20250919T120000
DTSTAMP:20260423T214129
CREATED:20250824T103023Z
LAST-MODIFIED:20250914T104051Z
UID:10006719-1758272400-1758283200@chassellmarket.com
SUMMARY:Treehouse Playgroup
DESCRIPTION:The Keweenaw Family Resource Center playgroup will meet at the Tree House Indoor Playground. \nPlaygroup is for families in the area with children birth through 4 years of age. The playgroups provide an opportunity for children and parents to play in an environment that is supportive and nurturing. Morning playgroups are offered in the communities of Houghton\, and Mohawk.   \nPlaygroups are structured to allow children to explore and play at their own pace. We encourage parents to interact with their children at all times\, especially during snack time\, exploration time and during clean up. Playgroup coordinators are there to facilitate the sessions\, model appropriate adult behavior\, and interact with children in ways which will assist them in their learning and development of social skills. We strive for a positive experience for everyone. Playgroups are open to all area families. \nWhat to Expect at Playgroup:\n\nFree Play Time\, where children can choose to play with any toys they like.\nCircle time\, where the children are encouraged to sit in a group circle and sing songs and do finger plays.\nExploration time\, when children learn new things by free creation-finger painting\, coloring\, drawing.\nSnack time\, when children sit at the table with the other children and have a healthy snack.\nClean up time\, where both the children and their parents are required to participate. The snack is put away\, the toys put where they belong\, and the exploration area is tidied up.\n\nGet notification reminders for our playgroups by going to our event calendar\, then adding selected events to your Google calendar! Visit our Facebook page to stay informed on playgroup cancelations or other community events and resources.
URL:https://chassellmarket.com/community-calendar/treehouse-playgroup-99/
LOCATION:The Tree House Indoor Playground\, 850 W Sharon Ave\, Houghton\, MI\, United States
CATEGORIES:Events
GEO:47.113224;-88.585758
X-APPLE-STRUCTURED-LOCATION;VALUE=URI;X-ADDRESS=The Tree House Indoor Playground 850 W Sharon Ave Houghton MI United States;X-APPLE-RADIUS=500;X-TITLE=850 W Sharon Ave:geo:-88.585758,47.113224
END:VEVENT
BEGIN:VEVENT
DTSTART;TZID=America/New_York:20250920T000000
DTEND;TZID=America/New_York:20250920T235959
DTSTAMP:20260423T214129
CREATED:20250824T103024Z
LAST-MODIFIED:20250914T104051Z
UID:10006720-1758326400-1758412799@chassellmarket.com
SUMMARY:AA Meetings
DESCRIPTION:For an up to date list of all AA meetings in the Copper Country\, click here.
URL:https://chassellmarket.com/community-calendar/aa-meetings-898/
LOCATION:MI
CATEGORIES:Events
END:VEVENT
BEGIN:VEVENT
DTSTART;TZID=America/New_York:20250920T100000
DTEND;TZID=America/New_York:20250920T120000
DTSTAMP:20260423T214129
CREATED:20250831T104652Z
LAST-MODIFIED:20250914T104058Z
UID:10006722-1758362400-1758369600@chassellmarket.com
SUMMARY:STEAM Saturday
DESCRIPTION:Kaleidoscope’s STEAM Saturdays offer kids ages 5 and up an opportunity to experience hands-on science and art activities. Kaleidoscope staff will be available to assist\, and will provide supplemental and complementary activities so that all family members can be engaged in age-appropriate projects.  \nSTEAM Saturdays take place at Kaleidoscope’s classrooms\, on the fourth floor of the Hancock Community Hub on Quincy Street. All community members are welcome\, at no charge\, although donations to support Kaleidoscope are welcome. For more details\, click here.
URL:https://chassellmarket.com/community-calendar/steam-saturday-9/
LOCATION:Kaleidoscope\, 417 Quincy St\, Hancock\, MI\, United States
CATEGORIES:Events
GEO:47.126515;-88.585366
X-APPLE-STRUCTURED-LOCATION;VALUE=URI;X-ADDRESS=Kaleidoscope 417 Quincy St Hancock MI United States;X-APPLE-RADIUS=500;X-TITLE=417 Quincy St:geo:-88.585366,47.126515
END:VEVENT
BEGIN:VEVENT
DTSTART;TZID=America/New_York:20250921T000000
DTEND;TZID=America/New_York:20250921T235959
DTSTAMP:20260423T214129
CREATED:20250831T104652Z
LAST-MODIFIED:20250921T103959Z
UID:10006724-1758412800-1758499199@chassellmarket.com
SUMMARY:AA Meetings
DESCRIPTION:For an up to date list of all AA meetings in the Copper Country\, click here.
URL:https://chassellmarket.com/community-calendar/aa-meetings-900/
LOCATION:MI
CATEGORIES:Events
END:VEVENT
BEGIN:VEVENT
DTSTART;TZID=America/New_York:20250921T140000
DTEND;TZID=America/New_York:20250921T170000
DTSTAMP:20260423T214129
CREATED:20250831T104652Z
LAST-MODIFIED:20250921T103959Z
UID:10006723-1758463200-1758474000@chassellmarket.com
SUMMARY:Polka Dance - South Range
DESCRIPTION:The South Range Eagles Club hosts polka dances with live music each Sunday. All are welcome.
URL:https://chassellmarket.com/community-calendar/polka-dance-south-range-129/
LOCATION:South Range Eagles\, 8 Baltic Ave\, South Range\, MI\, United States
CATEGORIES:Events
GEO:47.070836;-88.640432
X-APPLE-STRUCTURED-LOCATION;VALUE=URI;X-ADDRESS=South Range Eagles 8 Baltic Ave South Range MI United States;X-APPLE-RADIUS=500;X-TITLE=8 Baltic Ave:geo:-88.640432,47.070836
END:VEVENT
BEGIN:VEVENT
DTSTART;TZID=America/New_York:20250921T160000
DTEND;TZID=America/New_York:20250921T173000
DTSTAMP:20260423T214129
CREATED:20250831T104715Z
LAST-MODIFIED:20250921T103959Z
UID:10006725-1758470400-1758475800@chassellmarket.com
SUMMARY:"Let's Eat" Community Meal
DESCRIPTION:The “Let’s Eat” community meal program offers a free dinner at Holy Trinity Lutheran Church in Chassell. All are welcome.
URL:https://chassellmarket.com/community-calendar/lets-eat-community-meal-7/
LOCATION:Holy Trinity Lutheran Church\, 41899 Wilson Memorial Dr\, Chassell\, MI\, United States
CATEGORIES:Events
GEO:47.022923;-88.527343
X-APPLE-STRUCTURED-LOCATION;VALUE=URI;X-ADDRESS=Holy Trinity Lutheran Church 41899 Wilson Memorial Dr Chassell MI United States;X-APPLE-RADIUS=500;X-TITLE=41899 Wilson Memorial Dr:geo:-88.527343,47.022923
END:VEVENT
BEGIN:VEVENT
DTSTART;TZID=America/New_York:20250922T000000
DTEND;TZID=America/New_York:20250922T235959
DTSTAMP:20260423T214129
CREATED:20250831T104716Z
LAST-MODIFIED:20250921T104002Z
UID:10006729-1758499200-1758585599@chassellmarket.com
SUMMARY:AA Meetings
DESCRIPTION:For an up to date list of all AA meetings in the Copper Country\, click here.
URL:https://chassellmarket.com/community-calendar/aa-meetings-901/
LOCATION:MI
CATEGORIES:Events
END:VEVENT
BEGIN:VEVENT
DTSTART;TZID=America/New_York:20250922T090000
DTEND;TZID=America/New_York:20250922T120000
DTSTAMP:20260423T214129
CREATED:20250831T104715Z
LAST-MODIFIED:20250921T103959Z
UID:10006726-1758531600-1758542400@chassellmarket.com
SUMMARY:Treehouse Playgroup
DESCRIPTION:The Keweenaw Family Resource Center playgroup will meet at the Tree House Indoor Playground. \nPlaygroup is for families in the area with children birth through 4 years of age. The playgroups provide an opportunity for children and parents to play in an environment that is supportive and nurturing. Morning playgroups are offered in the communities of Houghton\, and Mohawk.   \nPlaygroups are structured to allow children to explore and play at their own pace. We encourage parents to interact with their children at all times\, especially during snack time\, exploration time and during clean up. Playgroup coordinators are there to facilitate the sessions\, model appropriate adult behavior\, and interact with children in ways which will assist them in their learning and development of social skills. We strive for a positive experience for everyone. Playgroups are open to all area families. \nWhat to Expect at Playgroup:\n\nFree Play Time\, where children can choose to play with any toys they like.\nCircle time\, where the children are encouraged to sit in a group circle and sing songs and do finger plays.\nExploration time\, when children learn new things by free creation-finger painting\, coloring\, drawing.\nSnack time\, when children sit at the table with the other children and have a healthy snack.\nClean up time\, where both the children and their parents are required to participate. The snack is put away\, the toys put where they belong\, and the exploration area is tidied up.\n\nGet notification reminders for our playgroups by going to our event calendar\, then adding selected events to your Google calendar! Visit our Facebook page to stay informed on playgroup cancelations or other community events and resources.
URL:https://chassellmarket.com/community-calendar/treehouse-playgroup-100/
LOCATION:The Tree House Indoor Playground\, 850 W Sharon Ave\, Houghton\, MI\, United States
CATEGORIES:Events
GEO:47.113224;-88.585758
X-APPLE-STRUCTURED-LOCATION;VALUE=URI;X-ADDRESS=The Tree House Indoor Playground 850 W Sharon Ave Houghton MI United States;X-APPLE-RADIUS=500;X-TITLE=850 W Sharon Ave:geo:-88.585758,47.113224
END:VEVENT
BEGIN:VEVENT
DTSTART;TZID=America/New_York:20250922T090000
DTEND;TZID=America/New_York:20250922T123000
DTSTAMP:20260423T214129
CREATED:20250920T083940Z
LAST-MODIFIED:20250920T083940Z
UID:10006797-1758531600-1758544200@chassellmarket.com
SUMMARY:Treasurer Hours
DESCRIPTION:
URL:https://chassellmarket.com/community-calendar/treasurer-hours/
LOCATION:MI
CATEGORIES:Events
END:VEVENT
BEGIN:VEVENT
DTSTART;TZID=America/New_York:20250922T110000
DTEND;TZID=America/New_York:20250922T133000
DTSTAMP:20260423T214129
CREATED:20250622T081057Z
LAST-MODIFIED:20250920T083940Z
UID:10006409-1758538800-1758547800@chassellmarket.com
SUMMARY:Senior Meals at the Fire Hall
DESCRIPTION:
URL:https://chassellmarket.com/community-calendar/senior-meals-at-the-fire-hall-251/
LOCATION:Chassell Township Fire Department\, 22098 7th St\, Chassell\, MI\, United States
CATEGORIES:Events
GEO:47.0219;-88.530903
X-APPLE-STRUCTURED-LOCATION;VALUE=URI;X-ADDRESS=Chassell Township Fire Department 22098 7th St Chassell MI United States;X-APPLE-RADIUS=500;X-TITLE=22098 7th St:geo:-88.530903,47.0219
END:VEVENT
BEGIN:VEVENT
DTSTART;TZID=America/New_York:20250922T130000
DTEND;TZID=America/New_York:20250922T180000
DTSTAMP:20260423T214129
CREATED:20250622T081057Z
LAST-MODIFIED:20250920T083940Z
UID:10006410-1758546000-1758564000@chassellmarket.com
SUMMARY:Township Clerk Office Hours
DESCRIPTION:
URL:https://chassellmarket.com/community-calendar/township-clerk-office-hours-72/
LOCATION:MI
CATEGORIES:Events
END:VEVENT
END:VCALENDAR