BEGIN:VCALENDAR
VERSION:2.0
PRODID:-//Chassell Farmers Market &amp; Houghton Indoor Farm and Craft Market - ECPv6.15.17//NONSGML v1.0//EN
CALSCALE:GREGORIAN
METHOD:PUBLISH
X-WR-CALNAME:Chassell Farmers Market &amp; Houghton Indoor Farm and Craft Market
X-ORIGINAL-URL:https://chassellmarket.com
X-WR-CALDESC:Events for Chassell Farmers Market &amp; Houghton Indoor Farm and Craft Market
REFRESH-INTERVAL;VALUE=DURATION:PT1H
X-Robots-Tag:noindex
X-PUBLISHED-TTL:PT1H
BEGIN:VTIMEZONE
TZID:America/New_York
BEGIN:DAYLIGHT
TZOFFSETFROM:-0500
TZOFFSETTO:-0400
TZNAME:EDT
DTSTART:20240310T070000
END:DAYLIGHT
BEGIN:STANDARD
TZOFFSETFROM:-0400
TZOFFSETTO:-0500
TZNAME:EST
DTSTART:20241103T060000
END:STANDARD
BEGIN:DAYLIGHT
TZOFFSETFROM:-0500
TZOFFSETTO:-0400
TZNAME:EDT
DTSTART:20250309T070000
END:DAYLIGHT
BEGIN:STANDARD
TZOFFSETFROM:-0400
TZOFFSETTO:-0500
TZNAME:EST
DTSTART:20251102T060000
END:STANDARD
BEGIN:DAYLIGHT
TZOFFSETFROM:-0500
TZOFFSETTO:-0400
TZNAME:EDT
DTSTART:20260308T070000
END:DAYLIGHT
BEGIN:STANDARD
TZOFFSETFROM:-0400
TZOFFSETTO:-0500
TZNAME:EST
DTSTART:20261101T060000
END:STANDARD
END:VTIMEZONE
BEGIN:VEVENT
DTSTART;TZID=America/New_York:20250910T000000
DTEND;TZID=America/New_York:20250910T235959
DTSTAMP:20260423T200831
CREATED:20250817T103029Z
LAST-MODIFIED:20250907T104237Z
UID:10006661-1757462400-1757548799@chassellmarket.com
SUMMARY:AA Meetings
DESCRIPTION:For an up to date list of all AA meetings in the Copper Country\, click here.
URL:https://chassellmarket.com/community-calendar/aa-meetings-889/
LOCATION:MI
CATEGORIES:Events
END:VEVENT
BEGIN:VEVENT
DTSTART;TZID=America/New_York:20250910T100000
DTEND;TZID=America/New_York:20250910T120000
DTSTAMP:20260423T200831
CREATED:20250817T103028Z
LAST-MODIFIED:20250907T104327Z
UID:10006658-1757498400-1757505600@chassellmarket.com
SUMMARY:Mohawk Playgroup
DESCRIPTION:The Keweenaw Family Resource Center playgroup will meet at the Horizons School in Mohawk. \nPlaygroup is for families in the area with children birth through 4 years of age. The playgroups provide an opportunity for children and parents to play in an environment that is supportive and nurturing. Morning playgroups are offered in the communities of Houghton\, and Mohawk.   \nPlaygroups are structured to allow children to explore and play at their own pace. We encourage parents to interact with their children at all times\, especially during snack time\, exploration time and during clean up. Playgroup coordinators are there to facilitate the sessions\, model appropriate adult behavior\, and interact with children in ways which will assist them in their learning and development of social skills. We strive for a positive experience for everyone. Playgroups are open to all area families. \nWhat to Expect at Playgroup:\n\nFree Play Time\, where children can choose to play with any toys they like.\nCircle time\, where the children are encouraged to sit in a group circle and sing songs and do finger plays.\nExploration time\, when children learn new things by free creation-finger painting\, coloring\, drawing.\nSnack time\, when children sit at the table with the other children and have a healthy snack.\nClean up time\, where both the children and their parents are required to participate. The snack is put away\, the toys put where they belong\, and the exploration area is tidied up.\n\nGet notification reminders for our playgroups by going to our event calendar\, then adding selected events to your Google calendar! Visit our Facebook page to stay informed on playgroup cancelations or other community events and resources.
URL:https://chassellmarket.com/community-calendar/mohawk-playgroup-44/
LOCATION:Horizons Alternative High School\, 110 Stanton Ave\, Mohawk\, MI\, United States
CATEGORIES:Events
GEO:47.304851;-88.361226
X-APPLE-STRUCTURED-LOCATION;VALUE=URI;X-ADDRESS=Horizons Alternative High School 110 Stanton Ave Mohawk MI United States;X-APPLE-RADIUS=500;X-TITLE=110 Stanton Ave:geo:-88.361226,47.304851
END:VEVENT
BEGIN:VEVENT
DTSTART;TZID=America/New_York:20250910T103000
DTEND;TZID=America/New_York:20250910T103000
DTSTAMP:20260423T200831
CREATED:20250817T103028Z
LAST-MODIFIED:20250907T104237Z
UID:10006657-1757500200-1757500200@chassellmarket.com
SUMMARY:Preschool Story Time
DESCRIPTION:Preschool story time meets each Wednesday at 10:30 and Thursday at 1:30 in the children’s area at the Portage Lake District Library. Children can enjoy a story\, and bring home a take-and-make craft bag.
URL:https://chassellmarket.com/community-calendar/preschool-story-time-219/
LOCATION:Portage Lake District Library\, 58 Huron St\, Houghton\, MI\, United States
CATEGORIES:Events
GEO:47.122079;-88.568186
X-APPLE-STRUCTURED-LOCATION;VALUE=URI;X-ADDRESS=Portage Lake District Library 58 Huron St Houghton MI United States;X-APPLE-RADIUS=500;X-TITLE=58 Huron St:geo:-88.568186,47.122079
END:VEVENT
BEGIN:VEVENT
DTSTART;TZID=America/New_York:20250910T110000
DTEND;TZID=America/New_York:20250910T133000
DTSTAMP:20260423T200831
CREATED:20250522T114135Z
LAST-MODIFIED:20250821T082531Z
UID:10006223-1757502000-1757511000@chassellmarket.com
SUMMARY:Senior Meals at the Fire Hall
DESCRIPTION:
URL:https://chassellmarket.com/community-calendar/senior-meals-at-the-fire-hall-248/
LOCATION:Chassell Township Fire Department\, 22098 7th St\, Chassell\, MI\, United States
CATEGORIES:Events
GEO:47.0219;-88.530903
X-APPLE-STRUCTURED-LOCATION;VALUE=URI;X-ADDRESS=Chassell Township Fire Department 22098 7th St Chassell MI United States;X-APPLE-RADIUS=500;X-TITLE=22098 7th St:geo:-88.530903,47.0219
END:VEVENT
BEGIN:VEVENT
DTSTART;TZID=America/New_York:20250910T130000
DTEND;TZID=America/New_York:20250910T130000
DTSTAMP:20260423T200831
CREATED:20250817T103029Z
LAST-MODIFIED:20250907T104328Z
UID:10006659-1757509200-1757509200@chassellmarket.com
SUMMARY:Aspirus Diabetes Support Group
DESCRIPTION:The Aspirus Keweenaw Diabetes Support Group meets the second Wednesday of each month at the Calumet Public-School Library. These meetings are free\, open to the public\, and are designed for anyone who has diabetes\, their family and friends\, or those who want to learn more about preventing diabetes.\nLead by a Certified Diabetes Care and Education Specialist from Aspirus Keweenaw Hospital\, the group will discuss helpful diabetes care tips and focus on issues that are important to those attending.
URL:https://chassellmarket.com/community-calendar/aspirus-diabetes-support-group-30/
LOCATION:Calumet Public Library\, Calumet\, MI\, United States
CATEGORIES:Events
GEO:47.24659;-88.45401
END:VEVENT
BEGIN:VEVENT
DTSTART;TZID=America/New_York:20250910T140000
DTEND;TZID=America/New_York:20250910T140000
DTSTAMP:20260423T200831
CREATED:20250817T103029Z
LAST-MODIFIED:20250907T104328Z
UID:10006660-1757512800-1757512800@chassellmarket.com
SUMMARY:Bingo - South Range
DESCRIPTION:The South Range Eagles Hall hosts Bingo every Wednesday. All are welcome.
URL:https://chassellmarket.com/community-calendar/bingo-south-range-128/
LOCATION:South Range Eagles\, 8 Baltic Ave\, South Range\, MI\, United States
CATEGORIES:Events
GEO:47.070836;-88.640432
X-APPLE-STRUCTURED-LOCATION;VALUE=URI;X-ADDRESS=South Range Eagles 8 Baltic Ave South Range MI United States;X-APPLE-RADIUS=500;X-TITLE=8 Baltic Ave:geo:-88.640432,47.070836
END:VEVENT
BEGIN:VEVENT
DTSTART;TZID=America/New_York:20250910T150000
DTEND;TZID=America/New_York:20250910T180000
DTSTAMP:20260423T200831
CREATED:20250817T103039Z
LAST-MODIFIED:20250907T104328Z
UID:10006664-1757516400-1757527200@chassellmarket.com
SUMMARY:Free Soup Supper - Atlantic Mine
DESCRIPTION:Our Saviour’s Lutheran Church in Atlantic Mine offers a free supper on the second Wednesday of each month. All are invited to enjoy soup\, bread\, and a piece of fruit. A vegan option is available.
URL:https://chassellmarket.com/community-calendar/free-soup-supper-atlantic-mine-30/
LOCATION:Our Saviour’s Lutheran Church\, 47199 Adventure St\, Atlantic Mine\, MI\, United States
CATEGORIES:Events
GEO:47.100403;-88.631033
X-APPLE-STRUCTURED-LOCATION;VALUE=URI;X-ADDRESS=Our Saviour’s Lutheran Church 47199 Adventure St Atlantic Mine MI United States;X-APPLE-RADIUS=500;X-TITLE=47199 Adventure St:geo:-88.631033,47.100403
END:VEVENT
BEGIN:VEVENT
DTSTART;TZID=America/New_York:20250910T160000
DTEND;TZID=America/New_York:20250910T160000
DTSTAMP:20260423T200831
CREATED:20250817T103039Z
LAST-MODIFIED:20250907T104236Z
UID:10006662-1757520000-1757520000@chassellmarket.com
SUMMARY:Copper Country Recycling Initiative
DESCRIPTION:The Copper Country Recycling Initiative invites you to their monthly meeting at the Portage Lake District Library.  \nFor those interested in a virtual option:   \nhttps://us02web.zoom.us/j/87625791109?pwd=cTNmdHJzdWdLcjgyMzFaN293NjliZz09 \n Meeting ID: 876 2579 1109Passcode: 545830 \n  \nTelephone:       +1 312 626 6799 US (Chicago)
URL:https://chassellmarket.com/community-calendar/copper-country-recycling-initiative-31/
LOCATION:Portage Lake District Library\, 58 Huron St\, Houghton\, MI\, United States
CATEGORIES:Events
GEO:47.122079;-88.568186
X-APPLE-STRUCTURED-LOCATION;VALUE=URI;X-ADDRESS=Portage Lake District Library 58 Huron St Houghton MI United States;X-APPLE-RADIUS=500;X-TITLE=58 Huron St:geo:-88.568186,47.122079
END:VEVENT
BEGIN:VEVENT
DTSTART;TZID=America/New_York:20250910T160000
DTEND;TZID=America/New_York:20250910T160000
DTSTAMP:20260423T200831
CREATED:20250817T103039Z
LAST-MODIFIED:20250907T104328Z
UID:10006663-1757520000-1757520000@chassellmarket.com
SUMMARY:Gentle Exercise Class - Lake Linden
DESCRIPTION:The Lake Linden United Methodist Church hosts a weekly gentle chair exercise group. All are welcome\, at no charge. Sessions are approximately 20 minutes long.
URL:https://chassellmarket.com/community-calendar/gentle-exercise-class-lake-linden-30/
LOCATION:Lake Linden United Methodist Church\, 53237 N Ave\, Lake Linden\, MI\, United States
CATEGORIES:Events
GEO:47.188547;-88.411956
X-APPLE-STRUCTURED-LOCATION;VALUE=URI;X-ADDRESS=Lake Linden United Methodist Church 53237 N Ave Lake Linden MI United States;X-APPLE-RADIUS=500;X-TITLE=53237 N Ave:geo:-88.411956,47.188547
END:VEVENT
BEGIN:VEVENT
DTSTART;TZID=America/New_York:20250910T180000
DTEND;TZID=America/New_York:20250910T200000
DTSTAMP:20260423T200831
CREATED:20250522T114135Z
LAST-MODIFIED:20250821T082531Z
UID:10006224-1757527200-1757534400@chassellmarket.com
SUMMARY:Chassell Township Board
DESCRIPTION:
URL:https://chassellmarket.com/community-calendar/chassell-township-board-34/
LOCATION:Chassell Township Fire Department\, 22098 7th St\, Chassell\, MI\, United States
CATEGORIES:Events
GEO:47.0219;-88.530903
X-APPLE-STRUCTURED-LOCATION;VALUE=URI;X-ADDRESS=Chassell Township Fire Department 22098 7th St Chassell MI United States;X-APPLE-RADIUS=500;X-TITLE=22098 7th St:geo:-88.530903,47.0219
END:VEVENT
BEGIN:VEVENT
DTSTART;TZID=America/New_York:20250910T183000
DTEND;TZID=America/New_York:20250910T183000
DTSTAMP:20260423T200831
CREATED:20250817T103039Z
LAST-MODIFIED:20250907T104332Z
UID:10006665-1757529000-1757529000@chassellmarket.com
SUMMARY:CCJHA Board Meeting
DESCRIPTION:The Copper Country Junior Hockey Association board will meet at the HOCO. Anyone interested in supporting youth hockey is welcome.
URL:https://chassellmarket.com/community-calendar/ccjha-board-meeting-8/
LOCATION:HOCO\, 1500 Birch St\, Hancock\, MI\, United States
CATEGORIES:Events
GEO:47.13511;-88.605604
X-APPLE-STRUCTURED-LOCATION;VALUE=URI;X-ADDRESS=HOCO 1500 Birch St Hancock MI United States;X-APPLE-RADIUS=500;X-TITLE=1500 Birch St:geo:-88.605604,47.13511
END:VEVENT
BEGIN:VEVENT
DTSTART;TZID=America/New_York:20250911T000000
DTEND;TZID=America/New_York:20250911T235959
DTSTAMP:20260423T200831
CREATED:20250817T103039Z
LAST-MODIFIED:20250907T104237Z
UID:10006666-1757548800-1757635199@chassellmarket.com
SUMMARY:AA Meetings
DESCRIPTION:For an up to date list of all AA meetings in the Copper Country\, click here.
URL:https://chassellmarket.com/community-calendar/aa-meetings-890/
LOCATION:MI
CATEGORIES:Events
END:VEVENT
BEGIN:VEVENT
DTSTART;TZID=America/New_York:20250911T133000
DTEND;TZID=America/New_York:20250911T133000
DTSTAMP:20260423T200831
CREATED:20250817T103049Z
LAST-MODIFIED:20250907T104332Z
UID:10006667-1757597400-1757597400@chassellmarket.com
SUMMARY:Preschool Story Time
DESCRIPTION:Preschool story time meets each Wednesday at 10:30 and Thursday at 1:30 in the children's area at the Portage Lake District Library. Children can enjoy a story\, and bring home a take-and-make craft bag.
URL:https://chassellmarket.com/community-calendar/preschool-story-time-220/
LOCATION:Portage Lake District Library\, 58 Huron St\, Houghton\, MI\, United States
CATEGORIES:Events
GEO:47.122079;-88.568186
X-APPLE-STRUCTURED-LOCATION;VALUE=URI;X-ADDRESS=Portage Lake District Library 58 Huron St Houghton MI United States;X-APPLE-RADIUS=500;X-TITLE=58 Huron St:geo:-88.568186,47.122079
END:VEVENT
BEGIN:VEVENT
DTSTART;TZID=America/New_York:20250912T000000
DTEND;TZID=America/New_York:20250912T235959
DTSTAMP:20260423T200831
CREATED:20250817T103050Z
LAST-MODIFIED:20250907T104332Z
UID:10006668-1757635200-1757721599@chassellmarket.com
SUMMARY:AA Meetings
DESCRIPTION:For an up to date list of all AA meetings in the Copper Country\, click here.
URL:https://chassellmarket.com/community-calendar/aa-meetings-891/
LOCATION:MI
CATEGORIES:Events
END:VEVENT
BEGIN:VEVENT
DTSTART;TZID=America/New_York:20250912T090000
DTEND;TZID=America/New_York:20250912T120000
DTSTAMP:20260423T200831
CREATED:20250817T103050Z
LAST-MODIFIED:20250907T104332Z
UID:10006669-1757667600-1757678400@chassellmarket.com
SUMMARY:Treehouse Playgroup
DESCRIPTION:The Keweenaw Family Resource Center playgroup will meet at the Tree House Indoor Playground. \nPlaygroup is for families in the area with children birth through 4 years of age. The playgroups provide an opportunity for children and parents to play in an environment that is supportive and nurturing. Morning playgroups are offered in the communities of Houghton\, and Mohawk.   \nPlaygroups are structured to allow children to explore and play at their own pace. We encourage parents to interact with their children at all times\, especially during snack time\, exploration time and during clean up. Playgroup coordinators are there to facilitate the sessions\, model appropriate adult behavior\, and interact with children in ways which will assist them in their learning and development of social skills. We strive for a positive experience for everyone. Playgroups are open to all area families. \nWhat to Expect at Playgroup:\n\nFree Play Time\, where children can choose to play with any toys they like.\nCircle time\, where the children are encouraged to sit in a group circle and sing songs and do finger plays.\nExploration time\, when children learn new things by free creation-finger painting\, coloring\, drawing.\nSnack time\, when children sit at the table with the other children and have a healthy snack.\nClean up time\, where both the children and their parents are required to participate. The snack is put away\, the toys put where they belong\, and the exploration area is tidied up.\n\nGet notification reminders for our playgroups by going to our event calendar\, then adding selected events to your Google calendar! Visit our Facebook page to stay informed on playgroup cancelations or other community events and resources.
URL:https://chassellmarket.com/community-calendar/treehouse-playgroup-97/
LOCATION:The Tree House Indoor Playground\, 850 W Sharon Ave\, Houghton\, MI\, United States
CATEGORIES:Events
GEO:47.113224;-88.585758
X-APPLE-STRUCTURED-LOCATION;VALUE=URI;X-ADDRESS=The Tree House Indoor Playground 850 W Sharon Ave Houghton MI United States;X-APPLE-RADIUS=500;X-TITLE=850 W Sharon Ave:geo:-88.585758,47.113224
END:VEVENT
BEGIN:VEVENT
DTSTART;TZID=America/New_York:20250912T160000
DTEND;TZID=America/New_York:20250912T160000
DTSTAMP:20260423T200831
CREATED:20250817T103050Z
LAST-MODIFIED:20250907T104332Z
UID:10006670-1757692800-1757692800@chassellmarket.com
SUMMARY:Art 'n' Chill Teen Art Club
DESCRIPTION:The Art 'n' Chill Teen Art Club at the Portage Lake District Library gives teens a chance to explore traditional art media.
URL:https://chassellmarket.com/community-calendar/art-n-chill-teen-art-club-8/
LOCATION:Portage Lake District Library\, 58 Huron St\, Houghton\, MI\, United States
CATEGORIES:Events
GEO:47.122079;-88.568186
X-APPLE-STRUCTURED-LOCATION;VALUE=URI;X-ADDRESS=Portage Lake District Library 58 Huron St Houghton MI United States;X-APPLE-RADIUS=500;X-TITLE=58 Huron St:geo:-88.568186,47.122079
END:VEVENT
BEGIN:VEVENT
DTSTART;TZID=America/New_York:20250913T000000
DTEND;TZID=America/New_York:20250913T235959
DTSTAMP:20260423T200831
CREATED:20250817T103051Z
LAST-MODIFIED:20250907T104440Z
UID:10006671-1757721600-1757807999@chassellmarket.com
SUMMARY:AA Meetings
DESCRIPTION:For an up to date list of all AA meetings in the Copper Country\, click here.
URL:https://chassellmarket.com/community-calendar/aa-meetings-892/
LOCATION:MI
CATEGORIES:Events
END:VEVENT
BEGIN:VEVENT
DTSTART;TZID=America/New_York:20250913T000000
DTEND;TZID=America/New_York:20250913T235959
DTSTAMP:20260423T200832
CREATED:20250722T082516Z
LAST-MODIFIED:20250821T082531Z
UID:10006542-1757721600-1757807999@chassellmarket.com
SUMMARY:Pavilion Not Available (C)
DESCRIPTION:
URL:https://chassellmarket.com/community-calendar/pavilion-not-available-c-16/
LOCATION:MI
CATEGORIES:Events
END:VEVENT
BEGIN:VEVENT
DTSTART;TZID=America/New_York:20250914T000000
DTEND;TZID=America/New_York:20250914T235959
DTSTAMP:20260423T200832
CREATED:20250824T102940Z
LAST-MODIFIED:20250914T103947Z
UID:10006697-1757808000-1757894399@chassellmarket.com
SUMMARY:AA Meetings
DESCRIPTION:For an up to date list of all AA meetings in the Copper Country\, click here.
URL:https://chassellmarket.com/community-calendar/aa-meetings-893/
LOCATION:MI
CATEGORIES:Events
END:VEVENT
BEGIN:VEVENT
DTSTART;TZID=America/New_York:20250914T140000
DTEND;TZID=America/New_York:20250914T170000
DTSTAMP:20260423T200832
CREATED:20250824T102950Z
LAST-MODIFIED:20250914T103947Z
UID:10006699-1757858400-1757869200@chassellmarket.com
SUMMARY:Polka Dance - South Range
DESCRIPTION:The South Range Eagles Club hosts polka dances with live music each Sunday. All are welcome.
URL:https://chassellmarket.com/community-calendar/polka-dance-south-range-128/
LOCATION:South Range Eagles\, 8 Baltic Ave\, South Range\, MI\, United States
CATEGORIES:Events
GEO:47.070836;-88.640432
X-APPLE-STRUCTURED-LOCATION;VALUE=URI;X-ADDRESS=South Range Eagles 8 Baltic Ave South Range MI United States;X-APPLE-RADIUS=500;X-TITLE=8 Baltic Ave:geo:-88.640432,47.070836
END:VEVENT
BEGIN:VEVENT
DTSTART;TZID=America/New_York:20250914T160000
DTEND;TZID=America/New_York:20250914T173000
DTSTAMP:20260423T200832
CREATED:20250824T102950Z
LAST-MODIFIED:20250914T103947Z
UID:10006698-1757865600-1757871000@chassellmarket.com
SUMMARY:"Let's Eat" Community Meal - Baraga
DESCRIPTION:The "Let's Eat" community meal program offers a free dinner at St. Ann's Church in Baraga. All are welcome.
URL:https://chassellmarket.com/community-calendar/lets-eat-community-meal-baraga-14/
LOCATION:Saint Ann’s Church\, Baraga\, MI\, United States
CATEGORIES:Events
GEO:46.80476;-88.575842
END:VEVENT
BEGIN:VEVENT
DTSTART;TZID=America/New_York:20250915T000000
DTEND;TZID=America/New_York:20250915T235959
DTSTAMP:20260423T200832
CREATED:20250824T102951Z
LAST-MODIFIED:20250914T103953Z
UID:10006700-1757894400-1757980799@chassellmarket.com
SUMMARY:AA Meetings
DESCRIPTION:For an up to date list of all AA meetings in the Copper Country\, click here.
URL:https://chassellmarket.com/community-calendar/aa-meetings-894/
LOCATION:MI
CATEGORIES:Events
END:VEVENT
BEGIN:VEVENT
DTSTART;TZID=America/New_York:20250915T090000
DTEND;TZID=America/New_York:20250915T120000
DTSTAMP:20260423T200832
CREATED:20250824T102951Z
LAST-MODIFIED:20250914T103947Z
UID:10006701-1757926800-1757937600@chassellmarket.com
SUMMARY:Treehouse Playgroup
DESCRIPTION:The Keweenaw Family Resource Center playgroup will meet at the Tree House Indoor Playground. \nPlaygroup is for families in the area with children birth through 4 years of age. The playgroups provide an opportunity for children and parents to play in an environment that is supportive and nurturing. Morning playgroups are offered in the communities of Houghton\, and Mohawk.   \nPlaygroups are structured to allow children to explore and play at their own pace. We encourage parents to interact with their children at all times\, especially during snack time\, exploration time and during clean up. Playgroup coordinators are there to facilitate the sessions\, model appropriate adult behavior\, and interact with children in ways which will assist them in their learning and development of social skills. We strive for a positive experience for everyone. Playgroups are open to all area families. \nWhat to Expect at Playgroup:\n\nFree Play Time\, where children can choose to play with any toys they like.\nCircle time\, where the children are encouraged to sit in a group circle and sing songs and do finger plays.\nExploration time\, when children learn new things by free creation-finger painting\, coloring\, drawing.\nSnack time\, when children sit at the table with the other children and have a healthy snack.\nClean up time\, where both the children and their parents are required to participate. The snack is put away\, the toys put where they belong\, and the exploration area is tidied up.\n\nGet notification reminders for our playgroups by going to our event calendar\, then adding selected events to your Google calendar! Visit our Facebook page to stay informed on playgroup cancelations or other community events and resources.
URL:https://chassellmarket.com/community-calendar/treehouse-playgroup-98/
LOCATION:The Tree House Indoor Playground\, 850 W Sharon Ave\, Houghton\, MI\, United States
CATEGORIES:Events
GEO:47.113224;-88.585758
X-APPLE-STRUCTURED-LOCATION;VALUE=URI;X-ADDRESS=The Tree House Indoor Playground 850 W Sharon Ave Houghton MI United States;X-APPLE-RADIUS=500;X-TITLE=850 W Sharon Ave:geo:-88.585758,47.113224
END:VEVENT
BEGIN:VEVENT
DTSTART;TZID=America/New_York:20250915T110000
DTEND;TZID=America/New_York:20250915T133000
DTSTAMP:20260423T200832
CREATED:20250522T114135Z
LAST-MODIFIED:20250821T082544Z
UID:10006226-1757934000-1757943000@chassellmarket.com
SUMMARY:Senior Meals at the Fire Hall
DESCRIPTION:
URL:https://chassellmarket.com/community-calendar/senior-meals-at-the-fire-hall-249/
LOCATION:Chassell Township Fire Department\, 22098 7th St\, Chassell\, MI\, United States
CATEGORIES:Events
GEO:47.0219;-88.530903
X-APPLE-STRUCTURED-LOCATION;VALUE=URI;X-ADDRESS=Chassell Township Fire Department 22098 7th St Chassell MI United States;X-APPLE-RADIUS=500;X-TITLE=22098 7th St:geo:-88.530903,47.0219
END:VEVENT
BEGIN:VEVENT
DTSTART;TZID=America/New_York:20250915T130000
DTEND;TZID=America/New_York:20250915T180000
DTSTAMP:20260423T200832
CREATED:20250522T114135Z
LAST-MODIFIED:20250821T082544Z
UID:10006225-1757941200-1757959200@chassellmarket.com
SUMMARY:Township Clerk Office Hours
DESCRIPTION:
URL:https://chassellmarket.com/community-calendar/township-clerk-office-hours-71/
LOCATION:MI
CATEGORIES:Events
END:VEVENT
BEGIN:VEVENT
DTSTART;TZID=America/New_York:20250915T133000
DTEND;TZID=America/New_York:20250915T143000
DTSTAMP:20260423T200832
CREATED:20250522T114135Z
LAST-MODIFIED:20250821T082544Z
UID:10006227-1757943000-1757946600@chassellmarket.com
SUMMARY:Houghton Co. Road Commission
DESCRIPTION:
URL:https://chassellmarket.com/community-calendar/houghton-co-road-commission-30/
LOCATION:Houghton County Road Commission\, 5398 Gagnon Rd\, Atlantic Mine\, MI\, United States
CATEGORIES:Events
GEO:47.127017;-88.679413
X-APPLE-STRUCTURED-LOCATION;VALUE=URI;X-ADDRESS=Houghton County Road Commission 5398 Gagnon Rd Atlantic Mine MI United States;X-APPLE-RADIUS=500;X-TITLE=5398 Gagnon Rd:geo:-88.679413,47.127017
END:VEVENT
BEGIN:VEVENT
DTSTART;TZID=America/New_York:20250915T160000
DTEND;TZID=America/New_York:20250915T180000
DTSTAMP:20260423T200832
CREATED:20250824T102954Z
LAST-MODIFIED:20250914T103947Z
UID:10006702-1757952000-1757959200@chassellmarket.com
SUMMARY:Chess Club
DESCRIPTION:Chess enthusiasts of all levels are invited to join the weekly Chess Club at the Portage Lake District Library. Whether you’re a beginner or a seasoned player\, you’ll find a welcoming environment to learn\, play\, and compete. Activities start at 4:00 pm\, followed by skill-building exercises at 5:00 pm to enhance your gameplay. Open to those ages 7 and up\, this is a great opportunity to meet new friends and challenge your mind.
URL:https://chassellmarket.com/community-calendar/chess-club-34/
LOCATION:Portage Lake District Library\, 58 Huron St\, Houghton\, MI\, United States
CATEGORIES:Events
GEO:47.122079;-88.568186
X-APPLE-STRUCTURED-LOCATION;VALUE=URI;X-ADDRESS=Portage Lake District Library 58 Huron St Houghton MI United States;X-APPLE-RADIUS=500;X-TITLE=58 Huron St:geo:-88.568186,47.122079
END:VEVENT
BEGIN:VEVENT
DTSTART;TZID=America/New_York:20250915T183000
DTEND;TZID=America/New_York:20250915T183000
DTSTAMP:20260423T200832
CREATED:20250824T102954Z
LAST-MODIFIED:20250914T103953Z
UID:10006703-1757961000-1757961000@chassellmarket.com
SUMMARY:Celebrate Recovery Support Group - Houghton
DESCRIPTION:The Celebrate Recovery group at Evangel Community Church meets weekly Mondays at 6:30. The group provides a safe place to find freedom and healing\, offering hope\, support\, and real change. \nCome as you are – all are welcome. For more information\, text “recovery” to 906-254-5444 or visit the church website.
URL:https://chassellmarket.com/community-calendar/celebrate-recovery-support-group-houghton-27/
LOCATION:Evangel Community Church\, 1600 Memorial Dr\, Houghton\, MI\, United States
CATEGORIES:Events
GEO:47.104042;-88.595585
X-APPLE-STRUCTURED-LOCATION;VALUE=URI;X-ADDRESS=Evangel Community Church 1600 Memorial Dr Houghton MI United States;X-APPLE-RADIUS=500;X-TITLE=1600 Memorial Dr:geo:-88.595585,47.104042
END:VEVENT
BEGIN:VEVENT
DTSTART;TZID=America/New_York:20250916T000000
DTEND;TZID=America/New_York:20250916T235959
DTSTAMP:20260423T200832
CREATED:20250824T103009Z
LAST-MODIFIED:20250914T103953Z
UID:10006707-1757980800-1758067199@chassellmarket.com
SUMMARY:AA Meetings
DESCRIPTION:For an up to date list of all AA meetings in the Copper Country\, click here.
URL:https://chassellmarket.com/community-calendar/aa-meetings-895/
LOCATION:MI
CATEGORIES:Events
END:VEVENT
BEGIN:VEVENT
DTSTART;TZID=America/New_York:20250916T130000
DTEND;TZID=America/New_York:20250916T130000
DTSTAMP:20260423T200832
CREATED:20250824T102954Z
LAST-MODIFIED:20250914T103953Z
UID:10006704-1758027600-1758027600@chassellmarket.com
SUMMARY:Bridge Games
DESCRIPTION:The Baragaland Senior Center hosts Bridge games each Tuesday at 1.
URL:https://chassellmarket.com/community-calendar/bridge-games-35/
LOCATION:Baragaland Senior Citizens Center\, 6 N Main St\, L'Anse\, MI\, United States
CATEGORIES:Events
GEO:46.757969;-88.454464
X-APPLE-STRUCTURED-LOCATION;VALUE=URI;X-ADDRESS=Baragaland Senior Citizens Center 6 N Main St L'Anse MI United States;X-APPLE-RADIUS=500;X-TITLE=6 N Main St:geo:-88.454464,46.757969
END:VEVENT
END:VCALENDAR