BEGIN:VCALENDAR
VERSION:2.0
PRODID:-//Chassell Farmers Market &amp; Houghton Indoor Farm and Craft Market - ECPv6.15.17//NONSGML v1.0//EN
CALSCALE:GREGORIAN
METHOD:PUBLISH
X-WR-CALNAME:Chassell Farmers Market &amp; Houghton Indoor Farm and Craft Market
X-ORIGINAL-URL:https://chassellmarket.com
X-WR-CALDESC:Events for Chassell Farmers Market &amp; Houghton Indoor Farm and Craft Market
REFRESH-INTERVAL;VALUE=DURATION:PT1H
X-Robots-Tag:noindex
X-PUBLISHED-TTL:PT1H
BEGIN:VTIMEZONE
TZID:America/New_York
BEGIN:DAYLIGHT
TZOFFSETFROM:-0500
TZOFFSETTO:-0400
TZNAME:EDT
DTSTART:20240310T070000
END:DAYLIGHT
BEGIN:STANDARD
TZOFFSETFROM:-0400
TZOFFSETTO:-0500
TZNAME:EST
DTSTART:20241103T060000
END:STANDARD
BEGIN:DAYLIGHT
TZOFFSETFROM:-0500
TZOFFSETTO:-0400
TZNAME:EDT
DTSTART:20250309T070000
END:DAYLIGHT
BEGIN:STANDARD
TZOFFSETFROM:-0400
TZOFFSETTO:-0500
TZNAME:EST
DTSTART:20251102T060000
END:STANDARD
BEGIN:DAYLIGHT
TZOFFSETFROM:-0500
TZOFFSETTO:-0400
TZNAME:EDT
DTSTART:20260308T070000
END:DAYLIGHT
BEGIN:STANDARD
TZOFFSETFROM:-0400
TZOFFSETTO:-0500
TZNAME:EST
DTSTART:20261101T060000
END:STANDARD
END:VTIMEZONE
BEGIN:VEVENT
DTSTART;TZID=America/New_York:20250820T110000
DTEND;TZID=America/New_York:20250820T133000
DTSTAMP:20260424T090619
CREATED:20250420T185633Z
LAST-MODIFIED:20250722T082447Z
UID:10006016-1755687600-1755696600@chassellmarket.com
SUMMARY:Senior Meals at the Fire Hall
DESCRIPTION:
URL:https://chassellmarket.com/community-calendar/senior-meals-at-the-fire-hall-242/
LOCATION:Chassell Township Fire Department\, 22098 7th St\, Chassell\, MI\, United States
CATEGORIES:Events
GEO:47.0219;-88.530903
X-APPLE-STRUCTURED-LOCATION;VALUE=URI;X-ADDRESS=Chassell Township Fire Department 22098 7th St Chassell MI United States;X-APPLE-RADIUS=500;X-TITLE=22098 7th St:geo:-88.530903,47.0219
END:VEVENT
BEGIN:VEVENT
DTSTART;TZID=America/New_York:20250820T140000
DTEND;TZID=America/New_York:20250820T140000
DTSTAMP:20260424T090619
CREATED:20250727T102837Z
LAST-MODIFIED:20250817T102628Z
UID:10006586-1755698400-1755698400@chassellmarket.com
SUMMARY:Bingo - South Range
DESCRIPTION:The South Range Eagles Hall hosts Bingo every Wednesday. All are welcome.
URL:https://chassellmarket.com/community-calendar/bingo-south-range-125/
LOCATION:South Range Eagles\, 8 Baltic Ave\, South Range\, MI\, United States
CATEGORIES:Events
GEO:47.070836;-88.640432
X-APPLE-STRUCTURED-LOCATION;VALUE=URI;X-ADDRESS=South Range Eagles 8 Baltic Ave South Range MI United States;X-APPLE-RADIUS=500;X-TITLE=8 Baltic Ave:geo:-88.640432,47.070836
END:VEVENT
BEGIN:VEVENT
DTSTART;TZID=America/New_York:20250820T160000
DTEND;TZID=America/New_York:20250820T160000
DTSTAMP:20260424T090619
CREATED:20250727T102837Z
LAST-MODIFIED:20250817T102628Z
UID:10006587-1755705600-1755705600@chassellmarket.com
SUMMARY:Gentle Exercise Class - Lake Linden
DESCRIPTION:The Lake Linden United Methodist Church hosts a weekly gentle chair exercise group. All are welcome\, at no charge. Sessions are approximately 20 minutes long.
URL:https://chassellmarket.com/community-calendar/gentle-exercise-class-lake-linden-27/
LOCATION:Lake Linden United Methodist Church\, 53237 N Ave\, Lake Linden\, MI\, United States
CATEGORIES:Events
GEO:47.188547;-88.411956
X-APPLE-STRUCTURED-LOCATION;VALUE=URI;X-ADDRESS=Lake Linden United Methodist Church 53237 N Ave Lake Linden MI United States;X-APPLE-RADIUS=500;X-TITLE=53237 N Ave:geo:-88.411956,47.188547
END:VEVENT
BEGIN:VEVENT
DTSTART;TZID=America/New_York:20250820T180000
DTEND;TZID=America/New_York:20250820T190000
DTSTAMP:20260424T090619
CREATED:20250420T185634Z
LAST-MODIFIED:20250722T082447Z
UID:10006018-1755712800-1755716400@chassellmarket.com
SUMMARY:Fire Responder Meeting
DESCRIPTION:
URL:https://chassellmarket.com/community-calendar/fire-responder-meeting-28/
LOCATION:Chassell Township Fire Department\, 22098 7th St\, Chassell\, MI\, United States
CATEGORIES:Events
GEO:47.0219;-88.530903
X-APPLE-STRUCTURED-LOCATION;VALUE=URI;X-ADDRESS=Chassell Township Fire Department 22098 7th St Chassell MI United States;X-APPLE-RADIUS=500;X-TITLE=22098 7th St:geo:-88.530903,47.0219
END:VEVENT
BEGIN:VEVENT
DTSTART;TZID=America/New_York:20250820T190000
DTEND;TZID=America/New_York:20250820T200000
DTSTAMP:20260424T090619
CREATED:20250420T185633Z
LAST-MODIFIED:20250722T082447Z
UID:10006017-1755716400-1755720000@chassellmarket.com
SUMMARY:Fire Department Meeting
DESCRIPTION:
URL:https://chassellmarket.com/community-calendar/fire-department-meeting-28/
LOCATION:Chassell Township Fire Department\, 22098 7th St\, Chassell\, MI\, United States
CATEGORIES:Events
GEO:47.0219;-88.530903
X-APPLE-STRUCTURED-LOCATION;VALUE=URI;X-ADDRESS=Chassell Township Fire Department 22098 7th St Chassell MI United States;X-APPLE-RADIUS=500;X-TITLE=22098 7th St:geo:-88.530903,47.0219
END:VEVENT
BEGIN:VEVENT
DTSTART;TZID=America/New_York:20250821T000000
DTEND;TZID=America/New_York:20250821T235959
DTSTAMP:20260424T090619
CREATED:20250727T102840Z
LAST-MODIFIED:20250817T102628Z
UID:10006591-1755734400-1755820799@chassellmarket.com
SUMMARY:AA Meetings
DESCRIPTION:For an up to date list of all AA meetings in the Copper Country\, click here.
URL:https://chassellmarket.com/community-calendar/aa-meetings-869/
LOCATION:MI
CATEGORIES:Events
END:VEVENT
BEGIN:VEVENT
DTSTART;TZID=America/New_York:20250821T133000
DTEND;TZID=America/New_York:20250821T133000
DTSTAMP:20260424T090619
CREATED:20250727T102840Z
LAST-MODIFIED:20250817T102611Z
UID:10006589-1755783000-1755783000@chassellmarket.com
SUMMARY:Preschool Story Time
DESCRIPTION:Preschool story time meets each Wednesday at 10:30 and Thursday at 1:30 in the children's area at the Portage Lake District Library. Children can enjoy a story\, and bring home a take-and-make craft bag.
URL:https://chassellmarket.com/community-calendar/preschool-story-time-214/
LOCATION:Portage Lake District Library\, 58 Huron St\, Houghton\, MI\, United States
CATEGORIES:Events
GEO:47.122079;-88.568186
X-APPLE-STRUCTURED-LOCATION;VALUE=URI;X-ADDRESS=Portage Lake District Library 58 Huron St Houghton MI United States;X-APPLE-RADIUS=500;X-TITLE=58 Huron St:geo:-88.568186,47.122079
END:VEVENT
BEGIN:VEVENT
DTSTART;TZID=America/New_York:20250821T150000
DTEND;TZID=America/New_York:20250821T150000
DTSTAMP:20260424T090620
CREATED:20250727T102841Z
LAST-MODIFIED:20250817T102628Z
UID:10006592-1755788400-1755788400@chassellmarket.com
SUMMARY:Caregivers Support Group
DESCRIPTION:The Baragaland Senior Center Caregiver’s Support Group meets every other Thursday at 3:00 (unless otherwise announced). Anyone caring for a loved one with dementia or Alzheimer’s is welcome. For more details\, call (906) 524-6711 or (906) 524-6922.
URL:https://chassellmarket.com/community-calendar/caregivers-support-group-24/
LOCATION:Baragaland Senior Citizens Center\, 6 N Main St\, L'Anse\, MI\, United States
CATEGORIES:Events
GEO:46.757969;-88.454464
X-APPLE-STRUCTURED-LOCATION;VALUE=URI;X-ADDRESS=Baragaland Senior Citizens Center 6 N Main St L'Anse MI United States;X-APPLE-RADIUS=500;X-TITLE=6 N Main St:geo:-88.454464,46.757969
END:VEVENT
BEGIN:VEVENT
DTSTART;TZID=America/New_York:20250821T170000
DTEND;TZID=America/New_York:20250821T170000
DTSTAMP:20260424T090620
CREATED:20250727T102841Z
LAST-MODIFIED:20250817T102649Z
UID:10006593-1755795600-1755795600@chassellmarket.com
SUMMARY:Omega House Grief Support Group
DESCRIPTION:Omega House’s Third Thursday Community Grief Support Group will meet from 5:00-6:00 in person at Omega House\, or via Zoom or phone. To reserve a place\, or to receive log in and phone information\, calling or texting Cynthia at 906-370-6686 or email cynthia.drake@omega-house.org by close of business the day before the meeting.
URL:https://chassellmarket.com/community-calendar/omega-house-grief-support-group-29/
LOCATION:Omega House\, 2211 Maureen Ln\, Houghton\, MI\, United States
CATEGORIES:Events
GEO:47.107531;-88.597713
X-APPLE-STRUCTURED-LOCATION;VALUE=URI;X-ADDRESS=Omega House 2211 Maureen Ln Houghton MI United States;X-APPLE-RADIUS=500;X-TITLE=2211 Maureen Ln:geo:-88.597713,47.107531
END:VEVENT
BEGIN:VEVENT
DTSTART;TZID=America/New_York:20250821T190000
DTEND;TZID=America/New_York:20250821T190000
DTSTAMP:20260424T090620
CREATED:20250727T102840Z
LAST-MODIFIED:20250817T102649Z
UID:10006590-1755802800-1755802800@chassellmarket.com
SUMMARY:Marine Corps League Meeting
DESCRIPTION:The Keweenaw Detachment #1016\, Marine Corps League meets on the third Thursday every month at 7:00 pm at the South Range VFW. Marine Corps veterans are invited to attend.
URL:https://chassellmarket.com/community-calendar/marine-corps-league-meeting-29/
LOCATION:Range Lounge & VFW\, 2 Baltic Ave\, South Range\, MI\, United States
CATEGORIES:Events
GEO:47.069797;-88.640509
X-APPLE-STRUCTURED-LOCATION;VALUE=URI;X-ADDRESS=Range Lounge & VFW 2 Baltic Ave South Range MI United States;X-APPLE-RADIUS=500;X-TITLE=2 Baltic Ave:geo:-88.640509,47.069797
END:VEVENT
BEGIN:VEVENT
DTSTART;TZID=America/New_York:20250822T000000
DTEND;TZID=America/New_York:20250822T235959
DTSTAMP:20260424T090620
CREATED:20250803T102612Z
LAST-MODIFIED:20250817T102649Z
UID:10006595-1755820800-1755907199@chassellmarket.com
SUMMARY:AA Meetings
DESCRIPTION:For an up to date list of all AA meetings in the Copper Country\, click here.
URL:https://chassellmarket.com/community-calendar/aa-meetings-871/
LOCATION:MI
CATEGORIES:Events
END:VEVENT
BEGIN:VEVENT
DTSTART;TZID=America/New_York:20250822T000000
DTEND;TZID=America/New_York:20250822T235959
DTSTAMP:20260424T090620
CREATED:20250420T185634Z
LAST-MODIFIED:20250821T082517Z
UID:10006019-1755820800-1755907199@chassellmarket.com
SUMMARY:Pavilion Not Available (NC)
DESCRIPTION:
URL:https://chassellmarket.com/community-calendar/pavilion-not-available-nc-18/
LOCATION:MI
CATEGORIES:Events
END:VEVENT
BEGIN:VEVENT
DTSTART;TZID=America/New_York:20250822T090000
DTEND;TZID=America/New_York:20250822T120000
DTSTAMP:20260424T090620
CREATED:20250803T102617Z
LAST-MODIFIED:20250817T102649Z
UID:10006596-1755853200-1755864000@chassellmarket.com
SUMMARY:Treehouse Playgroup
DESCRIPTION:The Keweenaw Family Resource Center playgroup will meet at the Tree House Indoor Playground. \nPlaygroup is for families in the area with children birth through 4 years of age. The playgroups provide an opportunity for children and parents to play in an environment that is supportive and nurturing. Morning playgroups are offered in the communities of Houghton\, and Mohawk.   \nPlaygroups are structured to allow children to explore and play at their own pace. We encourage parents to interact with their children at all times\, especially during snack time\, exploration time and during clean up. Playgroup coordinators are there to facilitate the sessions\, model appropriate adult behavior\, and interact with children in ways which will assist them in their learning and development of social skills. We strive for a positive experience for everyone. Playgroups are open to all area families. \nWhat to Expect at Playgroup:\n\nFree Play Time\, where children can choose to play with any toys they like.\nCircle time\, where the children are encouraged to sit in a group circle and sing songs and do finger plays.\nExploration time\, when children learn new things by free creation-finger painting\, coloring\, drawing.\nSnack time\, when children sit at the table with the other children and have a healthy snack.\nClean up time\, where both the children and their parents are required to participate. The snack is put away\, the toys put where they belong\, and the exploration area is tidied up.\n\nGet notification reminders for our playgroups by going to our event calendar\, then adding selected events to your Google calendar! Visit our Facebook page to stay informed on playgroup cancelations or other community events and resources.
URL:https://chassellmarket.com/community-calendar/treehouse-playgroup-91/
LOCATION:The Tree House Indoor Playground\, 850 W Sharon Ave\, Houghton\, MI\, United States
CATEGORIES:Events
GEO:47.113224;-88.585758
X-APPLE-STRUCTURED-LOCATION;VALUE=URI;X-ADDRESS=The Tree House Indoor Playground 850 W Sharon Ave Houghton MI United States;X-APPLE-RADIUS=500;X-TITLE=850 W Sharon Ave:geo:-88.585758,47.113224
END:VEVENT
BEGIN:VEVENT
DTSTART;TZID=America/New_York:20250823T000000
DTEND;TZID=America/New_York:20250823T235959
DTSTAMP:20260424T090620
CREATED:20250803T102611Z
LAST-MODIFIED:20250817T102649Z
UID:10006594-1755907200-1755993599@chassellmarket.com
SUMMARY:AA Meetings
DESCRIPTION:For an up to date list of all AA meetings in the Copper Country\, click here.
URL:https://chassellmarket.com/community-calendar/aa-meetings-870/
LOCATION:MI
CATEGORIES:Events
END:VEVENT
BEGIN:VEVENT
DTSTART;TZID=America/New_York:20250823T000000
DTEND;TZID=America/New_York:20250823T235959
DTSTAMP:20260424T090620
CREATED:20250522T114106Z
LAST-MODIFIED:20250821T082517Z
UID:10006211-1755907200-1755993599@chassellmarket.com
SUMMARY:Pavilion Not Available (NC)
DESCRIPTION:
URL:https://chassellmarket.com/community-calendar/pavilion-rental-nc/
LOCATION:MI
CATEGORIES:Events
END:VEVENT
BEGIN:VEVENT
DTSTART;TZID=America/New_York:20250823T000000
DTEND;TZID=America/New_York:20250824T235959
DTSTAMP:20260424T090620
CREATED:20250821T082517Z
LAST-MODIFIED:20250821T082517Z
UID:10006672-1755907200-1756079999@chassellmarket.com
SUMMARY:Fire Hall Usage: Fire and rescue training
DESCRIPTION:
URL:https://chassellmarket.com/community-calendar/fire-hall-usage-fire-and-rescue-training/
LOCATION:MI
CATEGORIES:Events
END:VEVENT
BEGIN:VEVENT
DTSTART;TZID=America/New_York:20250824T000000
DTEND;TZID=America/New_York:20250824T235959
DTSTAMP:20260424T090620
CREATED:20250803T102617Z
LAST-MODIFIED:20250824T102548Z
UID:10006598-1755993600-1756079999@chassellmarket.com
SUMMARY:AA Meetings
DESCRIPTION:For an up to date list of all AA meetings in the Copper Country\, click here.
URL:https://chassellmarket.com/community-calendar/aa-meetings-872/
LOCATION:MI
CATEGORIES:Events
END:VEVENT
BEGIN:VEVENT
DTSTART;TZID=America/New_York:20250824T140000
DTEND;TZID=America/New_York:20250824T170000
DTSTAMP:20260424T090620
CREATED:20250803T102617Z
LAST-MODIFIED:20250824T102548Z
UID:10006597-1756044000-1756054800@chassellmarket.com
SUMMARY:Polka Dance - South Range
DESCRIPTION:The South Range Eagles Club hosts polka dances with live music each Sunday. All are welcome.
URL:https://chassellmarket.com/community-calendar/polka-dance-south-range-125/
LOCATION:South Range Eagles\, 8 Baltic Ave\, South Range\, MI\, United States
CATEGORIES:Events
GEO:47.070836;-88.640432
X-APPLE-STRUCTURED-LOCATION;VALUE=URI;X-ADDRESS=South Range Eagles 8 Baltic Ave South Range MI United States;X-APPLE-RADIUS=500;X-TITLE=8 Baltic Ave:geo:-88.640432,47.070836
END:VEVENT
BEGIN:VEVENT
DTSTART;TZID=America/New_York:20250825T000000
DTEND;TZID=America/New_York:20250825T235959
DTSTAMP:20260424T090620
CREATED:20250803T102635Z
LAST-MODIFIED:20250824T102548Z
UID:10006601-1756080000-1756166399@chassellmarket.com
SUMMARY:AA Meetings
DESCRIPTION:For an up to date list of all AA meetings in the Copper Country\, click here.
URL:https://chassellmarket.com/community-calendar/aa-meetings-873/
LOCATION:MI
CATEGORIES:Events
END:VEVENT
BEGIN:VEVENT
DTSTART;TZID=America/New_York:20250825T090000
DTEND;TZID=America/New_York:20250825T120000
DTSTAMP:20260424T090620
CREATED:20250803T102636Z
LAST-MODIFIED:20250824T102548Z
UID:10006602-1756112400-1756123200@chassellmarket.com
SUMMARY:Treehouse Playgroup
DESCRIPTION:The Keweenaw Family Resource Center playgroup will meet at the Tree House Indoor Playground. \nPlaygroup is for families in the area with children birth through 4 years of age. The playgroups provide an opportunity for children and parents to play in an environment that is supportive and nurturing. Morning playgroups are offered in the communities of Houghton\, and Mohawk.   \nPlaygroups are structured to allow children to explore and play at their own pace. We encourage parents to interact with their children at all times\, especially during snack time\, exploration time and during clean up. Playgroup coordinators are there to facilitate the sessions\, model appropriate adult behavior\, and interact with children in ways which will assist them in their learning and development of social skills. We strive for a positive experience for everyone. Playgroups are open to all area families. \nWhat to Expect at Playgroup:\n\nFree Play Time\, where children can choose to play with any toys they like.\nCircle time\, where the children are encouraged to sit in a group circle and sing songs and do finger plays.\nExploration time\, when children learn new things by free creation-finger painting\, coloring\, drawing.\nSnack time\, when children sit at the table with the other children and have a healthy snack.\nClean up time\, where both the children and their parents are required to participate. The snack is put away\, the toys put where they belong\, and the exploration area is tidied up.\n\nGet notification reminders for our playgroups by going to our event calendar\, then adding selected events to your Google calendar! Visit our Facebook page to stay informed on playgroup cancelations or other community events and resources.
URL:https://chassellmarket.com/community-calendar/treehouse-playgroup-92/
LOCATION:The Tree House Indoor Playground\, 850 W Sharon Ave\, Houghton\, MI\, United States
CATEGORIES:Events
GEO:47.113224;-88.585758
X-APPLE-STRUCTURED-LOCATION;VALUE=URI;X-ADDRESS=The Tree House Indoor Playground 850 W Sharon Ave Houghton MI United States;X-APPLE-RADIUS=500;X-TITLE=850 W Sharon Ave:geo:-88.585758,47.113224
END:VEVENT
BEGIN:VEVENT
DTSTART;TZID=America/New_York:20250825T110000
DTEND;TZID=America/New_York:20250825T133000
DTSTAMP:20260424T090620
CREATED:20250420T185634Z
LAST-MODIFIED:20250821T082517Z
UID:10006021-1756119600-1756128600@chassellmarket.com
SUMMARY:Senior Meals at the Fire Hall
DESCRIPTION:
URL:https://chassellmarket.com/community-calendar/senior-meals-at-the-fire-hall-243/
LOCATION:Chassell Township Fire Department\, 22098 7th St\, Chassell\, MI\, United States
CATEGORIES:Events
GEO:47.0219;-88.530903
X-APPLE-STRUCTURED-LOCATION;VALUE=URI;X-ADDRESS=Chassell Township Fire Department 22098 7th St Chassell MI United States;X-APPLE-RADIUS=500;X-TITLE=22098 7th St:geo:-88.530903,47.0219
END:VEVENT
BEGIN:VEVENT
DTSTART;TZID=America/New_York:20250825T130000
DTEND;TZID=America/New_York:20250825T180000
DTSTAMP:20260424T090620
CREATED:20250420T185634Z
LAST-MODIFIED:20250821T082517Z
UID:10006020-1756126800-1756144800@chassellmarket.com
SUMMARY:Township Clerk Office Hours
DESCRIPTION:
URL:https://chassellmarket.com/community-calendar/township-clerk-office-hours-68/
LOCATION:MI
CATEGORIES:Events
END:VEVENT
BEGIN:VEVENT
DTSTART;TZID=America/New_York:20250825T160000
DTEND;TZID=America/New_York:20250825T180000
DTSTAMP:20260424T090620
CREATED:20250803T102618Z
LAST-MODIFIED:20250824T102548Z
UID:10006599-1756137600-1756144800@chassellmarket.com
SUMMARY:Chess Club
DESCRIPTION:Chess enthusiasts of all levels are invited to join the weekly Chess Club at the Portage Lake District Library. Whether you’re a beginner or a seasoned player\, you’ll find a welcoming environment to learn\, play\, and compete. Activities start at 4:00 pm\, followed by skill-building exercises at 5:00 pm to enhance your gameplay. Open to those ages 7 and up\, this is a great opportunity to meet new friends and challenge your mind.
URL:https://chassellmarket.com/community-calendar/chess-club-31/
LOCATION:Portage Lake District Library\, 58 Huron St\, Houghton\, MI\, United States
CATEGORIES:Events
GEO:47.122079;-88.568186
X-APPLE-STRUCTURED-LOCATION;VALUE=URI;X-ADDRESS=Portage Lake District Library 58 Huron St Houghton MI United States;X-APPLE-RADIUS=500;X-TITLE=58 Huron St:geo:-88.568186,47.122079
END:VEVENT
BEGIN:VEVENT
DTSTART;TZID=America/New_York:20250825T183000
DTEND;TZID=America/New_York:20250825T183000
DTSTAMP:20260424T090620
CREATED:20250803T102618Z
LAST-MODIFIED:20250824T102620Z
UID:10006600-1756146600-1756146600@chassellmarket.com
SUMMARY:Celebrate Recovery Support Group - Houghton
DESCRIPTION:The Celebrate Recovery group at Evangel Community Church meets weekly Mondays at 6:30. The group provides a safe place to find freedom and healing\, offering hope\, support\, and real change. \nCome as you are – all are welcome. For more information\, text “recovery” to 906-254-5444 or visit the church website.
URL:https://chassellmarket.com/community-calendar/celebrate-recovery-support-group-houghton-24/
LOCATION:Evangel Community Church\, 1600 Memorial Dr\, Houghton\, MI\, United States
CATEGORIES:Events
GEO:47.104042;-88.595585
X-APPLE-STRUCTURED-LOCATION;VALUE=URI;X-ADDRESS=Evangel Community Church 1600 Memorial Dr Houghton MI United States;X-APPLE-RADIUS=500;X-TITLE=1600 Memorial Dr:geo:-88.595585,47.104042
END:VEVENT
BEGIN:VEVENT
DTSTART;TZID=America/New_York:20250826T000000
DTEND;TZID=America/New_York:20250826T235959
DTSTAMP:20260424T090620
CREATED:20250803T102636Z
LAST-MODIFIED:20250824T102628Z
UID:10006603-1756166400-1756252799@chassellmarket.com
SUMMARY:AA Meetings
DESCRIPTION:For an up to date list of all AA meetings in the Copper Country\, click here.
URL:https://chassellmarket.com/community-calendar/aa-meetings-874/
LOCATION:MI
CATEGORIES:Events
END:VEVENT
BEGIN:VEVENT
DTSTART;TZID=America/New_York:20250826T100000
DTEND;TZID=America/New_York:20250826T100000
DTSTAMP:20260424T090620
CREATED:20250803T102636Z
LAST-MODIFIED:20250824T102620Z
UID:10006604-1756202400-1756202400@chassellmarket.com
SUMMARY:Gentle Exercise Class
DESCRIPTION:UP Health System-Portage presents a free gentle exercise class the last Tuesday of each month at Grace Lutheran Church in South Range. The focus will include strength\, cardio and flexibility to improve overall fitness. Options will be given for standing or chair-based workouts. No equipment or registration is needed.
URL:https://chassellmarket.com/community-calendar/gentle-exercise-class-20/
LOCATION:Grace Lutheran Church\, 4 M-26\, South Range\, MI\, United States
CATEGORIES:Events
GEO:47.07058;-88.640502
X-APPLE-STRUCTURED-LOCATION;VALUE=URI;X-ADDRESS=Grace Lutheran Church 4 M-26 South Range MI United States;X-APPLE-RADIUS=500;X-TITLE=4 M-26:geo:-88.640502,47.07058
END:VEVENT
BEGIN:VEVENT
DTSTART;TZID=America/New_York:20250826T130000
DTEND;TZID=America/New_York:20250826T130000
DTSTAMP:20260424T090620
CREATED:20250803T102636Z
LAST-MODIFIED:20250824T102621Z
UID:10006605-1756213200-1756213200@chassellmarket.com
SUMMARY:Bridge Games
DESCRIPTION:The Baragaland Senior Center hosts Bridge games each Tuesday at 1.
URL:https://chassellmarket.com/community-calendar/bridge-games-32/
LOCATION:Baragaland Senior Citizens Center\, 6 N Main St\, L'Anse\, MI\, United States
CATEGORIES:Events
GEO:46.757969;-88.454464
X-APPLE-STRUCTURED-LOCATION;VALUE=URI;X-ADDRESS=Baragaland Senior Citizens Center 6 N Main St L'Anse MI United States;X-APPLE-RADIUS=500;X-TITLE=6 N Main St:geo:-88.454464,46.757969
END:VEVENT
BEGIN:VEVENT
DTSTART;TZID=America/New_York:20250826T160000
DTEND;TZID=America/New_York:20250826T160000
DTSTAMP:20260424T090620
CREATED:20250803T102644Z
LAST-MODIFIED:20250824T102621Z
UID:10006606-1756224000-1756224000@chassellmarket.com
SUMMARY:Cribbage League
DESCRIPTION:The Cribbage League meets each Tuesday at Armando’s in Houghton. All ages and skill levels are welcome. To get involved\, call or text 906-482-2422\, or just show up at a session.
URL:https://chassellmarket.com/community-calendar/cribbage-league-45/
LOCATION:Armando’s Restaurant\, 517 Shelden Ave\, Houghton\, MI\, United States
CATEGORIES:Events
GEO:47.121788;-88.567979
X-APPLE-STRUCTURED-LOCATION;VALUE=URI;X-ADDRESS=Armando’s Restaurant 517 Shelden Ave Houghton MI United States;X-APPLE-RADIUS=500;X-TITLE=517 Shelden Ave:geo:-88.567979,47.121788
END:VEVENT
BEGIN:VEVENT
DTSTART;TZID=America/New_York:20250826T183000
DTEND;TZID=America/New_York:20250826T183000
DTSTAMP:20260424T090620
CREATED:20250803T102644Z
LAST-MODIFIED:20250824T102621Z
UID:10006607-1756233000-1756233000@chassellmarket.com
SUMMARY:Celebrate Recovery Support Group - L'Anse
DESCRIPTION:The Celebrate Recovery group at Northiron Church in L’Anse meets weekly Mondays at 6:30. The group provides a safe place to find freedom and healing\, offering hope\, support\, and real change.
URL:https://chassellmarket.com/community-calendar/celebrate-recovery-support-group-lanse-26/
LOCATION:Northiron Church\, 46001 Hwy US 41\, Houghton\, MI\, United States
CATEGORIES:Events
GEO:47.08307;-88.516647
X-APPLE-STRUCTURED-LOCATION;VALUE=URI;X-ADDRESS=Northiron Church 46001 Hwy US 41 Houghton MI United States;X-APPLE-RADIUS=500;X-TITLE=46001 Hwy US 41:geo:-88.516647,47.08307
END:VEVENT
BEGIN:VEVENT
DTSTART;TZID=America/New_York:20250826T190000
DTEND;TZID=America/New_York:20250826T190000
DTSTAMP:20260424T090620
CREATED:20250803T102645Z
LAST-MODIFIED:20250824T102628Z
UID:10006608-1756234800-1756234800@chassellmarket.com
SUMMARY:VetsForJesus Meeting
DESCRIPTION: VetsForJesus is a veteran-led Bible study for veterans and whoever else wants to attend.  Typically\, they read a small portion of the Bible and talk about it around the table.
URL:https://chassellmarket.com/community-calendar/vetsforjesus-meeting-123/
LOCATION:VFW HALL- POST 4624\, 52218 Duncan Ave\, Hubbell\, MI\, United States
CATEGORIES:Events
GEO:47.174133;-88.427997
X-APPLE-STRUCTURED-LOCATION;VALUE=URI;X-ADDRESS=VFW HALL- POST 4624 52218 Duncan Ave Hubbell MI United States;X-APPLE-RADIUS=500;X-TITLE=52218 Duncan Ave:geo:-88.427997,47.174133
END:VEVENT
END:VCALENDAR