BEGIN:VCALENDAR
VERSION:2.0
PRODID:-//Chassell Farmers Market &amp; Houghton Indoor Farm and Craft Market - ECPv6.15.17//NONSGML v1.0//EN
CALSCALE:GREGORIAN
METHOD:PUBLISH
X-WR-CALNAME:Chassell Farmers Market &amp; Houghton Indoor Farm and Craft Market
X-ORIGINAL-URL:https://chassellmarket.com
X-WR-CALDESC:Events for Chassell Farmers Market &amp; Houghton Indoor Farm and Craft Market
REFRESH-INTERVAL;VALUE=DURATION:PT1H
X-Robots-Tag:noindex
X-PUBLISHED-TTL:PT1H
BEGIN:VTIMEZONE
TZID:America/New_York
BEGIN:DAYLIGHT
TZOFFSETFROM:-0500
TZOFFSETTO:-0400
TZNAME:EDT
DTSTART:20240310T070000
END:DAYLIGHT
BEGIN:STANDARD
TZOFFSETFROM:-0400
TZOFFSETTO:-0500
TZNAME:EST
DTSTART:20241103T060000
END:STANDARD
BEGIN:DAYLIGHT
TZOFFSETFROM:-0500
TZOFFSETTO:-0400
TZNAME:EDT
DTSTART:20250309T070000
END:DAYLIGHT
BEGIN:STANDARD
TZOFFSETFROM:-0400
TZOFFSETTO:-0500
TZNAME:EST
DTSTART:20251102T060000
END:STANDARD
BEGIN:DAYLIGHT
TZOFFSETFROM:-0500
TZOFFSETTO:-0400
TZNAME:EDT
DTSTART:20260308T070000
END:DAYLIGHT
BEGIN:STANDARD
TZOFFSETFROM:-0400
TZOFFSETTO:-0500
TZNAME:EST
DTSTART:20261101T060000
END:STANDARD
END:VTIMEZONE
BEGIN:VEVENT
DTSTART;TZID=America/New_York:20250807T000000
DTEND;TZID=America/New_York:20250807T235959
DTSTAMP:20260423T124301
CREATED:20250622T081001Z
LAST-MODIFIED:20250722T082433Z
UID:10006407-1754524800-1754611199@chassellmarket.com
SUMMARY:Pavilion Not Available (NC)
DESCRIPTION:
URL:https://chassellmarket.com/community-calendar/pavilion-not-available-nc-22/
CATEGORIES:Events
END:VEVENT
BEGIN:VEVENT
DTSTART;TZID=America/New_York:20250807T133000
DTEND;TZID=America/New_York:20250807T133000
DTSTAMP:20260423T124301
CREATED:20250720T102602Z
LAST-MODIFIED:20250803T102512Z
UID:10006512-1754573400-1754573400@chassellmarket.com
SUMMARY:Preschool Story Time
DESCRIPTION:Preschool story time meets each Wednesday at 10:30 and Thursday at 1:30 in the children's area at the Portage Lake District Library. Children can enjoy a story\, and bring home a take-and-make craft bag.
URL:https://chassellmarket.com/community-calendar/preschool-story-time-210/
LOCATION:Portage Lake District Library\, 58 Huron St\, Houghton\, MI\, United States
CATEGORIES:Events
GEO:47.122079;-88.568186
X-APPLE-STRUCTURED-LOCATION;VALUE=URI;X-ADDRESS=Portage Lake District Library 58 Huron St Houghton MI United States;X-APPLE-RADIUS=500;X-TITLE=58 Huron St:geo:-88.568186,47.122079
END:VEVENT
BEGIN:VEVENT
DTSTART;TZID=America/New_York:20250807T150000
DTEND;TZID=America/New_York:20250807T150000
DTSTAMP:20260423T124301
CREATED:20250720T102602Z
LAST-MODIFIED:20250803T102507Z
UID:10006513-1754578800-1754578800@chassellmarket.com
SUMMARY:Caregivers Support Group
DESCRIPTION:The Baragaland Senior Center Caregiver’s Support Group meets every other Thursday at 3:00 (unless otherwise announced). Anyone caring for a loved one with dementia or Alzheimer’s is welcome. For more details\, call (906) 524-6711 or (906) 524-6922.
URL:https://chassellmarket.com/community-calendar/caregivers-support-group-23/
LOCATION:Baragaland Senior Citizens Center\, 6 N Main St\, L'Anse\, MI\, United States
CATEGORIES:Events
GEO:46.757969;-88.454464
X-APPLE-STRUCTURED-LOCATION;VALUE=URI;X-ADDRESS=Baragaland Senior Citizens Center 6 N Main St L'Anse MI United States;X-APPLE-RADIUS=500;X-TITLE=6 N Main St:geo:-88.454464,46.757969
END:VEVENT
BEGIN:VEVENT
DTSTART;TZID=America/New_York:20250807T190000
DTEND;TZID=America/New_York:20250807T200000
DTSTAMP:20260423T124301
CREATED:20250420T185618Z
LAST-MODIFIED:20250722T082433Z
UID:10006006-1754593200-1754596800@chassellmarket.com
SUMMARY:Planning Commission Meeting
DESCRIPTION:
URL:https://chassellmarket.com/community-calendar/planning-commission-meeting-48/
LOCATION:Chassell Township Fire Department\, 22098 7th St\, Chassell\, MI\, United States
CATEGORIES:Events
GEO:47.0219;-88.530903
X-APPLE-STRUCTURED-LOCATION;VALUE=URI;X-ADDRESS=Chassell Township Fire Department 22098 7th St Chassell MI United States;X-APPLE-RADIUS=500;X-TITLE=22098 7th St:geo:-88.530903,47.0219
END:VEVENT
BEGIN:VEVENT
DTSTART;TZID=America/New_York:20250808T000000
DTEND;TZID=America/New_York:20250808T235959
DTSTAMP:20260423T124301
CREATED:20250720T102603Z
LAST-MODIFIED:20250803T102512Z
UID:10006514-1754611200-1754697599@chassellmarket.com
SUMMARY:AA Meetings
DESCRIPTION:For an up to date list of all AA meetings in the Copper Country\, click here.
URL:https://chassellmarket.com/community-calendar/aa-meetings-855/
CATEGORIES:Events
END:VEVENT
BEGIN:VEVENT
DTSTART;TZID=America/New_York:20250808T090000
DTEND;TZID=America/New_York:20250808T120000
DTSTAMP:20260423T124301
CREATED:20250720T102606Z
LAST-MODIFIED:20250803T102508Z
UID:10006516-1754643600-1754654400@chassellmarket.com
SUMMARY:Treehouse Playgroup
DESCRIPTION:The Keweenaw Family Resource Center playgroup will meet at the Tree House Indoor Playground. \nPlaygroup is for families in the area with children birth through 4 years of age. The playgroups provide an opportunity for children and parents to play in an environment that is supportive and nurturing. Morning playgroups are offered in the communities of Houghton\, and Mohawk.   \nPlaygroups are structured to allow children to explore and play at their own pace. We encourage parents to interact with their children at all times\, especially during snack time\, exploration time and during clean up. Playgroup coordinators are there to facilitate the sessions\, model appropriate adult behavior\, and interact with children in ways which will assist them in their learning and development of social skills. We strive for a positive experience for everyone. Playgroups are open to all area families. \nWhat to Expect at Playgroup:\n\nFree Play Time\, where children can choose to play with any toys they like.\nCircle time\, where the children are encouraged to sit in a group circle and sing songs and do finger plays.\nExploration time\, when children learn new things by free creation-finger painting\, coloring\, drawing.\nSnack time\, when children sit at the table with the other children and have a healthy snack.\nClean up time\, where both the children and their parents are required to participate. The snack is put away\, the toys put where they belong\, and the exploration area is tidied up.\n\nGet notification reminders for our playgroups by going to our event calendar\, then adding selected events to your Google calendar! Visit our Facebook page to stay informed on playgroup cancelations or other community events and resources.
URL:https://chassellmarket.com/community-calendar/treehouse-playgroup-87/
LOCATION:The Tree House Indoor Playground\, 850 W Sharon Ave\, Houghton\, MI\, United States
CATEGORIES:Events
GEO:47.113224;-88.585758
X-APPLE-STRUCTURED-LOCATION;VALUE=URI;X-ADDRESS=The Tree House Indoor Playground 850 W Sharon Ave Houghton MI United States;X-APPLE-RADIUS=500;X-TITLE=850 W Sharon Ave:geo:-88.585758,47.113224
END:VEVENT
BEGIN:VEVENT
DTSTART;TZID=America/New_York:20250808T160000
DTEND;TZID=America/New_York:20250808T160000
DTSTAMP:20260423T124301
CREATED:20250720T102606Z
LAST-MODIFIED:20250803T102516Z
UID:10006517-1754668800-1754668800@chassellmarket.com
SUMMARY:Art 'n' Chill Teen Art Club
DESCRIPTION:The Art 'n' Chill Teen Art Club at the Portage Lake District Library gives teens a chance to explore traditional art media.
URL:https://chassellmarket.com/community-calendar/art-n-chill-teen-art-club-7/
LOCATION:Portage Lake District Library\, 58 Huron St\, Houghton\, MI\, United States
CATEGORIES:Events
GEO:47.122079;-88.568186
X-APPLE-STRUCTURED-LOCATION;VALUE=URI;X-ADDRESS=Portage Lake District Library 58 Huron St Houghton MI United States;X-APPLE-RADIUS=500;X-TITLE=58 Huron St:geo:-88.568186,47.122079
END:VEVENT
BEGIN:VEVENT
DTSTART;TZID=America/New_York:20250809T000000
DTEND;TZID=America/New_York:20250809T235959
DTSTAMP:20260423T124301
CREATED:20250720T102607Z
LAST-MODIFIED:20250803T102512Z
UID:10006519-1754697600-1754783999@chassellmarket.com
SUMMARY:AA Meetings
DESCRIPTION:For an up to date list of all AA meetings in the Copper Country\, click here.
URL:https://chassellmarket.com/community-calendar/aa-meetings-858/
CATEGORIES:Events
END:VEVENT
BEGIN:VEVENT
DTSTART;TZID=America/New_York:20250809T000000
DTEND;TZID=America/New_York:20250809T235959
DTSTAMP:20260423T124301
CREATED:20250420T185618Z
LAST-MODIFIED:20250722T082433Z
UID:10006007-1754697600-1754783999@chassellmarket.com
SUMMARY:Pavilion Not Available (C)
DESCRIPTION:
URL:https://chassellmarket.com/community-calendar/pavilion-not-available-nc-16/
CATEGORIES:Events
END:VEVENT
BEGIN:VEVENT
DTSTART;TZID=America/New_York:20250810T000000
DTEND;TZID=America/New_York:20250810T235959
DTSTAMP:20260423T124301
CREATED:20250720T102606Z
LAST-MODIFIED:20250810T102536Z
UID:10006518-1754784000-1754870399@chassellmarket.com
SUMMARY:AA Meetings
DESCRIPTION:For an up to date list of all AA meetings in the Copper Country\, click here.
URL:https://chassellmarket.com/community-calendar/aa-meetings-857/
CATEGORIES:Events
END:VEVENT
BEGIN:VEVENT
DTSTART;TZID=America/New_York:20250810T000000
DTEND;TZID=America/New_York:20250810T235959
DTSTAMP:20260423T124301
CREATED:20250420T185619Z
LAST-MODIFIED:20250722T082433Z
UID:10006008-1754784000-1754870399@chassellmarket.com
SUMMARY:Pavilion Not Available (NC)
DESCRIPTION:
URL:https://chassellmarket.com/community-calendar/pavilion-not-available-nc-17/
CATEGORIES:Events
END:VEVENT
BEGIN:VEVENT
DTSTART;TZID=America/New_York:20250810T140000
DTEND;TZID=America/New_York:20250810T170000
DTSTAMP:20260423T124301
CREATED:20250720T102607Z
LAST-MODIFIED:20250810T102536Z
UID:10006520-1754834400-1754845200@chassellmarket.com
SUMMARY:Polka Dance - South Range
DESCRIPTION:The South Range Eagles Club hosts polka dances with live music each Sunday. All are welcome.
URL:https://chassellmarket.com/community-calendar/polka-dance-south-range-123/
LOCATION:South Range Eagles\, 8 Baltic Ave\, South Range\, MI\, United States
CATEGORIES:Events
GEO:47.070836;-88.640432
X-APPLE-STRUCTURED-LOCATION;VALUE=URI;X-ADDRESS=South Range Eagles 8 Baltic Ave South Range MI United States;X-APPLE-RADIUS=500;X-TITLE=8 Baltic Ave:geo:-88.640432,47.070836
END:VEVENT
BEGIN:VEVENT
DTSTART;TZID=America/New_York:20250810T160000
DTEND;TZID=America/New_York:20250810T173000
DTSTAMP:20260423T124301
CREATED:20250720T102613Z
LAST-MODIFIED:20250810T102536Z
UID:10006521-1754841600-1754847000@chassellmarket.com
SUMMARY:"Let's Eat" Community Meal - Baraga
DESCRIPTION:The "Let's Eat" community meal program offers a free dinner at St. Ann's Church in Baraga. All are welcome.
URL:https://chassellmarket.com/community-calendar/lets-eat-community-meal-baraga-13/
LOCATION:Saint Ann’s Church\, Baraga\, MI\, United States
CATEGORIES:Events
GEO:46.80476;-88.575842
END:VEVENT
BEGIN:VEVENT
DTSTART;TZID=America/New_York:20250811T000000
DTEND;TZID=America/New_York:20250811T235959
DTSTAMP:20260423T124301
CREATED:20250720T102613Z
LAST-MODIFIED:20250810T102536Z
UID:10006524-1754870400-1754956799@chassellmarket.com
SUMMARY:AA Meetings
DESCRIPTION:For an up to date list of all AA meetings in the Copper Country\, click here.
URL:https://chassellmarket.com/community-calendar/aa-meetings-859/
CATEGORIES:Events
END:VEVENT
BEGIN:VEVENT
DTSTART;TZID=America/New_York:20250811T090000
DTEND;TZID=America/New_York:20250811T120000
DTSTAMP:20260423T124301
CREATED:20250720T102614Z
LAST-MODIFIED:20250810T102537Z
UID:10006525-1754902800-1754913600@chassellmarket.com
SUMMARY:Treehouse Playgroup
DESCRIPTION:The Keweenaw Family Resource Center playgroup will meet at the Tree House Indoor Playground. \nPlaygroup is for families in the area with children birth through 4 years of age. The playgroups provide an opportunity for children and parents to play in an environment that is supportive and nurturing. Morning playgroups are offered in the communities of Houghton\, and Mohawk.   \nPlaygroups are structured to allow children to explore and play at their own pace. We encourage parents to interact with their children at all times\, especially during snack time\, exploration time and during clean up. Playgroup coordinators are there to facilitate the sessions\, model appropriate adult behavior\, and interact with children in ways which will assist them in their learning and development of social skills. We strive for a positive experience for everyone. Playgroups are open to all area families. \nWhat to Expect at Playgroup:\n\nFree Play Time\, where children can choose to play with any toys they like.\nCircle time\, where the children are encouraged to sit in a group circle and sing songs and do finger plays.\nExploration time\, when children learn new things by free creation-finger painting\, coloring\, drawing.\nSnack time\, when children sit at the table with the other children and have a healthy snack.\nClean up time\, where both the children and their parents are required to participate. The snack is put away\, the toys put where they belong\, and the exploration area is tidied up.\n\nGet notification reminders for our playgroups by going to our event calendar\, then adding selected events to your Google calendar! Visit our Facebook page to stay informed on playgroup cancelations or other community events and resources.
URL:https://chassellmarket.com/community-calendar/treehouse-playgroup-88/
LOCATION:The Tree House Indoor Playground\, 850 W Sharon Ave\, Houghton\, MI\, United States
CATEGORIES:Events
GEO:47.113224;-88.585758
X-APPLE-STRUCTURED-LOCATION;VALUE=URI;X-ADDRESS=The Tree House Indoor Playground 850 W Sharon Ave Houghton MI United States;X-APPLE-RADIUS=500;X-TITLE=850 W Sharon Ave:geo:-88.585758,47.113224
END:VEVENT
BEGIN:VEVENT
DTSTART;TZID=America/New_York:20250811T110000
DTEND;TZID=America/New_York:20250811T133000
DTSTAMP:20260423T124301
CREATED:20250420T185619Z
LAST-MODIFIED:20250722T082433Z
UID:10006010-1754910000-1754919000@chassellmarket.com
SUMMARY:Senior Meals at the Fire Hall
DESCRIPTION:
URL:https://chassellmarket.com/community-calendar/senior-meals-at-the-fire-hall-239/
LOCATION:Chassell Township Fire Department\, 22098 7th St\, Chassell\, MI\, United States
CATEGORIES:Events
GEO:47.0219;-88.530903
X-APPLE-STRUCTURED-LOCATION;VALUE=URI;X-ADDRESS=Chassell Township Fire Department 22098 7th St Chassell MI United States;X-APPLE-RADIUS=500;X-TITLE=22098 7th St:geo:-88.530903,47.0219
END:VEVENT
BEGIN:VEVENT
DTSTART;TZID=America/New_York:20250811T130000
DTEND;TZID=America/New_York:20250811T180000
DTSTAMP:20260423T124301
CREATED:20250420T185619Z
LAST-MODIFIED:20250722T082433Z
UID:10006009-1754917200-1754935200@chassellmarket.com
SUMMARY:Township Clerk Office Hours
DESCRIPTION:
URL:https://chassellmarket.com/community-calendar/township-clerk-office-hours-66/
CATEGORIES:Events
END:VEVENT
BEGIN:VEVENT
DTSTART;TZID=America/New_York:20250811T160000
DTEND;TZID=America/New_York:20250811T180000
DTSTAMP:20260423T124301
CREATED:20250720T102613Z
LAST-MODIFIED:20250810T102628Z
UID:10006522-1754928000-1754935200@chassellmarket.com
SUMMARY:Chess Club
DESCRIPTION:Chess enthusiasts of all levels are invited to join the weekly Chess Club at the Portage Lake District Library. Whether you’re a beginner or a seasoned player\, you’ll find a welcoming environment to learn\, play\, and compete. Activities start at 4:00 pm\, followed by skill-building exercises at 5:00 pm to enhance your gameplay. Open to those ages 7 and up\, this is a great opportunity to meet new friends and challenge your mind.
URL:https://chassellmarket.com/community-calendar/chess-club-29/
LOCATION:Portage Lake District Library\, 58 Huron St\, Houghton\, MI\, United States
CATEGORIES:Events
GEO:47.122079;-88.568186
X-APPLE-STRUCTURED-LOCATION;VALUE=URI;X-ADDRESS=Portage Lake District Library 58 Huron St Houghton MI United States;X-APPLE-RADIUS=500;X-TITLE=58 Huron St:geo:-88.568186,47.122079
END:VEVENT
BEGIN:VEVENT
DTSTART;TZID=America/New_York:20250811T183000
DTEND;TZID=America/New_York:20250811T183000
DTSTAMP:20260423T124301
CREATED:20250720T102613Z
LAST-MODIFIED:20250810T102628Z
UID:10006523-1754937000-1754937000@chassellmarket.com
SUMMARY:Celebrate Recovery Support Group - Houghton
DESCRIPTION:The Celebrate Recovery group at Evangel Community Church meets weekly Mondays at 6:30. The group provides a safe place to find freedom and healing\, offering hope\, support\, and real change. \nCome as you are – all are welcome. For more information\, text “recovery” to 906-254-5444 or visit the church website.
URL:https://chassellmarket.com/community-calendar/celebrate-recovery-support-group-houghton-22/
LOCATION:Evangel Community Church\, 1600 Memorial Dr\, Houghton\, MI\, United States
CATEGORIES:Events
GEO:47.104042;-88.595585
X-APPLE-STRUCTURED-LOCATION;VALUE=URI;X-ADDRESS=Evangel Community Church 1600 Memorial Dr Houghton MI United States;X-APPLE-RADIUS=500;X-TITLE=1600 Memorial Dr:geo:-88.595585,47.104042
END:VEVENT
BEGIN:VEVENT
DTSTART;TZID=America/New_York:20250812T000000
DTEND;TZID=America/New_York:20250812T235959
DTSTAMP:20260423T124301
CREATED:20250722T082433Z
LAST-MODIFIED:20250722T082433Z
UID:10006541-1754956800-1755043199@chassellmarket.com
SUMMARY:Pavilion Not Available (C)
DESCRIPTION:
URL:https://chassellmarket.com/community-calendar/pavilion-not-available-c-15/
CATEGORIES:Events
END:VEVENT
BEGIN:VEVENT
DTSTART;TZID=America/New_York:20250812T000000
DTEND;TZID=America/New_York:20250812T235959
DTSTAMP:20260423T124301
CREATED:20250720T102617Z
LAST-MODIFIED:20250810T102631Z
UID:10006529-1754956800-1755043199@chassellmarket.com
SUMMARY:AA Meetings
DESCRIPTION:For an up to date list of all AA meetings in the Copper Country\, click here.
URL:https://chassellmarket.com/community-calendar/aa-meetings-860/
CATEGORIES:Events
END:VEVENT
BEGIN:VEVENT
DTSTART;TZID=America/New_York:20250812T130000
DTEND;TZID=America/New_York:20250812T130000
DTSTAMP:20260423T124301
CREATED:20250720T102617Z
LAST-MODIFIED:20250810T102628Z
UID:10006526-1755003600-1755003600@chassellmarket.com
SUMMARY:Bridge Games
DESCRIPTION:The Baragaland Senior Center hosts Bridge games each Tuesday at 1.
URL:https://chassellmarket.com/community-calendar/bridge-games-30/
LOCATION:Baragaland Senior Citizens Center\, 6 N Main St\, L'Anse\, MI\, United States
CATEGORIES:Events
GEO:46.757969;-88.454464
X-APPLE-STRUCTURED-LOCATION;VALUE=URI;X-ADDRESS=Baragaland Senior Citizens Center 6 N Main St L'Anse MI United States;X-APPLE-RADIUS=500;X-TITLE=6 N Main St:geo:-88.454464,46.757969
END:VEVENT
BEGIN:VEVENT
DTSTART;TZID=America/New_York:20250812T160000
DTEND;TZID=America/New_York:20250812T160000
DTSTAMP:20260423T124301
CREATED:20250720T102618Z
LAST-MODIFIED:20250810T102628Z
UID:10006530-1755014400-1755014400@chassellmarket.com
SUMMARY:Cribbage League
DESCRIPTION:The Cribbage League meets each Tuesday at Armando’s in Houghton. All ages and skill levels are welcome. To get involved\, call or text 906-482-2422\, or just show up at a session.
URL:https://chassellmarket.com/community-calendar/cribbage-league-43/
LOCATION:Armando’s Restaurant\, 517 Shelden Ave\, Houghton\, MI\, United States
CATEGORIES:Events
GEO:47.121788;-88.567979
X-APPLE-STRUCTURED-LOCATION;VALUE=URI;X-ADDRESS=Armando’s Restaurant 517 Shelden Ave Houghton MI United States;X-APPLE-RADIUS=500;X-TITLE=517 Shelden Ave:geo:-88.567979,47.121788
END:VEVENT
BEGIN:VEVENT
DTSTART;TZID=America/New_York:20250812T183000
DTEND;TZID=America/New_York:20250812T183000
DTSTAMP:20260423T124301
CREATED:20250720T102617Z
LAST-MODIFIED:20250810T102631Z
UID:10006527-1755023400-1755023400@chassellmarket.com
SUMMARY:Celebrate Recovery Support Group - L'Anse
DESCRIPTION:The Celebrate Recovery group at Northiron Church in L’Anse meets weekly Mondays at 6:30. The group provides a safe place to find freedom and healing\, offering hope\, support\, and real change.
URL:https://chassellmarket.com/community-calendar/celebrate-recovery-support-group-lanse-24/
LOCATION:Northiron Church\, 46001 Hwy US 41\, Houghton\, MI\, United States
CATEGORIES:Events
GEO:47.08307;-88.516647
X-APPLE-STRUCTURED-LOCATION;VALUE=URI;X-ADDRESS=Northiron Church 46001 Hwy US 41 Houghton MI United States;X-APPLE-RADIUS=500;X-TITLE=46001 Hwy US 41:geo:-88.516647,47.08307
END:VEVENT
BEGIN:VEVENT
DTSTART;TZID=America/New_York:20250812T190000
DTEND;TZID=America/New_York:20250812T190000
DTSTAMP:20260423T124301
CREATED:20250720T102617Z
LAST-MODIFIED:20250810T102628Z
UID:10006528-1755025200-1755025200@chassellmarket.com
SUMMARY:VetsForJesus Meeting
DESCRIPTION: VetsForJesus is a veteran-led Bible study for veterans and whoever else wants to attend.  Typically\, they read a small portion of the Bible and talk about it around the table.
URL:https://chassellmarket.com/community-calendar/vetsforjesus-meeting-121/
LOCATION:VFW HALL- POST 4624\, 52218 Duncan Ave\, Hubbell\, MI\, United States
CATEGORIES:Events
GEO:47.174133;-88.427997
X-APPLE-STRUCTURED-LOCATION;VALUE=URI;X-ADDRESS=VFW HALL- POST 4624 52218 Duncan Ave Hubbell MI United States;X-APPLE-RADIUS=500;X-TITLE=52218 Duncan Ave:geo:-88.427997,47.174133
END:VEVENT
BEGIN:VEVENT
DTSTART;TZID=America/New_York:20250813T000000
DTEND;TZID=America/New_York:20250813T235959
DTSTAMP:20260423T124301
CREATED:20250727T102707Z
LAST-MODIFIED:20250810T102636Z
UID:10006567-1755043200-1755129599@chassellmarket.com
SUMMARY:AA Meetings
DESCRIPTION:For an up to date list of all AA meetings in the Copper Country\, click here.
URL:https://chassellmarket.com/community-calendar/aa-meetings-862/
CATEGORIES:Events
END:VEVENT
BEGIN:VEVENT
DTSTART;TZID=America/New_York:20250813T100000
DTEND;TZID=America/New_York:20250813T120000
DTSTAMP:20260423T124301
CREATED:20250720T102622Z
LAST-MODIFIED:20250810T102632Z
UID:10006531-1755079200-1755086400@chassellmarket.com
SUMMARY:Mohawk Playgroup
DESCRIPTION:The Keweenaw Family Resource Center playgroup will meet at the Horizons School in Mohawk. \nPlaygroup is for families in the area with children birth through 4 years of age. The playgroups provide an opportunity for children and parents to play in an environment that is supportive and nurturing. Morning playgroups are offered in the communities of Houghton\, and Mohawk.   \nPlaygroups are structured to allow children to explore and play at their own pace. We encourage parents to interact with their children at all times\, especially during snack time\, exploration time and during clean up. Playgroup coordinators are there to facilitate the sessions\, model appropriate adult behavior\, and interact with children in ways which will assist them in their learning and development of social skills. We strive for a positive experience for everyone. Playgroups are open to all area families. \nWhat to Expect at Playgroup:\n\nFree Play Time\, where children can choose to play with any toys they like.\nCircle time\, where the children are encouraged to sit in a group circle and sing songs and do finger plays.\nExploration time\, when children learn new things by free creation-finger painting\, coloring\, drawing.\nSnack time\, when children sit at the table with the other children and have a healthy snack.\nClean up time\, where both the children and their parents are required to participate. The snack is put away\, the toys put where they belong\, and the exploration area is tidied up.\n\nGet notification reminders for our playgroups by going to our event calendar\, then adding selected events to your Google calendar! Visit our Facebook page to stay informed on playgroup cancelations or other community events and resources.
URL:https://chassellmarket.com/community-calendar/mohawk-playgroup-40/
LOCATION:Horizons Alternative High School\, 110 Stanton Ave\, Mohawk\, MI\, United States
CATEGORIES:Events
GEO:47.304851;-88.361226
X-APPLE-STRUCTURED-LOCATION;VALUE=URI;X-ADDRESS=Horizons Alternative High School 110 Stanton Ave Mohawk MI United States;X-APPLE-RADIUS=500;X-TITLE=110 Stanton Ave:geo:-88.361226,47.304851
END:VEVENT
BEGIN:VEVENT
DTSTART;TZID=America/New_York:20250813T103000
DTEND;TZID=America/New_York:20250813T103000
DTSTAMP:20260423T124301
CREATED:20250720T102622Z
LAST-MODIFIED:20250810T102631Z
UID:10006532-1755081000-1755081000@chassellmarket.com
SUMMARY:Preschool Story Time
DESCRIPTION:Preschool story time meets each Wednesday at 10:30 and Thursday at 1:30 in the children’s area at the Portage Lake District Library. Children can enjoy a story\, and bring home a take-and-make craft bag.
URL:https://chassellmarket.com/community-calendar/preschool-story-time-211/
LOCATION:Portage Lake District Library\, 58 Huron St\, Houghton\, MI\, United States
CATEGORIES:Events
GEO:47.122079;-88.568186
X-APPLE-STRUCTURED-LOCATION;VALUE=URI;X-ADDRESS=Portage Lake District Library 58 Huron St Houghton MI United States;X-APPLE-RADIUS=500;X-TITLE=58 Huron St:geo:-88.568186,47.122079
END:VEVENT
BEGIN:VEVENT
DTSTART;TZID=America/New_York:20250813T110000
DTEND;TZID=America/New_York:20250813T133000
DTSTAMP:20260423T124301
CREATED:20250420T185619Z
LAST-MODIFIED:20250722T082434Z
UID:10006011-1755082800-1755091800@chassellmarket.com
SUMMARY:Senior Meals at the Fire Hall
DESCRIPTION:
URL:https://chassellmarket.com/community-calendar/senior-meals-at-the-fire-hall-240/
LOCATION:Chassell Township Fire Department\, 22098 7th St\, Chassell\, MI\, United States
CATEGORIES:Events
GEO:47.0219;-88.530903
X-APPLE-STRUCTURED-LOCATION;VALUE=URI;X-ADDRESS=Chassell Township Fire Department 22098 7th St Chassell MI United States;X-APPLE-RADIUS=500;X-TITLE=22098 7th St:geo:-88.530903,47.0219
END:VEVENT
BEGIN:VEVENT
DTSTART;TZID=America/New_York:20250813T130000
DTEND;TZID=America/New_York:20250813T130000
DTSTAMP:20260423T124301
CREATED:20250720T102622Z
LAST-MODIFIED:20250810T102632Z
UID:10006533-1755090000-1755090000@chassellmarket.com
SUMMARY:Aspirus Diabetes Support Group
DESCRIPTION:The Aspirus Keweenaw Diabetes Support Group meets the second Wednesday of each month at the Calumet Public-School Library. These meetings are free\, open to the public\, and are designed for anyone who has diabetes\, their family and friends\, or those who want to learn more about preventing diabetes.\nLead by a Certified Diabetes Care and Education Specialist from Aspirus Keweenaw Hospital\, the group will discuss helpful diabetes care tips and focus on issues that are important to those attending.
URL:https://chassellmarket.com/community-calendar/aspirus-diabetes-support-group-29/
LOCATION:Calumet Public Library\, Calumet\, MI\, United States
CATEGORIES:Events
GEO:47.24659;-88.45401
END:VEVENT
END:VCALENDAR