BEGIN:VCALENDAR
VERSION:2.0
PRODID:-//Chassell Farmers Market &amp; Houghton Indoor Farm and Craft Market - ECPv6.15.17//NONSGML v1.0//EN
CALSCALE:GREGORIAN
METHOD:PUBLISH
X-WR-CALNAME:Chassell Farmers Market &amp; Houghton Indoor Farm and Craft Market
X-ORIGINAL-URL:https://chassellmarket.com
X-WR-CALDESC:Events for Chassell Farmers Market &amp; Houghton Indoor Farm and Craft Market
REFRESH-INTERVAL;VALUE=DURATION:PT1H
X-Robots-Tag:noindex
X-PUBLISHED-TTL:PT1H
BEGIN:VTIMEZONE
TZID:America/New_York
BEGIN:DAYLIGHT
TZOFFSETFROM:-0500
TZOFFSETTO:-0400
TZNAME:EDT
DTSTART:20240310T070000
END:DAYLIGHT
BEGIN:STANDARD
TZOFFSETFROM:-0400
TZOFFSETTO:-0500
TZNAME:EST
DTSTART:20241103T060000
END:STANDARD
BEGIN:DAYLIGHT
TZOFFSETFROM:-0500
TZOFFSETTO:-0400
TZNAME:EDT
DTSTART:20250309T070000
END:DAYLIGHT
BEGIN:STANDARD
TZOFFSETFROM:-0400
TZOFFSETTO:-0500
TZNAME:EST
DTSTART:20251102T060000
END:STANDARD
BEGIN:DAYLIGHT
TZOFFSETFROM:-0500
TZOFFSETTO:-0400
TZNAME:EDT
DTSTART:20260308T070000
END:DAYLIGHT
BEGIN:STANDARD
TZOFFSETFROM:-0400
TZOFFSETTO:-0500
TZNAME:EST
DTSTART:20261101T060000
END:STANDARD
END:VTIMEZONE
BEGIN:VEVENT
DTSTART;TZID=America/New_York:20250706T000000
DTEND;TZID=America/New_York:20250706T235959
DTSTAMP:20260423T050044
CREATED:20250615T044416Z
LAST-MODIFIED:20250706T044008Z
UID:10006359-1751760000-1751846399@chassellmarket.com
SUMMARY:AA Meetings
DESCRIPTION:For an up to date list of all AA meetings in the Copper Country\, click here.
URL:https://chassellmarket.com/community-calendar/aa-meetings-823/
CATEGORIES:Events
END:VEVENT
BEGIN:VEVENT
DTSTART;TZID=America/New_York:20250706T140000
DTEND;TZID=America/New_York:20250706T170000
DTSTAMP:20260423T050044
CREATED:20250615T044416Z
LAST-MODIFIED:20250706T044008Z
UID:10006358-1751810400-1751821200@chassellmarket.com
SUMMARY:Polka Dance - South Range
DESCRIPTION:The South Range Eagles Club hosts polka dances with live music each Sunday. All are welcome.
URL:https://chassellmarket.com/community-calendar/polka-dance-south-range-118/
LOCATION:South Range Eagles\, 8 Baltic Ave\, South Range\, MI\, United States
CATEGORIES:Events
GEO:47.070836;-88.640432
X-APPLE-STRUCTURED-LOCATION;VALUE=URI;X-ADDRESS=South Range Eagles 8 Baltic Ave South Range MI United States;X-APPLE-RADIUS=500;X-TITLE=8 Baltic Ave:geo:-88.640432,47.070836
END:VEVENT
BEGIN:VEVENT
DTSTART;TZID=America/New_York:20250707T000000
DTEND;TZID=America/New_York:20250707T235959
DTSTAMP:20260423T050044
CREATED:20250615T044451Z
LAST-MODIFIED:20250706T044021Z
UID:10006364-1751846400-1751932799@chassellmarket.com
SUMMARY:AA Meetings
DESCRIPTION:For an up to date list of all AA meetings in the Copper Country\, click here.
URL:https://chassellmarket.com/community-calendar/aa-meetings-825/
CATEGORIES:Events
END:VEVENT
BEGIN:VEVENT
DTSTART;TZID=America/New_York:20250707T090000
DTEND;TZID=America/New_York:20250707T120000
DTSTAMP:20260423T050044
CREATED:20250615T044507Z
LAST-MODIFIED:20250706T044008Z
UID:10006365-1751878800-1751889600@chassellmarket.com
SUMMARY:Treehouse Playgroup
DESCRIPTION:The Keweenaw Family Resource Center playgroup will meet at the Tree House Indoor Playground. \nPlaygroup is for families in the area with children birth through 4 years of age. The playgroups provide an opportunity for children and parents to play in an environment that is supportive and nurturing. Morning playgroups are offered in the communities of Houghton\, and Mohawk.   \nPlaygroups are structured to allow children to explore and play at their own pace. We encourage parents to interact with their children at all times\, especially during snack time\, exploration time and during clean up. Playgroup coordinators are there to facilitate the sessions\, model appropriate adult behavior\, and interact with children in ways which will assist them in their learning and development of social skills. We strive for a positive experience for everyone. Playgroups are open to all area families. \nWhat to Expect at Playgroup:\n\nFree Play Time\, where children can choose to play with any toys they like.\nCircle time\, where the children are encouraged to sit in a group circle and sing songs and do finger plays.\nExploration time\, when children learn new things by free creation-finger painting\, coloring\, drawing.\nSnack time\, when children sit at the table with the other children and have a healthy snack.\nClean up time\, where both the children and their parents are required to participate. The snack is put away\, the toys put where they belong\, and the exploration area is tidied up.\n\nGet notification reminders for our playgroups by going to our event calendar\, then adding selected events to your Google calendar! Visit our Facebook page to stay informed on playgroup cancelations or other community events and resources.
URL:https://chassellmarket.com/community-calendar/treehouse-playgroup-78/
LOCATION:The Tree House Indoor Playground\, 850 W Sharon Ave\, Houghton\, MI\, United States
CATEGORIES:Events
GEO:47.113224;-88.585758
X-APPLE-STRUCTURED-LOCATION;VALUE=URI;X-ADDRESS=The Tree House Indoor Playground 850 W Sharon Ave Houghton MI United States;X-APPLE-RADIUS=500;X-TITLE=850 W Sharon Ave:geo:-88.585758,47.113224
END:VEVENT
BEGIN:VEVENT
DTSTART;TZID=America/New_York:20250707T110000
DTEND;TZID=America/New_York:20250707T133000
DTSTAMP:20260423T050044
CREATED:20250321T185705Z
LAST-MODIFIED:20250622T080934Z
UID:10005764-1751886000-1751895000@chassellmarket.com
SUMMARY:Senior Meals at the Fire Hall
DESCRIPTION:
URL:https://chassellmarket.com/community-calendar/senior-meals-at-the-fire-hall-229/
LOCATION:Chassell Township Fire Department\, 22098 7th St\, Chassell\, MI\, United States
CATEGORIES:Events
GEO:47.0219;-88.530903
X-APPLE-STRUCTURED-LOCATION;VALUE=URI;X-ADDRESS=Chassell Township Fire Department 22098 7th St Chassell MI United States;X-APPLE-RADIUS=500;X-TITLE=22098 7th St:geo:-88.530903,47.0219
END:VEVENT
BEGIN:VEVENT
DTSTART;TZID=America/New_York:20250707T130000
DTEND;TZID=America/New_York:20250707T180000
DTSTAMP:20260423T050044
CREATED:20250321T185705Z
LAST-MODIFIED:20250622T080934Z
UID:10005765-1751893200-1751911200@chassellmarket.com
SUMMARY:Township Clerk Office Hours
DESCRIPTION:
URL:https://chassellmarket.com/community-calendar/township-clerk-office-hours-60/
CATEGORIES:Events
END:VEVENT
BEGIN:VEVENT
DTSTART;TZID=America/New_York:20250707T160000
DTEND;TZID=America/New_York:20250707T180000
DTSTAMP:20260423T050044
CREATED:20250615T044450Z
LAST-MODIFIED:20250706T044009Z
UID:10006361-1751904000-1751911200@chassellmarket.com
SUMMARY:Chess Club
DESCRIPTION:Chess enthusiasts of all levels are invited to join the weekly Chess Club at the Portage Lake District Library. Whether you’re a beginner or a seasoned player\, you’ll find a welcoming environment to learn\, play\, and compete. Activities start at 4:00 pm\, followed by skill-building exercises at 5:00 pm to enhance your gameplay. Open to those ages 7 and up\, this is a great opportunity to meet new friends and challenge your mind.
URL:https://chassellmarket.com/community-calendar/chess-club-24/
LOCATION:Portage Lake District Library\, 58 Huron St\, Houghton\, MI\, United States
CATEGORIES:Events
GEO:47.122079;-88.568186
X-APPLE-STRUCTURED-LOCATION;VALUE=URI;X-ADDRESS=Portage Lake District Library 58 Huron St Houghton MI United States;X-APPLE-RADIUS=500;X-TITLE=58 Huron St:geo:-88.568186,47.122079
END:VEVENT
BEGIN:VEVENT
DTSTART;TZID=America/New_York:20250707T180000
DTEND;TZID=America/New_York:20250707T180000
DTSTAMP:20260423T050044
CREATED:20250615T044450Z
LAST-MODIFIED:20250706T044009Z
UID:10006360-1751911200-1751911200@chassellmarket.com
SUMMARY:Wellness Journey Support Group
DESCRIPTION:The Copper Shores Community Health Foundation’s Wellness Journey Support Group will hold an open meeting this evening. This comprehensive trauma recovery support group is for people who have experienced trauma or secondary trauma\, and will help build a support network of like-minded and safe individuals.Open sessions invite all community members dealing with any type of trauma. Meetings will be held on alternate Mondays through August 4th\, with each session focusing on a coping technique. For more details\, and a schedule of meeting subjects\, click here.
URL:https://chassellmarket.com/community-calendar/wellness-journey-support-group-11/
CATEGORIES:Events
END:VEVENT
BEGIN:VEVENT
DTSTART;TZID=America/New_York:20250707T183000
DTEND;TZID=America/New_York:20250707T183000
DTSTAMP:20260423T050044
CREATED:20250615T044507Z
LAST-MODIFIED:20250706T044021Z
UID:10006366-1751913000-1751913000@chassellmarket.com
SUMMARY:Celebrate Recovery Support Group - Houghton
DESCRIPTION:The Celebrate Recovery group at Evangel Community Church meets weekly Mondays at 6:30. The group provides a safe place to find freedom and healing\, offering hope\, support\, and real change. \nCome as you are – all are welcome. For more information\, text “recovery” to 906-254-5444 or visit the church website.
URL:https://chassellmarket.com/community-calendar/celebrate-recovery-support-group-houghton-17/
LOCATION:Evangel Community Church\, 1600 Memorial Dr\, Houghton\, MI\, United States
CATEGORIES:Events
GEO:47.104042;-88.595585
X-APPLE-STRUCTURED-LOCATION;VALUE=URI;X-ADDRESS=Evangel Community Church 1600 Memorial Dr Houghton MI United States;X-APPLE-RADIUS=500;X-TITLE=1600 Memorial Dr:geo:-88.595585,47.104042
END:VEVENT
BEGIN:VEVENT
DTSTART;TZID=America/New_York:20250707T190000
DTEND;TZID=America/New_York:20250707T190000
DTSTAMP:20260423T050044
CREATED:20250615T044450Z
LAST-MODIFIED:20250706T044021Z
UID:10006362-1751914800-1751914800@chassellmarket.com
SUMMARY:MI-TRALE Meeting
DESCRIPTION:MI-TRALE will hold its monthly meeting at the Stannard Township Hall in Bruce Crossing.  Anyone interested in maintaining ATV and snowmobile trails in the western U.P.  is invited. A ZOOM option is now available for virtual attendance of meetings. Contact Donna Wolf at mi-trale.pr@gmail.com for connection instructions.
URL:https://chassellmarket.com/community-calendar/mi-trale-meeting-21/
LOCATION:Stannard Township Hall\, Bruce Crossing\, MI\, United States
CATEGORIES:Events
GEO:46.475105;-89.222897
END:VEVENT
BEGIN:VEVENT
DTSTART;TZID=America/New_York:20250708T000000
DTEND;TZID=America/New_York:20250708T235959
DTSTAMP:20260423T050044
CREATED:20250615T044450Z
LAST-MODIFIED:20250706T044030Z
UID:10006363-1751932800-1752019199@chassellmarket.com
SUMMARY:AA Meetings
DESCRIPTION:For an up to date list of all AA meetings in the Copper Country\, click here.
URL:https://chassellmarket.com/community-calendar/aa-meetings-824/
CATEGORIES:Events
END:VEVENT
BEGIN:VEVENT
DTSTART;TZID=America/New_York:20250708T130000
DTEND;TZID=America/New_York:20250708T130000
DTSTAMP:20260423T050044
CREATED:20250615T044507Z
LAST-MODIFIED:20250706T044021Z
UID:10006367-1751979600-1751979600@chassellmarket.com
SUMMARY:Bridge Games
DESCRIPTION:The Baragaland Senior Center hosts Bridge games each Tuesday at 1.
URL:https://chassellmarket.com/community-calendar/bridge-games-25/
LOCATION:Baragaland Senior Citizens Center\, 6 N Main St\, L'Anse\, MI\, United States
CATEGORIES:Events
GEO:46.757969;-88.454464
X-APPLE-STRUCTURED-LOCATION;VALUE=URI;X-ADDRESS=Baragaland Senior Citizens Center 6 N Main St L'Anse MI United States;X-APPLE-RADIUS=500;X-TITLE=6 N Main St:geo:-88.454464,46.757969
END:VEVENT
BEGIN:VEVENT
DTSTART;TZID=America/New_York:20250708T160000
DTEND;TZID=America/New_York:20250708T160000
DTSTAMP:20260423T050044
CREATED:20250615T044507Z
LAST-MODIFIED:20250706T044030Z
UID:10006368-1751990400-1751990400@chassellmarket.com
SUMMARY:Cribbage League
DESCRIPTION:The Cribbage League meets each Tuesday at Armando’s in Houghton. All ages and skill levels are welcome. To get involved\, call or text 906-482-2422\, or just show up at a session.
URL:https://chassellmarket.com/community-calendar/cribbage-league-38/
LOCATION:Armando’s Restaurant\, 517 Shelden Ave\, Houghton\, MI\, United States
CATEGORIES:Events
GEO:47.121788;-88.567979
X-APPLE-STRUCTURED-LOCATION;VALUE=URI;X-ADDRESS=Armando’s Restaurant 517 Shelden Ave Houghton MI United States;X-APPLE-RADIUS=500;X-TITLE=517 Shelden Ave:geo:-88.567979,47.121788
END:VEVENT
BEGIN:VEVENT
DTSTART;TZID=America/New_York:20250708T183000
DTEND;TZID=America/New_York:20250708T183000
DTSTAMP:20260423T050044
CREATED:20250615T044507Z
LAST-MODIFIED:20250706T044030Z
UID:10006369-1751999400-1751999400@chassellmarket.com
SUMMARY:Celebrate Recovery Support Group - L'Anse
DESCRIPTION:The Celebrate Recovery group at Northiron Church in L’Anse meets weekly Mondays at 6:30. The group provides a safe place to find freedom and healing\, offering hope\, support\, and real change.
URL:https://chassellmarket.com/community-calendar/celebrate-recovery-support-group-lanse-19/
LOCATION:Northiron Church\, 46001 Hwy US 41\, Houghton\, MI\, United States
CATEGORIES:Events
GEO:47.08307;-88.516647
X-APPLE-STRUCTURED-LOCATION;VALUE=URI;X-ADDRESS=Northiron Church 46001 Hwy US 41 Houghton MI United States;X-APPLE-RADIUS=500;X-TITLE=46001 Hwy US 41:geo:-88.516647,47.08307
END:VEVENT
BEGIN:VEVENT
DTSTART;TZID=America/New_York:20250708T190000
DTEND;TZID=America/New_York:20250708T190000
DTSTAMP:20260423T050044
CREATED:20250615T044524Z
LAST-MODIFIED:20250706T044021Z
UID:10006370-1752001200-1752001200@chassellmarket.com
SUMMARY:VetsForJesus Meeting
DESCRIPTION: VetsForJesus is a veteran-led Bible study for veterans and whoever else wants to attend.  Typically\, they read a small portion of the Bible and talk about it around the table.
URL:https://chassellmarket.com/community-calendar/vetsforjesus-meeting-116/
LOCATION:VFW HALL- POST 4624\, 52218 Duncan Ave\, Hubbell\, MI\, United States
CATEGORIES:Events
GEO:47.174133;-88.427997
X-APPLE-STRUCTURED-LOCATION;VALUE=URI;X-ADDRESS=VFW HALL- POST 4624 52218 Duncan Ave Hubbell MI United States;X-APPLE-RADIUS=500;X-TITLE=52218 Duncan Ave:geo:-88.427997,47.174133
END:VEVENT
BEGIN:VEVENT
DTSTART;TZID=America/New_York:20250709T000000
DTEND;TZID=America/New_York:20250709T235959
DTSTAMP:20260423T050044
CREATED:20250615T044525Z
LAST-MODIFIED:20250706T044036Z
UID:10006371-1752019200-1752105599@chassellmarket.com
SUMMARY:AA Meetings
DESCRIPTION:For an up to date list of all AA meetings in the Copper Country\, click here.
URL:https://chassellmarket.com/community-calendar/aa-meetings-826/
CATEGORIES:Events
END:VEVENT
BEGIN:VEVENT
DTSTART;TZID=America/New_York:20250709T100000
DTEND;TZID=America/New_York:20250709T120000
DTSTAMP:20260423T050044
CREATED:20250615T044525Z
LAST-MODIFIED:20250706T044030Z
UID:10006373-1752055200-1752062400@chassellmarket.com
SUMMARY:Mohawk Playgroup
DESCRIPTION:The Keweenaw Family Resource Center playgroup will meet at the Horizons School in Mohawk. \nPlaygroup is for families in the area with children birth through 4 years of age. The playgroups provide an opportunity for children and parents to play in an environment that is supportive and nurturing. Morning playgroups are offered in the communities of Houghton\, and Mohawk.   \nPlaygroups are structured to allow children to explore and play at their own pace. We encourage parents to interact with their children at all times\, especially during snack time\, exploration time and during clean up. Playgroup coordinators are there to facilitate the sessions\, model appropriate adult behavior\, and interact with children in ways which will assist them in their learning and development of social skills. We strive for a positive experience for everyone. Playgroups are open to all area families. \nWhat to Expect at Playgroup:\n\nFree Play Time\, where children can choose to play with any toys they like.\nCircle time\, where the children are encouraged to sit in a group circle and sing songs and do finger plays.\nExploration time\, when children learn new things by free creation-finger painting\, coloring\, drawing.\nSnack time\, when children sit at the table with the other children and have a healthy snack.\nClean up time\, where both the children and their parents are required to participate. The snack is put away\, the toys put where they belong\, and the exploration area is tidied up.\n\nGet notification reminders for our playgroups by going to our event calendar\, then adding selected events to your Google calendar! Visit our Facebook page to stay informed on playgroup cancelations or other community events and resources.
URL:https://chassellmarket.com/community-calendar/mohawk-playgroup-35/
LOCATION:Horizons Alternative High School\, 110 Stanton Ave\, Mohawk\, MI\, United States
CATEGORIES:Events
GEO:47.304851;-88.361226
X-APPLE-STRUCTURED-LOCATION;VALUE=URI;X-ADDRESS=Horizons Alternative High School 110 Stanton Ave Mohawk MI United States;X-APPLE-RADIUS=500;X-TITLE=110 Stanton Ave:geo:-88.361226,47.304851
END:VEVENT
BEGIN:VEVENT
DTSTART;TZID=America/New_York:20250709T103000
DTEND;TZID=America/New_York:20250709T103000
DTSTAMP:20260423T050044
CREATED:20250615T044525Z
LAST-MODIFIED:20250706T044030Z
UID:10006372-1752057000-1752057000@chassellmarket.com
SUMMARY:Preschool Story Time
DESCRIPTION:Preschool story time meets each Wednesday at 10:30 and Thursday at 1:30 in the children’s area at the Portage Lake District Library. Children can enjoy a story\, and bring home a take-and-make craft bag.
URL:https://chassellmarket.com/community-calendar/preschool-story-time-201/
LOCATION:Portage Lake District Library\, 58 Huron St\, Houghton\, MI\, United States
CATEGORIES:Events
GEO:47.122079;-88.568186
X-APPLE-STRUCTURED-LOCATION;VALUE=URI;X-ADDRESS=Portage Lake District Library 58 Huron St Houghton MI United States;X-APPLE-RADIUS=500;X-TITLE=58 Huron St:geo:-88.568186,47.122079
END:VEVENT
BEGIN:VEVENT
DTSTART;TZID=America/New_York:20250709T110000
DTEND;TZID=America/New_York:20250709T133000
DTSTAMP:20260423T050044
CREATED:20250321T185706Z
LAST-MODIFIED:20250622T080934Z
UID:10005766-1752058800-1752067800@chassellmarket.com
SUMMARY:Senior Meals at the Fire Hall
DESCRIPTION:
URL:https://chassellmarket.com/community-calendar/senior-meals-at-the-fire-hall-230/
LOCATION:Chassell Township Fire Department\, 22098 7th St\, Chassell\, MI\, United States
CATEGORIES:Events
GEO:47.0219;-88.530903
X-APPLE-STRUCTURED-LOCATION;VALUE=URI;X-ADDRESS=Chassell Township Fire Department 22098 7th St Chassell MI United States;X-APPLE-RADIUS=500;X-TITLE=22098 7th St:geo:-88.530903,47.0219
END:VEVENT
BEGIN:VEVENT
DTSTART;TZID=America/New_York:20250709T130000
DTEND;TZID=America/New_York:20250709T130000
DTSTAMP:20260423T050044
CREATED:20250615T044525Z
LAST-MODIFIED:20250706T044035Z
UID:10006374-1752066000-1752066000@chassellmarket.com
SUMMARY:Aspirus Diabetes Support Group
DESCRIPTION:The Aspirus Keweenaw Diabetes Support Group meets the second Wednesday of each month at the Calumet Public-School Library. These meetings are free\, open to the public\, and are designed for anyone who has diabetes\, their family and friends\, or those who want to learn more about preventing diabetes.\nLead by a Certified Diabetes Care and Education Specialist from Aspirus Keweenaw Hospital\, the group will discuss helpful diabetes care tips and focus on issues that are important to those attending.
URL:https://chassellmarket.com/community-calendar/aspirus-diabetes-support-group-28/
LOCATION:Calumet Public Library\, Calumet\, MI\, United States
CATEGORIES:Events
GEO:47.24659;-88.45401
END:VEVENT
BEGIN:VEVENT
DTSTART;TZID=America/New_York:20250709T130000
DTEND;TZID=America/New_York:20250709T180000
DTSTAMP:20260423T050044
CREATED:20250321T185706Z
LAST-MODIFIED:20250321T185706Z
UID:10005767-1752066000-1752084000@chassellmarket.com
SUMMARY:Township Clerk Office Hours
DESCRIPTION:
URL:https://chassellmarket.com/community-calendar/township-clerk-office-hours-61/
CATEGORIES:Events
END:VEVENT
BEGIN:VEVENT
DTSTART;TZID=America/New_York:20250709T140000
DTEND;TZID=America/New_York:20250709T140000
DTSTAMP:20260423T050044
CREATED:20250615T044546Z
LAST-MODIFIED:20250706T044035Z
UID:10006375-1752069600-1752069600@chassellmarket.com
SUMMARY:Bingo - South Range
DESCRIPTION:The South Range Eagles Hall hosts Bingo every Wednesday. All are welcome.
URL:https://chassellmarket.com/community-calendar/bingo-south-range-119/
LOCATION:South Range Eagles\, 8 Baltic Ave\, South Range\, MI\, United States
CATEGORIES:Events
GEO:47.070836;-88.640432
X-APPLE-STRUCTURED-LOCATION;VALUE=URI;X-ADDRESS=South Range Eagles 8 Baltic Ave South Range MI United States;X-APPLE-RADIUS=500;X-TITLE=8 Baltic Ave:geo:-88.640432,47.070836
END:VEVENT
BEGIN:VEVENT
DTSTART;TZID=America/New_York:20250709T150000
DTEND;TZID=America/New_York:20250709T180000
DTSTAMP:20260423T050044
CREATED:20250615T044547Z
LAST-MODIFIED:20250706T044036Z
UID:10006376-1752073200-1752084000@chassellmarket.com
SUMMARY:Free Soup Supper - Atlantic Mine
DESCRIPTION:Our Saviour’s Lutheran Church in Atlantic Mine offers a free supper on the second Wednesday of each month. All are invited to enjoy soup\, bread\, and a piece of fruit. A vegan option is available.
URL:https://chassellmarket.com/community-calendar/free-soup-supper-atlantic-mine-28/
LOCATION:Our Saviour’s Lutheran Church\, 47199 Adventure St\, Atlantic Mine\, MI\, United States
CATEGORIES:Events
GEO:47.100403;-88.631033
X-APPLE-STRUCTURED-LOCATION;VALUE=URI;X-ADDRESS=Our Saviour’s Lutheran Church 47199 Adventure St Atlantic Mine MI United States;X-APPLE-RADIUS=500;X-TITLE=47199 Adventure St:geo:-88.631033,47.100403
END:VEVENT
BEGIN:VEVENT
DTSTART;TZID=America/New_York:20250709T160000
DTEND;TZID=America/New_York:20250709T160000
DTSTAMP:20260423T050044
CREATED:20250615T044547Z
LAST-MODIFIED:20250706T044054Z
UID:10006377-1752076800-1752076800@chassellmarket.com
SUMMARY:Gentle Exercise Class - Lake Linden
DESCRIPTION:The Lake Linden United Methodist Church hosts a weekly gentle chair exercise group. All are welcome\, at no charge. Sessions are approximately 20 minutes long.
URL:https://chassellmarket.com/community-calendar/gentle-exercise-class-lake-linden-21/
LOCATION:Lake Linden United Methodist Church\, 53237 N Ave\, Lake Linden\, MI\, United States
CATEGORIES:Events
GEO:47.188547;-88.411956
X-APPLE-STRUCTURED-LOCATION;VALUE=URI;X-ADDRESS=Lake Linden United Methodist Church 53237 N Ave Lake Linden MI United States;X-APPLE-RADIUS=500;X-TITLE=53237 N Ave:geo:-88.411956,47.188547
END:VEVENT
BEGIN:VEVENT
DTSTART;TZID=America/New_York:20250709T160000
DTEND;TZID=America/New_York:20250709T160000
DTSTAMP:20260423T050044
CREATED:20250615T044547Z
LAST-MODIFIED:20250706T044054Z
UID:10006378-1752076800-1752076800@chassellmarket.com
SUMMARY:Copper Country Recycling Initiative
DESCRIPTION:The Copper Country Recycling Initiative invites you to their monthly meeting at the Portage Lake District Library.  \nFor those interested in a virtual option:   \nhttps://us02web.zoom.us/j/87625791109?pwd=cTNmdHJzdWdLcjgyMzFaN293NjliZz09 \n Meeting ID: 876 2579 1109Passcode: 545830 \n  \nTelephone:       +1 312 626 6799 US (Chicago)
URL:https://chassellmarket.com/community-calendar/copper-country-recycling-initiative-29/
LOCATION:Portage Lake District Library\, 58 Huron St\, Houghton\, MI\, United States
CATEGORIES:Events
GEO:47.122079;-88.568186
X-APPLE-STRUCTURED-LOCATION;VALUE=URI;X-ADDRESS=Portage Lake District Library 58 Huron St Houghton MI United States;X-APPLE-RADIUS=500;X-TITLE=58 Huron St:geo:-88.568186,47.122079
END:VEVENT
BEGIN:VEVENT
DTSTART;TZID=America/New_York:20250709T180000
DTEND;TZID=America/New_York:20250709T200000
DTSTAMP:20260423T050044
CREATED:20250321T185706Z
LAST-MODIFIED:20250622T080934Z
UID:10005768-1752084000-1752091200@chassellmarket.com
SUMMARY:Chassell Township Board
DESCRIPTION:
URL:https://chassellmarket.com/community-calendar/chassell-township-board-32/
LOCATION:Chassell Township Fire Department\, 22098 7th St\, Chassell\, MI\, United States
CATEGORIES:Events
GEO:47.0219;-88.530903
X-APPLE-STRUCTURED-LOCATION;VALUE=URI;X-ADDRESS=Chassell Township Fire Department 22098 7th St Chassell MI United States;X-APPLE-RADIUS=500;X-TITLE=22098 7th St:geo:-88.530903,47.0219
END:VEVENT
BEGIN:VEVENT
DTSTART;TZID=America/New_York:20250709T183000
DTEND;TZID=America/New_York:20250709T183000
DTSTAMP:20260423T050044
CREATED:20250615T044547Z
LAST-MODIFIED:20250706T044036Z
UID:10006379-1752085800-1752085800@chassellmarket.com
SUMMARY:CCJHA Board Meeting
DESCRIPTION:The Copper Country Junior Hockey Association board will meet at the HOCO. Anyone interested in supporting youth hockey is welcome.
URL:https://chassellmarket.com/community-calendar/ccjha-board-meeting-6/
LOCATION:HOCO\, 1500 Birch St\, Hancock\, MI\, United States
CATEGORIES:Events
GEO:47.13511;-88.605604
X-APPLE-STRUCTURED-LOCATION;VALUE=URI;X-ADDRESS=HOCO 1500 Birch St Hancock MI United States;X-APPLE-RADIUS=500;X-TITLE=1500 Birch St:geo:-88.605604,47.13511
END:VEVENT
BEGIN:VEVENT
DTSTART;TZID=America/New_York:20250710T000000
DTEND;TZID=America/New_York:20250710T235959
DTSTAMP:20260423T050044
CREATED:20250622T044155Z
LAST-MODIFIED:20250706T044054Z
UID:10006380-1752105600-1752191999@chassellmarket.com
SUMMARY:AA Meetings
DESCRIPTION:For an up to date list of all AA meetings in the Copper Country\, click here.
URL:https://chassellmarket.com/community-calendar/aa-meetings-827/
CATEGORIES:Events
END:VEVENT
BEGIN:VEVENT
DTSTART;TZID=America/New_York:20250710T133000
DTEND;TZID=America/New_York:20250710T133000
DTSTAMP:20260423T050044
CREATED:20250622T044156Z
LAST-MODIFIED:20250706T044054Z
UID:10006381-1752154200-1752154200@chassellmarket.com
SUMMARY:Preschool Story Time
DESCRIPTION:Preschool story time meets each Wednesday at 10:30 and Thursday at 1:30 in the children's area at the Portage Lake District Library. Children can enjoy a story\, and bring home a take-and-make craft bag.
URL:https://chassellmarket.com/community-calendar/preschool-story-time-202/
LOCATION:Portage Lake District Library\, 58 Huron St\, Houghton\, MI\, United States
CATEGORIES:Events
GEO:47.122079;-88.568186
X-APPLE-STRUCTURED-LOCATION;VALUE=URI;X-ADDRESS=Portage Lake District Library 58 Huron St Houghton MI United States;X-APPLE-RADIUS=500;X-TITLE=58 Huron St:geo:-88.568186,47.122079
END:VEVENT
BEGIN:VEVENT
DTSTART;TZID=America/New_York:20250710T150000
DTEND;TZID=America/New_York:20250710T150000
DTSTAMP:20260423T050044
CREATED:20250622T044203Z
LAST-MODIFIED:20250706T044054Z
UID:10006382-1752159600-1752159600@chassellmarket.com
SUMMARY:Caregivers Support Group
DESCRIPTION:The Baragaland Senior Center Caregiver’s Support Group meets every other Thursday at 3:00 (unless otherwise announced). Anyone caring for a loved one with dementia or Alzheimer’s is welcome. For more details\, call (906) 524-6711 or (906) 524-6922.
URL:https://chassellmarket.com/community-calendar/caregivers-support-group-21/
LOCATION:Baragaland Senior Citizens Center\, 6 N Main St\, L'Anse\, MI\, United States
CATEGORIES:Events
GEO:46.757969;-88.454464
X-APPLE-STRUCTURED-LOCATION;VALUE=URI;X-ADDRESS=Baragaland Senior Citizens Center 6 N Main St L'Anse MI United States;X-APPLE-RADIUS=500;X-TITLE=6 N Main St:geo:-88.454464,46.757969
END:VEVENT
END:VCALENDAR