BEGIN:VCALENDAR
VERSION:2.0
PRODID:-//Chassell Farmers Market &amp; Houghton Indoor Farm and Craft Market - ECPv6.15.17//NONSGML v1.0//EN
CALSCALE:GREGORIAN
METHOD:PUBLISH
X-WR-CALNAME:Chassell Farmers Market &amp; Houghton Indoor Farm and Craft Market
X-ORIGINAL-URL:https://chassellmarket.com
X-WR-CALDESC:Events for Chassell Farmers Market &amp; Houghton Indoor Farm and Craft Market
REFRESH-INTERVAL;VALUE=DURATION:PT1H
X-Robots-Tag:noindex
X-PUBLISHED-TTL:PT1H
BEGIN:VTIMEZONE
TZID:America/New_York
BEGIN:DAYLIGHT
TZOFFSETFROM:-0500
TZOFFSETTO:-0400
TZNAME:EDT
DTSTART:20240310T070000
END:DAYLIGHT
BEGIN:STANDARD
TZOFFSETFROM:-0400
TZOFFSETTO:-0500
TZNAME:EST
DTSTART:20241103T060000
END:STANDARD
BEGIN:DAYLIGHT
TZOFFSETFROM:-0500
TZOFFSETTO:-0400
TZNAME:EDT
DTSTART:20250309T070000
END:DAYLIGHT
BEGIN:STANDARD
TZOFFSETFROM:-0400
TZOFFSETTO:-0500
TZNAME:EST
DTSTART:20251102T060000
END:STANDARD
BEGIN:DAYLIGHT
TZOFFSETFROM:-0500
TZOFFSETTO:-0400
TZNAME:EDT
DTSTART:20260308T070000
END:DAYLIGHT
BEGIN:STANDARD
TZOFFSETFROM:-0400
TZOFFSETTO:-0500
TZNAME:EST
DTSTART:20261101T060000
END:STANDARD
END:VTIMEZONE
BEGIN:VEVENT
DTSTART;TZID=America/New_York:20250604T180000
DTEND;TZID=America/New_York:20250604T180000
DTSTAMP:20260422T214122
CREATED:20250525T044305Z
LAST-MODIFIED:20250601T044126Z
UID:10006241-1749060000-1749060000@chassellmarket.com
SUMMARY:Baraga County Search and Rescue Meeting
DESCRIPTION:Baraga County Search and Rescue will meet upstairs at Bay Ambulance. Volunteers are needed to join the team\, and prospective members are encouraged to attend the meeting. For more information call 353-7839.
URL:https://chassellmarket.com/community-calendar/baraga-county-search-and-rescue-meeting-5/
LOCATION:Bay Ambulance Inc\, 116 Michigan Ave\, Baraga\, MI\, United States
CATEGORIES:Events
GEO:46.77934;-88.490943
X-APPLE-STRUCTURED-LOCATION;VALUE=URI;X-ADDRESS=Bay Ambulance Inc 116 Michigan Ave Baraga MI United States;X-APPLE-RADIUS=500;X-TITLE=116 Michigan Ave:geo:-88.490943,46.77934
END:VEVENT
BEGIN:VEVENT
DTSTART;TZID=America/New_York:20250604T183000
DTEND;TZID=America/New_York:20250604T203000
DTSTAMP:20260422T214122
CREATED:20241221T184155Z
LAST-MODIFIED:20250523T075439Z
UID:10005058-1749061800-1749069000@chassellmarket.com
SUMMARY:Fire Department Training
DESCRIPTION:
URL:https://chassellmarket.com/community-calendar/fire-department-training-26/
LOCATION:Chassell Township Fire Department\, 22098 7th St\, Chassell\, MI\, United States
CATEGORIES:Events
GEO:47.0219;-88.530903
X-APPLE-STRUCTURED-LOCATION;VALUE=URI;X-ADDRESS=Chassell Township Fire Department 22098 7th St Chassell MI United States;X-APPLE-RADIUS=500;X-TITLE=22098 7th St:geo:-88.530903,47.0219
END:VEVENT
BEGIN:VEVENT
DTSTART;TZID=America/New_York:20250605T000000
DTEND;TZID=America/New_York:20250605T235959
DTSTAMP:20260422T214122
CREATED:20250525T044315Z
LAST-MODIFIED:20250601T044127Z
UID:10006245-1749081600-1749167999@chassellmarket.com
SUMMARY:AA Meetings
DESCRIPTION:For an up to date list of all AA meetings in the Copper Country\, click here.
URL:https://chassellmarket.com/community-calendar/aa-meetings-793/
LOCATION:MI
CATEGORIES:Events
END:VEVENT
BEGIN:VEVENT
DTSTART;TZID=America/New_York:20250605T133000
DTEND;TZID=America/New_York:20250605T133000
DTSTAMP:20260422T214122
CREATED:20250525T044305Z
LAST-MODIFIED:20250601T044126Z
UID:10006242-1749130200-1749130200@chassellmarket.com
SUMMARY:Preschool Story Time
DESCRIPTION:Preschool story time meets each Wednesday at 10:30 and Thursday at 1:30 in the children's area at the Portage Lake District Library. Children can enjoy a story\, and bring home a take-and-make craft bag.
URL:https://chassellmarket.com/community-calendar/preschool-story-time-192/
LOCATION:Portage Lake District Library\, 58 Huron St\, Houghton\, MI\, United States
CATEGORIES:Events
GEO:47.122079;-88.568186
X-APPLE-STRUCTURED-LOCATION;VALUE=URI;X-ADDRESS=Portage Lake District Library 58 Huron St Houghton MI United States;X-APPLE-RADIUS=500;X-TITLE=58 Huron St:geo:-88.568186,47.122079
END:VEVENT
BEGIN:VEVENT
DTSTART;TZID=America/New_York:20250605T190000
DTEND;TZID=America/New_York:20250605T200000
DTSTAMP:20260422T214122
CREATED:20241221T184155Z
LAST-MODIFIED:20250523T075453Z
UID:10005059-1749150000-1749153600@chassellmarket.com
SUMMARY:Planning Commission Meeting
DESCRIPTION:
URL:https://chassellmarket.com/community-calendar/planning-commission-meeting-45/
LOCATION:Chassell Township Fire Department\, 22098 7th St\, Chassell\, MI\, United States
CATEGORIES:Events
GEO:47.0219;-88.530903
X-APPLE-STRUCTURED-LOCATION;VALUE=URI;X-ADDRESS=Chassell Township Fire Department 22098 7th St Chassell MI United States;X-APPLE-RADIUS=500;X-TITLE=22098 7th St:geo:-88.530903,47.0219
END:VEVENT
BEGIN:VEVENT
DTSTART;TZID=America/New_York:20250606T000000
DTEND;TZID=America/New_York:20250606T235959
DTSTAMP:20260422T214122
CREATED:20250525T044314Z
LAST-MODIFIED:20250601T044132Z
UID:10006244-1749168000-1749254399@chassellmarket.com
SUMMARY:AA Meetings
DESCRIPTION:For an up to date list of all AA meetings in the Copper Country\, click here.
URL:https://chassellmarket.com/community-calendar/aa-meetings-792/
LOCATION:MI
CATEGORIES:Events
END:VEVENT
BEGIN:VEVENT
DTSTART;TZID=America/New_York:20250606T090000
DTEND;TZID=America/New_York:20250606T120000
DTSTAMP:20260422T214122
CREATED:20250525T044314Z
LAST-MODIFIED:20250601T044132Z
UID:10006243-1749200400-1749211200@chassellmarket.com
SUMMARY:Treehouse Playgroup
DESCRIPTION:The Keweenaw Family Resource Center playgroup will meet at the Tree House Indoor Playground. \nPlaygroup is for families in the area with children birth through 4 years of age. The playgroups provide an opportunity for children and parents to play in an environment that is supportive and nurturing. Morning playgroups are offered in the communities of Houghton\, and Mohawk.   \nPlaygroups are structured to allow children to explore and play at their own pace. We encourage parents to interact with their children at all times\, especially during snack time\, exploration time and during clean up. Playgroup coordinators are there to facilitate the sessions\, model appropriate adult behavior\, and interact with children in ways which will assist them in their learning and development of social skills. We strive for a positive experience for everyone. Playgroups are open to all area families. \nWhat to Expect at Playgroup:\n\nFree Play Time\, where children can choose to play with any toys they like.\nCircle time\, where the children are encouraged to sit in a group circle and sing songs and do finger plays.\nExploration time\, when children learn new things by free creation-finger painting\, coloring\, drawing.\nSnack time\, when children sit at the table with the other children and have a healthy snack.\nClean up time\, where both the children and their parents are required to participate. The snack is put away\, the toys put where they belong\, and the exploration area is tidied up.\n\nGet notification reminders for our playgroups by going to our event calendar\, then adding selected events to your Google calendar! Visit our Facebook page to stay informed on playgroup cancelations or other community events and resources.
URL:https://chassellmarket.com/community-calendar/treehouse-playgroup-69/
LOCATION:The Tree House Indoor Playground\, 850 W Sharon Ave\, Houghton\, MI\, United States
CATEGORIES:Events
GEO:47.113224;-88.585758
X-APPLE-STRUCTURED-LOCATION;VALUE=URI;X-ADDRESS=The Tree House Indoor Playground 850 W Sharon Ave Houghton MI United States;X-APPLE-RADIUS=500;X-TITLE=850 W Sharon Ave:geo:-88.585758,47.113224
END:VEVENT
BEGIN:VEVENT
DTSTART;TZID=America/New_York:20250606T183000
DTEND;TZID=America/New_York:20250606T183000
DTSTAMP:20260422T214122
CREATED:20250525T044315Z
LAST-MODIFIED:20250601T044132Z
UID:10006246-1749234600-1749234600@chassellmarket.com
SUMMARY:Copper Country Beekeeping Club
DESCRIPTION:The Copper Country Beekeeping Club will meet at the Carnegie Museum in Houghton. Please use the lower entrance.\nThe program will be beekeeping 101 and installing new bees. Anyone interested is welcome.
URL:https://chassellmarket.com/community-calendar/copper-country-beekeeping-club-9/
LOCATION:Carnegie Museum of the Keweenaw\, 105 Huron St\, Houghton\, MI\, United States
CATEGORIES:Events
GEO:47.121831;-88.56804
X-APPLE-STRUCTURED-LOCATION;VALUE=URI;X-ADDRESS=Carnegie Museum of the Keweenaw 105 Huron St Houghton MI United States;X-APPLE-RADIUS=500;X-TITLE=105 Huron St:geo:-88.56804,47.121831
END:VEVENT
BEGIN:VEVENT
DTSTART;TZID=America/New_York:20250607T000000
DTEND;TZID=America/New_York:20250607T235959
DTSTAMP:20260422T214122
CREATED:20250525T044326Z
LAST-MODIFIED:20250601T044132Z
UID:10006248-1749254400-1749340799@chassellmarket.com
SUMMARY:AA Meetings
DESCRIPTION:For an up to date list of all AA meetings in the Copper Country\, click here.
URL:https://chassellmarket.com/community-calendar/aa-meetings-794/
LOCATION:MI
CATEGORIES:Events
END:VEVENT
BEGIN:VEVENT
DTSTART;TZID=America/New_York:20250607T000000
DTEND;TZID=America/New_York:20250607T235959
DTSTAMP:20260422T214122
CREATED:20241221T184156Z
LAST-MODIFIED:20250523T075454Z
UID:10005060-1749254400-1749340799@chassellmarket.com
SUMMARY:Pavilion Not Available (NC)
DESCRIPTION:
URL:https://chassellmarket.com/community-calendar/pavilion-not-available-nc-12/
LOCATION:MI
CATEGORIES:Events
END:VEVENT
BEGIN:VEVENT
DTSTART;TZID=America/New_York:20250607T130000
DTEND;TZID=America/New_York:20250607T170000
DTSTAMP:20260422T214122
CREATED:20250525T044315Z
LAST-MODIFIED:20250601T044133Z
UID:10006247-1749301200-1749315600@chassellmarket.com
SUMMARY:Keweenaw PrideFest
DESCRIPTION:The third annual Keweenaw PrideFest will be held at the Calumet Colosseum\, and is open to all at no charge. This year’s theme is Community Unity\, representing the importance of supporting one another as a community. \nKeweenaw Pridefest will have live music\, tabling from local organizations\, a photo booth\, foodtrucks\, and free face painting and balloon art. In the spirit of community unity\, there will be adonation drive for the Calumet Free Fridge at the event\, along with a clothing swap. Shelf stablefood\, toiletries\, winter jackets\, boots\, and toys are sought. \nVolunteers are needed to help make the event work. Sign up atgivepul.se/imlb8m or contact keweenawqueers@gmail.com. For more details about the event\, click here.
URL:https://chassellmarket.com/community-calendar/keweenaw-pridefest-2/
LOCATION:Calumet Colosseum\, 25900 Red Jacket Rd\, Calumet\, MI\, United States
CATEGORIES:Events
GEO:47.243508;-88.451763
X-APPLE-STRUCTURED-LOCATION;VALUE=URI;X-ADDRESS=Calumet Colosseum 25900 Red Jacket Rd Calumet MI United States;X-APPLE-RADIUS=500;X-TITLE=25900 Red Jacket Rd:geo:-88.451763,47.243508
END:VEVENT
BEGIN:VEVENT
DTSTART;TZID=America/New_York:20250608T000000
DTEND;TZID=America/New_York:20250608T235959
DTSTAMP:20260422T214122
CREATED:20250525T044344Z
LAST-MODIFIED:20250608T044040Z
UID:10006253-1749340800-1749427199@chassellmarket.com
SUMMARY:AA Meetings
DESCRIPTION:For an up to date list of all AA meetings in the Copper Country\, click here.
URL:https://chassellmarket.com/community-calendar/aa-meetings-795/
LOCATION:MI
CATEGORIES:Events
END:VEVENT
BEGIN:VEVENT
DTSTART;TZID=America/New_York:20250608T070000
DTEND;TZID=America/New_York:20250608T160000
DTSTAMP:20260422T214122
CREATED:20250525T044327Z
LAST-MODIFIED:20250608T044003Z
UID:10006250-1749366000-1749398400@chassellmarket.com
SUMMARY:Rice Lake Fishing Derby
DESCRIPTION:The annual Rice Lake Fishing Derby is sponsored by the Lake Linden-Hubbell Sportsmen’s Association. This is a family event\, with fishing open from 7:00 until 4:00. The entry fee is $5.00 for adults\, $3.00 for juniors and $1.00 for children.  \nRegistration will be open at the clubhouse on Rice Lake Saturday evening between 6:00 and 8:00\, and Sunday between 7:00 am and 1:00 pm. For more details\, click here. \nNo fishing licenses are necessary\, because of Michigan’s Free Fishing Weekend. 
URL:https://chassellmarket.com/community-calendar/rice-lake-fishing-derby-2/
LOCATION:Lake Linden-Hubbell Sportsmen’s Association\, 51610 Rice Lake Rd\, Lake Linden\, MI\, United States
CATEGORIES:Events
GEO:47.156441;-88.265704
X-APPLE-STRUCTURED-LOCATION;VALUE=URI;X-ADDRESS=Lake Linden-Hubbell Sportsmen’s Association 51610 Rice Lake Rd Lake Linden MI United States;X-APPLE-RADIUS=500;X-TITLE=51610 Rice Lake Rd:geo:-88.265704,47.156441
END:VEVENT
BEGIN:VEVENT
DTSTART;TZID=America/New_York:20250608T120000
DTEND;TZID=America/New_York:20250608T170000
DTSTAMP:20260422T214122
CREATED:20250525T044327Z
LAST-MODIFIED:20250608T044004Z
UID:10006251-1749384000-1749402000@chassellmarket.com
SUMMARY:Q-F-H Fire Department Chicken Barbecue
DESCRIPTION:The Quincy-Franklin-Hancock Township Fire Department will hold a chicken barbecue at the fire station on Sunshine Road. Dine-in and take-out options will be available. Proceeds will support the fire department. \n$16.00 tickets are available in advance from any member of the fire department\, or by calling 482-1187 and leaving a message.
URL:https://chassellmarket.com/community-calendar/q-f-h-fire-department-chicken-barbecue-3/
LOCATION:Quincy Franklin Hancock Fire Department\, Hancock\, MI\, United States
CATEGORIES:Events
GEO:47.156614;-88.558554
END:VEVENT
BEGIN:VEVENT
DTSTART;TZID=America/New_York:20250608T140000
DTEND;TZID=America/New_York:20250608T170000
DTSTAMP:20260422T214122
CREATED:20250525T044327Z
LAST-MODIFIED:20250608T044003Z
UID:10006249-1749391200-1749402000@chassellmarket.com
SUMMARY:Polka Dance - South Range
DESCRIPTION:The South Range Eagles Club hosts polka dances with live music each Sunday. All are welcome.
URL:https://chassellmarket.com/community-calendar/polka-dance-south-range-114/
LOCATION:South Range Eagles\, 8 Baltic Ave\, South Range\, MI\, United States
CATEGORIES:Events
GEO:47.070836;-88.640432
X-APPLE-STRUCTURED-LOCATION;VALUE=URI;X-ADDRESS=South Range Eagles 8 Baltic Ave South Range MI United States;X-APPLE-RADIUS=500;X-TITLE=8 Baltic Ave:geo:-88.640432,47.070836
END:VEVENT
BEGIN:VEVENT
DTSTART;TZID=America/New_York:20250608T160000
DTEND;TZID=America/New_York:20250608T173000
DTSTAMP:20260422T214122
CREATED:20250525T044327Z
LAST-MODIFIED:20250608T044004Z
UID:10006252-1749398400-1749403800@chassellmarket.com
SUMMARY:"Let's Eat" Community Meal - Baraga
DESCRIPTION:The "Let's Eat" community meal program offers a free dinner at St. Ann's Church in Baraga. All are welcome.
URL:https://chassellmarket.com/community-calendar/lets-eat-community-meal-baraga-11/
LOCATION:Saint Ann’s Church\, Baraga\, MI\, United States
CATEGORIES:Events
GEO:46.80476;-88.575842
END:VEVENT
BEGIN:VEVENT
DTSTART;TZID=America/New_York:20250609T000000
DTEND;TZID=America/New_York:20250609T235959
DTSTAMP:20260422T214122
CREATED:20250525T044344Z
LAST-MODIFIED:20250608T044040Z
UID:10006255-1749427200-1749513599@chassellmarket.com
SUMMARY:AA Meetings
DESCRIPTION:For an up to date list of all AA meetings in the Copper Country\, click here.
URL:https://chassellmarket.com/community-calendar/aa-meetings-796/
LOCATION:MI
CATEGORIES:Events
END:VEVENT
BEGIN:VEVENT
DTSTART;TZID=America/New_York:20250609T080000
DTEND;TZID=America/New_York:20250609T130000
DTSTAMP:20260422T214122
CREATED:20250219T184120Z
LAST-MODIFIED:20250219T184120Z
UID:10005472-1749456000-1749474000@chassellmarket.com
SUMMARY:Township Clerk Office Hours
DESCRIPTION:
URL:https://chassellmarket.com/community-calendar/township-clerk-office-hours-40/
LOCATION:MI
CATEGORIES:Events
END:VEVENT
BEGIN:VEVENT
DTSTART;TZID=America/New_York:20250609T090000
DTEND;TZID=America/New_York:20250609T120000
DTSTAMP:20260422T214122
CREATED:20250525T044345Z
LAST-MODIFIED:20250608T044040Z
UID:10006256-1749459600-1749470400@chassellmarket.com
SUMMARY:Treehouse Playgroup
DESCRIPTION:The Keweenaw Family Resource Center playgroup will meet at the Tree House Indoor Playground. \nPlaygroup is for families in the area with children birth through 4 years of age. The playgroups provide an opportunity for children and parents to play in an environment that is supportive and nurturing. Morning playgroups are offered in the communities of Houghton\, and Mohawk.   \nPlaygroups are structured to allow children to explore and play at their own pace. We encourage parents to interact with their children at all times\, especially during snack time\, exploration time and during clean up. Playgroup coordinators are there to facilitate the sessions\, model appropriate adult behavior\, and interact with children in ways which will assist them in their learning and development of social skills. We strive for a positive experience for everyone. Playgroups are open to all area families. \nWhat to Expect at Playgroup:\n\nFree Play Time\, where children can choose to play with any toys they like.\nCircle time\, where the children are encouraged to sit in a group circle and sing songs and do finger plays.\nExploration time\, when children learn new things by free creation-finger painting\, coloring\, drawing.\nSnack time\, when children sit at the table with the other children and have a healthy snack.\nClean up time\, where both the children and their parents are required to participate. The snack is put away\, the toys put where they belong\, and the exploration area is tidied up.\n\nGet notification reminders for our playgroups by going to our event calendar\, then adding selected events to your Google calendar! Visit our Facebook page to stay informed on playgroup cancelations or other community events and resources.
URL:https://chassellmarket.com/community-calendar/treehouse-playgroup-70/
LOCATION:The Tree House Indoor Playground\, 850 W Sharon Ave\, Houghton\, MI\, United States
CATEGORIES:Events
GEO:47.113224;-88.585758
X-APPLE-STRUCTURED-LOCATION;VALUE=URI;X-ADDRESS=The Tree House Indoor Playground 850 W Sharon Ave Houghton MI United States;X-APPLE-RADIUS=500;X-TITLE=850 W Sharon Ave:geo:-88.585758,47.113224
END:VEVENT
BEGIN:VEVENT
DTSTART;TZID=America/New_York:20250609T110000
DTEND;TZID=America/New_York:20250609T133000
DTSTAMP:20260422T214122
CREATED:20241221T184156Z
LAST-MODIFIED:20250523T075454Z
UID:10005061-1749466800-1749475800@chassellmarket.com
SUMMARY:Senior Meals at the Fire Hall
DESCRIPTION:
URL:https://chassellmarket.com/community-calendar/senior-meals-at-the-fire-hall-221/
LOCATION:Chassell Township Fire Department\, 22098 7th St\, Chassell\, MI\, United States
CATEGORIES:Events
GEO:47.0219;-88.530903
X-APPLE-STRUCTURED-LOCATION;VALUE=URI;X-ADDRESS=Chassell Township Fire Department 22098 7th St Chassell MI United States;X-APPLE-RADIUS=500;X-TITLE=22098 7th St:geo:-88.530903,47.0219
END:VEVENT
BEGIN:VEVENT
DTSTART;TZID=America/New_York:20250609T130000
DTEND;TZID=America/New_York:20250609T180000
DTSTAMP:20260422T214122
CREATED:20250321T185622Z
LAST-MODIFIED:20250523T075454Z
UID:10005752-1749474000-1749492000@chassellmarket.com
SUMMARY:Township Clerk Office Hours
DESCRIPTION:
URL:https://chassellmarket.com/community-calendar/township-clerk-office-hours-53/
LOCATION:MI
CATEGORIES:Events
END:VEVENT
BEGIN:VEVENT
DTSTART;TZID=America/New_York:20250609T160000
DTEND;TZID=America/New_York:20250609T180000
DTSTAMP:20260422T214122
CREATED:20250525T044345Z
LAST-MODIFIED:20250608T044112Z
UID:10006257-1749484800-1749492000@chassellmarket.com
SUMMARY:Chess Club
DESCRIPTION:Chess enthusiasts of all levels are invited to join the weekly Chess Club at the Portage Lake District Library. Whether you’re a beginner or a seasoned player\, you’ll find a welcoming environment to learn\, play\, and compete. Activities start at 4:00 pm\, followed by skill-building exercises at 5:00 pm to enhance your gameplay. Open to those ages 7 and up\, this is a great opportunity to meet new friends and challenge your mind.
URL:https://chassellmarket.com/community-calendar/chess-club-20/
LOCATION:Portage Lake District Library\, 58 Huron St\, Houghton\, MI\, United States
CATEGORIES:Events
GEO:47.122079;-88.568186
X-APPLE-STRUCTURED-LOCATION;VALUE=URI;X-ADDRESS=Portage Lake District Library 58 Huron St Houghton MI United States;X-APPLE-RADIUS=500;X-TITLE=58 Huron St:geo:-88.568186,47.122079
END:VEVENT
BEGIN:VEVENT
DTSTART;TZID=America/New_York:20250609T180000
DTEND;TZID=America/New_York:20250609T180000
DTSTAMP:20260422T214122
CREATED:20250525T044352Z
LAST-MODIFIED:20250608T044041Z
UID:10006258-1749492000-1749492000@chassellmarket.com
SUMMARY:Wellness Journey Support Group
DESCRIPTION:The Copper Shores Community Health Foundation’s Wellness Journey Support Group will hold an open meeting this evening. This comprehensive trauma recovery support group is for people who have experienced trauma or secondary trauma\, and will help build a support network of like-minded and safe individuals.Open sessions invite all community members dealing with any type of trauma. Meetings will be held on alternate Mondays through August 4th\, with each session focusing on a coping technique. For more details\, and a schedule of meeting subjects\, click here.
URL:https://chassellmarket.com/community-calendar/wellness-journey-support-group-9/
LOCATION:MI
CATEGORIES:Events
END:VEVENT
BEGIN:VEVENT
DTSTART;TZID=America/New_York:20250609T183000
DTEND;TZID=America/New_York:20250609T183000
DTSTAMP:20260422T214122
CREATED:20250525T044344Z
LAST-MODIFIED:20250608T044004Z
UID:10006254-1749493800-1749493800@chassellmarket.com
SUMMARY:Celebrate Recovery Support Group - Houghton
DESCRIPTION:The Celebrate Recovery group at Evangel Community Church meets weekly Mondays at 6:30. The group provides a safe place to find freedom and healing\, offering hope\, support\, and real change. \nCome as you are – all are welcome. For more information\, text “recovery” to 906-254-5444 or visit the church website.
URL:https://chassellmarket.com/community-calendar/celebrate-recovery-support-group-houghton-13/
LOCATION:Evangel Community Church\, 1600 Memorial Dr\, Houghton\, MI\, United States
CATEGORIES:Events
GEO:47.104042;-88.595585
X-APPLE-STRUCTURED-LOCATION;VALUE=URI;X-ADDRESS=Evangel Community Church 1600 Memorial Dr Houghton MI United States;X-APPLE-RADIUS=500;X-TITLE=1600 Memorial Dr:geo:-88.595585,47.104042
END:VEVENT
BEGIN:VEVENT
DTSTART;TZID=America/New_York:20250610T000000
DTEND;TZID=America/New_York:20250610T235959
DTSTAMP:20260422T214122
CREATED:20250525T044352Z
LAST-MODIFIED:20250608T044040Z
UID:10006260-1749513600-1749599999@chassellmarket.com
SUMMARY:AA Meetings
DESCRIPTION:For an up to date list of all AA meetings in the Copper Country\, click here.
URL:https://chassellmarket.com/community-calendar/aa-meetings-797/
LOCATION:MI
CATEGORIES:Events
END:VEVENT
BEGIN:VEVENT
DTSTART;TZID=America/New_York:20250610T130000
DTEND;TZID=America/New_York:20250610T130000
DTSTAMP:20260422T214122
CREATED:20250525T044352Z
LAST-MODIFIED:20250608T044112Z
UID:10006259-1749560400-1749560400@chassellmarket.com
SUMMARY:Bridge Games
DESCRIPTION:The Baragaland Senior Center hosts Bridge games each Tuesday at 1.
URL:https://chassellmarket.com/community-calendar/bridge-games-21/
LOCATION:Baragaland Senior Citizens Center\, 6 N Main St\, L'Anse\, MI\, United States
CATEGORIES:Events
GEO:46.757969;-88.454464
X-APPLE-STRUCTURED-LOCATION;VALUE=URI;X-ADDRESS=Baragaland Senior Citizens Center 6 N Main St L'Anse MI United States;X-APPLE-RADIUS=500;X-TITLE=6 N Main St:geo:-88.454464,46.757969
END:VEVENT
BEGIN:VEVENT
DTSTART;TZID=America/New_York:20250610T160000
DTEND;TZID=America/New_York:20250610T160000
DTSTAMP:20260422T214122
CREATED:20250525T044353Z
LAST-MODIFIED:20250608T044112Z
UID:10006261-1749571200-1749571200@chassellmarket.com
SUMMARY:Cribbage League
DESCRIPTION:The Cribbage League meets each Tuesday at Armando’s in Houghton. All ages and skill levels are welcome. To get involved\, call or text 906-482-2422\, or just show up at a session.
URL:https://chassellmarket.com/community-calendar/cribbage-league-34/
LOCATION:Armando’s Restaurant\, 517 Shelden Ave\, Houghton\, MI\, United States
CATEGORIES:Events
GEO:47.121788;-88.567979
X-APPLE-STRUCTURED-LOCATION;VALUE=URI;X-ADDRESS=Armando’s Restaurant 517 Shelden Ave Houghton MI United States;X-APPLE-RADIUS=500;X-TITLE=517 Shelden Ave:geo:-88.567979,47.121788
END:VEVENT
BEGIN:VEVENT
DTSTART;TZID=America/New_York:20250610T183000
DTEND;TZID=America/New_York:20250610T183000
DTSTAMP:20260422T214122
CREATED:20250525T044353Z
LAST-MODIFIED:20250608T044113Z
UID:10006262-1749580200-1749580200@chassellmarket.com
SUMMARY:Celebrate Recovery Support Group - L'Anse
DESCRIPTION:The Celebrate Recovery group at Northiron Church in L’Anse meets weekly Mondays at 6:30. The group provides a safe place to find freedom and healing\, offering hope\, support\, and real change.
URL:https://chassellmarket.com/community-calendar/celebrate-recovery-support-group-lanse-15/
LOCATION:Northiron Church\, 46001 Hwy US 41\, Houghton\, MI\, United States
CATEGORIES:Events
GEO:47.08307;-88.516647
X-APPLE-STRUCTURED-LOCATION;VALUE=URI;X-ADDRESS=Northiron Church 46001 Hwy US 41 Houghton MI United States;X-APPLE-RADIUS=500;X-TITLE=46001 Hwy US 41:geo:-88.516647,47.08307
END:VEVENT
BEGIN:VEVENT
DTSTART;TZID=America/New_York:20250610T190000
DTEND;TZID=America/New_York:20250610T190000
DTSTAMP:20260422T214122
CREATED:20250525T044400Z
LAST-MODIFIED:20250608T044113Z
UID:10006263-1749582000-1749582000@chassellmarket.com
SUMMARY:VetsForJesus Meeting
DESCRIPTION: VetsForJesus is a veteran-led Bible study for veterans and whoever else wants to attend.  Typically\, they read a small portion of the Bible and talk about it around the table.
URL:https://chassellmarket.com/community-calendar/vetsforjesus-meeting-112/
LOCATION:VFW HALL- POST 4624\, 52218 Duncan Ave\, Hubbell\, MI\, United States
CATEGORIES:Events
GEO:47.174133;-88.427997
X-APPLE-STRUCTURED-LOCATION;VALUE=URI;X-ADDRESS=VFW HALL- POST 4624 52218 Duncan Ave Hubbell MI United States;X-APPLE-RADIUS=500;X-TITLE=52218 Duncan Ave:geo:-88.427997,47.174133
END:VEVENT
BEGIN:VEVENT
DTSTART;TZID=America/New_York:20250611T000000
DTEND;TZID=America/New_York:20250611T235959
DTSTAMP:20260422T214122
CREATED:20250525T044400Z
LAST-MODIFIED:20250608T044200Z
UID:10006265-1749600000-1749686399@chassellmarket.com
SUMMARY:AA Meetings
DESCRIPTION:For an up to date list of all AA meetings in the Copper Country\, click here.
URL:https://chassellmarket.com/community-calendar/aa-meetings-798/
LOCATION:MI
CATEGORIES:Events
END:VEVENT
END:VCALENDAR