BEGIN:VCALENDAR
VERSION:2.0
PRODID:-//Chassell Farmers Market &amp; Houghton Indoor Farm and Craft Market - ECPv6.15.17//NONSGML v1.0//EN
CALSCALE:GREGORIAN
METHOD:PUBLISH
X-WR-CALNAME:Chassell Farmers Market &amp; Houghton Indoor Farm and Craft Market
X-ORIGINAL-URL:https://chassellmarket.com
X-WR-CALDESC:Events for Chassell Farmers Market &amp; Houghton Indoor Farm and Craft Market
REFRESH-INTERVAL;VALUE=DURATION:PT1H
X-Robots-Tag:noindex
X-PUBLISHED-TTL:PT1H
BEGIN:VTIMEZONE
TZID:America/New_York
BEGIN:DAYLIGHT
TZOFFSETFROM:-0500
TZOFFSETTO:-0400
TZNAME:EDT
DTSTART:20240310T070000
END:DAYLIGHT
BEGIN:STANDARD
TZOFFSETFROM:-0400
TZOFFSETTO:-0500
TZNAME:EST
DTSTART:20241103T060000
END:STANDARD
BEGIN:DAYLIGHT
TZOFFSETFROM:-0500
TZOFFSETTO:-0400
TZNAME:EDT
DTSTART:20250309T070000
END:DAYLIGHT
BEGIN:STANDARD
TZOFFSETFROM:-0400
TZOFFSETTO:-0500
TZNAME:EST
DTSTART:20251102T060000
END:STANDARD
BEGIN:DAYLIGHT
TZOFFSETFROM:-0500
TZOFFSETTO:-0400
TZNAME:EDT
DTSTART:20260308T070000
END:DAYLIGHT
BEGIN:STANDARD
TZOFFSETFROM:-0400
TZOFFSETTO:-0500
TZNAME:EST
DTSTART:20261101T060000
END:STANDARD
END:VTIMEZONE
BEGIN:VEVENT
DTSTART;TZID=America/New_York:20250421T000000
DTEND;TZID=America/New_York:20250421T235959
DTSTAMP:20260422T044701
CREATED:20250412T081335Z
LAST-MODIFIED:20250420T042553Z
UID:10005888-1745193600-1745279999@chassellmarket.com
SUMMARY:AA Meetings
DESCRIPTION:For an up to date list of all AA meetings in the Copper Country\, click here.
URL:https://chassellmarket.com/community-calendar/aa-meetings-746/
LOCATION:MI
CATEGORIES:Events
END:VEVENT
BEGIN:VEVENT
DTSTART;TZID=America/New_York:20250421T080000
DTEND;TZID=America/New_York:20250421T130000
DTSTAMP:20260422T044701
CREATED:20250120T184206Z
LAST-MODIFIED:20250219T184026Z
UID:10005244-1745222400-1745240400@chassellmarket.com
SUMMARY:Township Clerk Office Hours
DESCRIPTION:
URL:https://chassellmarket.com/community-calendar/township-clerk-office-hours-26/
LOCATION:MI
CATEGORIES:Events
END:VEVENT
BEGIN:VEVENT
DTSTART;TZID=America/New_York:20250421T090000
DTEND;TZID=America/New_York:20250421T120000
DTSTAMP:20260422T044702
CREATED:20250412T081344Z
LAST-MODIFIED:20250420T042553Z
UID:10005891-1745226000-1745236800@chassellmarket.com
SUMMARY:Treehouse Playgroup
DESCRIPTION:The Keweenaw Family Resource Center playgroup will meet at the Tree House Indoor Playground. \nPlaygroup is for families in the area with children birth through 4 years of age. The playgroups provide an opportunity for children and parents to play in an environment that is supportive and nurturing. Morning playgroups are offered in the communities of Houghton\, and Mohawk.   \nPlaygroups are structured to allow children to explore and play at their own pace. We encourage parents to interact with their children at all times\, especially during snack time\, exploration time and during clean up. Playgroup coordinators are there to facilitate the sessions\, model appropriate adult behavior\, and interact with children in ways which will assist them in their learning and development of social skills. We strive for a positive experience for everyone. Playgroups are open to all area families. \nWhat to Expect at Playgroup:\n\nFree Play Time\, where children can choose to play with any toys they like.\nCircle time\, where the children are encouraged to sit in a group circle and sing songs and do finger plays.\nExploration time\, when children learn new things by free creation-finger painting\, coloring\, drawing.\nSnack time\, when children sit at the table with the other children and have a healthy snack.\nClean up time\, where both the children and their parents are required to participate. The snack is put away\, the toys put where they belong\, and the exploration area is tidied up.\n\nGet notification reminders for our playgroups by going to our event calendar\, then adding selected events to your Google calendar! Visit our Facebook page to stay informed on playgroup cancelations or other community events and resources.
URL:https://chassellmarket.com/community-calendar/treehouse-playgroup-56/
LOCATION:The Tree House Indoor Playground\, 850 W Sharon Ave\, Houghton\, MI\, United States
CATEGORIES:Events
GEO:47.113224;-88.585758
X-APPLE-STRUCTURED-LOCATION;VALUE=URI;X-ADDRESS=The Tree House Indoor Playground 850 W Sharon Ave Houghton MI United States;X-APPLE-RADIUS=500;X-TITLE=850 W Sharon Ave:geo:-88.585758,47.113224
END:VEVENT
BEGIN:VEVENT
DTSTART;TZID=America/New_York:20250421T110000
DTEND;TZID=America/New_York:20250421T133000
DTSTAMP:20260422T044702
CREATED:20241022T182630Z
LAST-MODIFIED:20250420T185422Z
UID:10004585-1745233200-1745242200@chassellmarket.com
SUMMARY:Senior Meals at the Fire Hall
DESCRIPTION:
URL:https://chassellmarket.com/community-calendar/senior-meals-at-the-fire-hall-207/
LOCATION:Chassell Township Fire Department\, 22098 7th St\, Chassell\, MI\, United States
CATEGORIES:Events
GEO:47.0219;-88.530903
X-APPLE-STRUCTURED-LOCATION;VALUE=URI;X-ADDRESS=Chassell Township Fire Department 22098 7th St Chassell MI United States;X-APPLE-RADIUS=500;X-TITLE=22098 7th St:geo:-88.530903,47.0219
END:VEVENT
BEGIN:VEVENT
DTSTART;TZID=America/New_York:20250421T130000
DTEND;TZID=America/New_York:20250421T180000
DTSTAMP:20260422T044702
CREATED:20250321T185528Z
LAST-MODIFIED:20250420T185421Z
UID:10005745-1745240400-1745258400@chassellmarket.com
SUMMARY:Township Clerk Office Hours
DESCRIPTION:
URL:https://chassellmarket.com/community-calendar/township-clerk-office-hours-46/
LOCATION:MI
CATEGORIES:Events
END:VEVENT
BEGIN:VEVENT
DTSTART;TZID=America/New_York:20250421T133000
DTEND;TZID=America/New_York:20250421T143000
DTSTAMP:20260422T044702
CREATED:20241022T182630Z
LAST-MODIFIED:20250420T185422Z
UID:10004586-1745242200-1745245800@chassellmarket.com
SUMMARY:Houghton Co. Road Commission
DESCRIPTION:
URL:https://chassellmarket.com/community-calendar/houghton-co-road-commission-25/
LOCATION:Houghton County Road Commission\, 5398 Gagnon Rd\, Atlantic Mine\, MI\, United States
CATEGORIES:Events
GEO:47.127017;-88.679413
X-APPLE-STRUCTURED-LOCATION;VALUE=URI;X-ADDRESS=Houghton County Road Commission 5398 Gagnon Rd Atlantic Mine MI United States;X-APPLE-RADIUS=500;X-TITLE=5398 Gagnon Rd:geo:-88.679413,47.127017
END:VEVENT
BEGIN:VEVENT
DTSTART;TZID=America/New_York:20250421T160000
DTEND;TZID=America/New_York:20250421T180000
DTSTAMP:20260422T044702
CREATED:20250412T081344Z
LAST-MODIFIED:20250420T042553Z
UID:10005893-1745251200-1745258400@chassellmarket.com
SUMMARY:Chess Club
DESCRIPTION:Chess enthusiasts of all levels are invited to join the weekly Chess Club at the Portage Lake District Library. Whether you’re a beginner or a seasoned player\, you’ll find a welcoming environment to learn\, play\, and compete. Activities start at 4:00 pm\, followed by skill-building exercises at 5:00 pm to enhance your gameplay. Open to those ages 7 and up\, this is a great opportunity to meet new friends and challenge your mind.
URL:https://chassellmarket.com/community-calendar/chess-club-13/
LOCATION:Portage Lake District Library\, 58 Huron St\, Houghton\, MI\, United States
CATEGORIES:Events
GEO:47.122079;-88.568186
X-APPLE-STRUCTURED-LOCATION;VALUE=URI;X-ADDRESS=Portage Lake District Library 58 Huron St Houghton MI United States;X-APPLE-RADIUS=500;X-TITLE=58 Huron St:geo:-88.568186,47.122079
END:VEVENT
BEGIN:VEVENT
DTSTART;TZID=America/New_York:20250421T180000
DTEND;TZID=America/New_York:20250421T200000
DTSTAMP:20260422T044702
CREATED:20250412T081344Z
LAST-MODIFIED:20250420T042553Z
UID:10005892-1745258400-1745265600@chassellmarket.com
SUMMARY:Teen Night
DESCRIPTION:The Little Gem Community Center will host a teen night. This event is free for all teens\, with concessions available for purchase.
URL:https://chassellmarket.com/community-calendar/teen-night-27/
LOCATION:Little Gem Community Center\, 700 Calumet St\, Lake Linden\, MI\, United States
CATEGORIES:Events
GEO:47.194433;-88.407705
X-APPLE-STRUCTURED-LOCATION;VALUE=URI;X-ADDRESS=Little Gem Community Center 700 Calumet St Lake Linden MI United States;X-APPLE-RADIUS=500;X-TITLE=700 Calumet St:geo:-88.407705,47.194433
END:VEVENT
BEGIN:VEVENT
DTSTART;TZID=America/New_York:20250421T183000
DTEND;TZID=America/New_York:20250421T183000
DTSTAMP:20260422T044702
CREATED:20250412T081344Z
LAST-MODIFIED:20250420T042608Z
UID:10005894-1745260200-1745260200@chassellmarket.com
SUMMARY:Celebrate Recovery Support Group - Houghton
DESCRIPTION:The Celebrate Recovery group at Evangel Community Church meets weekly Mondays at 6:30. The group provides a safe place to find freedom and healing\, offering hope\, support\, and real change. \nCome as you are – all are welcome. For more information\, text “recovery” to 906-254-5444 or visit the church website.
URL:https://chassellmarket.com/community-calendar/celebrate-recovery-support-group-houghton-6/
LOCATION:Evangel Community Church\, 1600 Memorial Dr\, Houghton\, MI\, United States
CATEGORIES:Events
GEO:47.104042;-88.595585
X-APPLE-STRUCTURED-LOCATION;VALUE=URI;X-ADDRESS=Evangel Community Church 1600 Memorial Dr Houghton MI United States;X-APPLE-RADIUS=500;X-TITLE=1600 Memorial Dr:geo:-88.595585,47.104042
END:VEVENT
BEGIN:VEVENT
DTSTART;TZID=America/New_York:20250422T000000
DTEND;TZID=America/New_York:20250422T235959
DTSTAMP:20260422T044702
CREATED:20250412T081401Z
LAST-MODIFIED:20250420T042650Z
UID:10005903-1745280000-1745366399@chassellmarket.com
SUMMARY:AA Meetings
DESCRIPTION:For an up to date list of all AA meetings in the Copper Country\, click here.
URL:https://chassellmarket.com/community-calendar/aa-meetings-750/
LOCATION:MI
CATEGORIES:Events
END:VEVENT
BEGIN:VEVENT
DTSTART;TZID=America/New_York:20250422T130000
DTEND;TZID=America/New_York:20250422T130000
DTSTAMP:20260422T044702
CREATED:20250412T081344Z
LAST-MODIFIED:20250420T042650Z
UID:10005895-1745326800-1745326800@chassellmarket.com
SUMMARY:Bridge Games
DESCRIPTION:The Baragaland Senior Center hosts Bridge games each Tuesday at 1.
URL:https://chassellmarket.com/community-calendar/bridge-games-14/
LOCATION:Baragaland Senior Citizens Center\, 6 N Main St\, L'Anse\, MI\, United States
CATEGORIES:Events
GEO:46.757969;-88.454464
X-APPLE-STRUCTURED-LOCATION;VALUE=URI;X-ADDRESS=Baragaland Senior Citizens Center 6 N Main St L'Anse MI United States;X-APPLE-RADIUS=500;X-TITLE=6 N Main St:geo:-88.454464,46.757969
END:VEVENT
BEGIN:VEVENT
DTSTART;TZID=America/New_York:20250422T160000
DTEND;TZID=America/New_York:20250422T160000
DTSTAMP:20260422T044702
CREATED:20250412T081347Z
LAST-MODIFIED:20250420T042650Z
UID:10005896-1745337600-1745337600@chassellmarket.com
SUMMARY:Cribbage League
DESCRIPTION:The Cribbage League meets each Tuesday at Armando’s in Houghton. All ages and skill levels are welcome. To get involved\, call or text 906-482-2422\, or just show up at a session.
URL:https://chassellmarket.com/community-calendar/cribbage-league-27/
LOCATION:Armando’s Restaurant\, 517 Shelden Ave\, Houghton\, MI\, United States
CATEGORIES:Events
GEO:47.121788;-88.567979
X-APPLE-STRUCTURED-LOCATION;VALUE=URI;X-ADDRESS=Armando’s Restaurant 517 Shelden Ave Houghton MI United States;X-APPLE-RADIUS=500;X-TITLE=517 Shelden Ave:geo:-88.567979,47.121788
END:VEVENT
BEGIN:VEVENT
DTSTART;TZID=America/New_York:20250422T183000
DTEND;TZID=America/New_York:20250422T183000
DTSTAMP:20260422T044702
CREATED:20250412T081347Z
LAST-MODIFIED:20250420T042651Z
UID:10005897-1745346600-1745346600@chassellmarket.com
SUMMARY:Celebrate Recovery Support Group - L'Anse
DESCRIPTION:The Celebrate Recovery group at Northiron Church in L’Anse meets weekly Mondays at 6:30. The group provides a safe place to find freedom and healing\, offering hope\, support\, and real change.
URL:https://chassellmarket.com/community-calendar/celebrate-recovery-support-group-lanse-8/
LOCATION:Northiron Church\, 46001 Hwy US 41\, Houghton\, MI\, United States
CATEGORIES:Events
GEO:47.08307;-88.516647
X-APPLE-STRUCTURED-LOCATION;VALUE=URI;X-ADDRESS=Northiron Church 46001 Hwy US 41 Houghton MI United States;X-APPLE-RADIUS=500;X-TITLE=46001 Hwy US 41:geo:-88.516647,47.08307
END:VEVENT
BEGIN:VEVENT
DTSTART;TZID=America/New_York:20250422T190000
DTEND;TZID=America/New_York:20250422T190000
DTSTAMP:20260422T044702
CREATED:20250412T081347Z
LAST-MODIFIED:20250420T042651Z
UID:10005898-1745348400-1745348400@chassellmarket.com
SUMMARY:VetsForJesus Meeting
DESCRIPTION: VetsForJesus is a veteran-led Bible study for veterans and whoever else wants to attend.  Typically\, they read a small portion of the Bible and talk about it around the table.
URL:https://chassellmarket.com/community-calendar/vetsforjesus-meeting-105/
LOCATION:VFW HALL- POST 4624\, 52218 Duncan Ave\, Hubbell\, MI\, United States
CATEGORIES:Events
GEO:47.174133;-88.427997
X-APPLE-STRUCTURED-LOCATION;VALUE=URI;X-ADDRESS=VFW HALL- POST 4624 52218 Duncan Ave Hubbell MI United States;X-APPLE-RADIUS=500;X-TITLE=52218 Duncan Ave:geo:-88.427997,47.174133
END:VEVENT
BEGIN:VEVENT
DTSTART;TZID=America/New_York:20250423T000000
DTEND;TZID=America/New_York:20250423T235959
DTSTAMP:20260422T044702
CREATED:20250412T081400Z
LAST-MODIFIED:20250420T042654Z
UID:10005902-1745366400-1745452799@chassellmarket.com
SUMMARY:AA Meetings
DESCRIPTION:For an up to date list of all AA meetings in the Copper Country\, click here.
URL:https://chassellmarket.com/community-calendar/aa-meetings-749/
LOCATION:MI
CATEGORIES:Events
END:VEVENT
BEGIN:VEVENT
DTSTART;TZID=America/New_York:20250423T100000
DTEND;TZID=America/New_York:20250423T120000
DTSTAMP:20260422T044702
CREATED:20250412T081401Z
LAST-MODIFIED:20250420T042654Z
UID:10005904-1745402400-1745409600@chassellmarket.com
SUMMARY:Mohawk Playgroup
DESCRIPTION:The Keweenaw Family Resource Center playgroup will meet at the Horizons School in Mohawk. \nPlaygroup is for families in the area with children birth through 4 years of age. The playgroups provide an opportunity for children and parents to play in an environment that is supportive and nurturing. Morning playgroups are offered in the communities of Houghton\, and Mohawk.   \nPlaygroups are structured to allow children to explore and play at their own pace. We encourage parents to interact with their children at all times\, especially during snack time\, exploration time and during clean up. Playgroup coordinators are there to facilitate the sessions\, model appropriate adult behavior\, and interact with children in ways which will assist them in their learning and development of social skills. We strive for a positive experience for everyone. Playgroups are open to all area families. \nWhat to Expect at Playgroup:\n\nFree Play Time\, where children can choose to play with any toys they like.\nCircle time\, where the children are encouraged to sit in a group circle and sing songs and do finger plays.\nExploration time\, when children learn new things by free creation-finger painting\, coloring\, drawing.\nSnack time\, when children sit at the table with the other children and have a healthy snack.\nClean up time\, where both the children and their parents are required to participate. The snack is put away\, the toys put where they belong\, and the exploration area is tidied up.\n\nGet notification reminders for our playgroups by going to our event calendar\, then adding selected events to your Google calendar! Visit our Facebook page to stay informed on playgroup cancelations or other community events and resources.
URL:https://chassellmarket.com/community-calendar/mohawk-playgroup-24/
LOCATION:Horizons Alternative High School\, 110 Stanton Ave\, Mohawk\, MI\, United States
CATEGORIES:Events
GEO:47.304851;-88.361226
X-APPLE-STRUCTURED-LOCATION;VALUE=URI;X-ADDRESS=Horizons Alternative High School 110 Stanton Ave Mohawk MI United States;X-APPLE-RADIUS=500;X-TITLE=110 Stanton Ave:geo:-88.361226,47.304851
END:VEVENT
BEGIN:VEVENT
DTSTART;TZID=America/New_York:20250423T103000
DTEND;TZID=America/New_York:20250423T103000
DTSTAMP:20260422T044702
CREATED:20250412T081347Z
LAST-MODIFIED:20250420T042654Z
UID:10005899-1745404200-1745404200@chassellmarket.com
SUMMARY:Preschool Story Time
DESCRIPTION:Preschool story time meets each Wednesday at 10:30 and Thursday at 1:30 in the children’s area at the Portage Lake District Library. Children can enjoy a story\, and bring home a take-and-make craft bag.
URL:https://chassellmarket.com/community-calendar/preschool-story-time-179/
LOCATION:Portage Lake District Library\, 58 Huron St\, Houghton\, MI\, United States
CATEGORIES:Events
GEO:47.122079;-88.568186
X-APPLE-STRUCTURED-LOCATION;VALUE=URI;X-ADDRESS=Portage Lake District Library 58 Huron St Houghton MI United States;X-APPLE-RADIUS=500;X-TITLE=58 Huron St:geo:-88.568186,47.122079
END:VEVENT
BEGIN:VEVENT
DTSTART;TZID=America/New_York:20250423T110000
DTEND;TZID=America/New_York:20250423T133000
DTSTAMP:20260422T044702
CREATED:20241022T182630Z
LAST-MODIFIED:20250420T185423Z
UID:10004587-1745406000-1745415000@chassellmarket.com
SUMMARY:Senior Meals at the Fire Hall
DESCRIPTION:
URL:https://chassellmarket.com/community-calendar/senior-meals-at-the-fire-hall-208/
LOCATION:Chassell Township Fire Department\, 22098 7th St\, Chassell\, MI\, United States
CATEGORIES:Events
GEO:47.0219;-88.530903
X-APPLE-STRUCTURED-LOCATION;VALUE=URI;X-ADDRESS=Chassell Township Fire Department 22098 7th St Chassell MI United States;X-APPLE-RADIUS=500;X-TITLE=22098 7th St:geo:-88.530903,47.0219
END:VEVENT
BEGIN:VEVENT
DTSTART;TZID=America/New_York:20250423T130000
DTEND;TZID=America/New_York:20250423T180000
DTSTAMP:20260422T044702
CREATED:20250120T184218Z
LAST-MODIFIED:20250321T185528Z
UID:10005245-1745413200-1745431200@chassellmarket.com
SUMMARY:Township Clerk Office Hours
DESCRIPTION:
URL:https://chassellmarket.com/community-calendar/township-clerk-office-hours-27/
LOCATION:MI
CATEGORIES:Events
END:VEVENT
BEGIN:VEVENT
DTSTART;TZID=America/New_York:20250423T140000
DTEND;TZID=America/New_York:20250423T140000
DTSTAMP:20260422T044702
CREATED:20250412T081347Z
LAST-MODIFIED:20250420T042654Z
UID:10005900-1745416800-1745416800@chassellmarket.com
SUMMARY:Bingo - South Range
DESCRIPTION:The South Range Eagles Hall hosts Bingo every Wednesday. All are welcome.
URL:https://chassellmarket.com/community-calendar/bingo-south-range-108/
LOCATION:South Range Eagles\, 8 Baltic Ave\, South Range\, MI\, United States
CATEGORIES:Events
GEO:47.070836;-88.640432
X-APPLE-STRUCTURED-LOCATION;VALUE=URI;X-ADDRESS=South Range Eagles 8 Baltic Ave South Range MI United States;X-APPLE-RADIUS=500;X-TITLE=8 Baltic Ave:geo:-88.640432,47.070836
END:VEVENT
BEGIN:VEVENT
DTSTART;TZID=America/New_York:20250423T160000
DTEND;TZID=America/New_York:20250423T160000
DTSTAMP:20260422T044702
CREATED:20250412T081401Z
LAST-MODIFIED:20250420T042654Z
UID:10005905-1745424000-1745424000@chassellmarket.com
SUMMARY:Gentle Exercise Class - Lake Linden
DESCRIPTION:The Lake Linden United Methodist Church hosts a weekly gentle chair exercise group. All are welcome\, at no charge. Sessions are approximately 20 minutes long.
URL:https://chassellmarket.com/community-calendar/gentle-exercise-class-lake-linden-10/
LOCATION:Lake Linden United Methodist Church\, 53237 N Ave\, Lake Linden\, MI\, United States
CATEGORIES:Events
GEO:47.188547;-88.411956
X-APPLE-STRUCTURED-LOCATION;VALUE=URI;X-ADDRESS=Lake Linden United Methodist Church 53237 N Ave Lake Linden MI United States;X-APPLE-RADIUS=500;X-TITLE=53237 N Ave:geo:-88.411956,47.188547
END:VEVENT
BEGIN:VEVENT
DTSTART;TZID=America/New_York:20250423T170000
DTEND;TZID=America/New_York:20250423T210000
DTSTAMP:20260422T044702
CREATED:20250420T185424Z
LAST-MODIFIED:20250420T185424Z
UID:10005986-1745427600-1745442000@chassellmarket.com
SUMMARY:FD/FR_Training
DESCRIPTION:
URL:https://chassellmarket.com/community-calendar/fd-fr_training/
LOCATION:MI
CATEGORIES:Events
END:VEVENT
BEGIN:VEVENT
DTSTART;TZID=America/New_York:20250423T180000
DTEND;TZID=America/New_York:20250423T190000
DTSTAMP:20260422T044702
CREATED:20241022T182631Z
LAST-MODIFIED:20250420T185423Z
UID:10004588-1745431200-1745434800@chassellmarket.com
SUMMARY:Chassell Lions Meeting at VFW
DESCRIPTION:
URL:https://chassellmarket.com/community-calendar/chassell-lions-meeting-at-vfw-7/
LOCATION:Chassell VFW\, 41899 Wilson Memorial Dr\, Chassell\, MI\, United States
CATEGORIES:Events
GEO:47.022923;-88.527343
X-APPLE-STRUCTURED-LOCATION;VALUE=URI;X-ADDRESS=Chassell VFW 41899 Wilson Memorial Dr Chassell MI United States;X-APPLE-RADIUS=500;X-TITLE=41899 Wilson Memorial Dr:geo:-88.527343,47.022923
END:VEVENT
BEGIN:VEVENT
DTSTART;TZID=America/New_York:20250424T000000
DTEND;TZID=America/New_York:20250424T235959
DTSTAMP:20260422T044702
CREATED:20250412T081400Z
LAST-MODIFIED:20250420T042714Z
UID:10005901-1745452800-1745539199@chassellmarket.com
SUMMARY:AA Meetings
DESCRIPTION:For an up to date list of all AA meetings in the Copper Country\, click here.
URL:https://chassellmarket.com/community-calendar/aa-meetings-748/
LOCATION:MI
CATEGORIES:Events
END:VEVENT
BEGIN:VEVENT
DTSTART;TZID=America/New_York:20250424T110000
DTEND;TZID=America/New_York:20250424T110000
DTSTAMP:20260422T044702
CREATED:20250412T081404Z
LAST-MODIFIED:20250420T042714Z
UID:10005906-1745492400-1745492400@chassellmarket.com
SUMMARY:Keweenaw Chamber Lunch and Learn
DESCRIPTION:This Lunch and Learn presentation by the Keweenaw Chamber of Commerce will feature a discussion about small business financials\, including balance sheets\, and profit and loss statements.\n﻿Lunch will be catered by the Keweenaw Co-op Market and Deli. The program is free for Chamber members. Non-members are welcome at a cost of $10. Advance registration is required – email info@keweenaw.org.
URL:https://chassellmarket.com/community-calendar/keweenaw-chamber-lunch-and-learn-5/
LOCATION:The Bluffs\, 1000 Bluff View Dr\, Houghton\, MI\, United States
CATEGORIES:Events
GEO:47.110219;-88.595002
X-APPLE-STRUCTURED-LOCATION;VALUE=URI;X-ADDRESS=The Bluffs 1000 Bluff View Dr Houghton MI United States;X-APPLE-RADIUS=500;X-TITLE=1000 Bluff View Dr:geo:-88.595002,47.110219
END:VEVENT
BEGIN:VEVENT
DTSTART;TZID=America/New_York:20250424T130000
DTEND;TZID=America/New_York:20250424T130000
DTSTAMP:20260422T044702
CREATED:20250420T042714Z
LAST-MODIFIED:20250420T042714Z
UID:10005939-1745499600-1745499600@chassellmarket.com
SUMMARY:Baraga County Historical Society
DESCRIPTION:The Baraga County Historical Society will meet at the museum. Agenda items include planning for the 2025 summer season and reviewing the Society's bylaws and policy guidelines. The meeting is open to the public. Anyone with an interest in local history is welcome to attend.
URL:https://chassellmarket.com/community-calendar/baraga-county-historical-society-2/
LOCATION:Baraga County Historical Museum\, 46001 Hwy US 41\, Houghton\, MI\, United States
CATEGORIES:Events
GEO:47.08307;-88.516647
X-APPLE-STRUCTURED-LOCATION;VALUE=URI;X-ADDRESS=Baraga County Historical Museum 46001 Hwy US 41 Houghton MI United States;X-APPLE-RADIUS=500;X-TITLE=46001 Hwy US 41:geo:-88.516647,47.08307
END:VEVENT
BEGIN:VEVENT
DTSTART;TZID=America/New_York:20250424T133000
DTEND;TZID=America/New_York:20250424T133000
DTSTAMP:20260422T044702
CREATED:20250412T081404Z
LAST-MODIFIED:20250420T042715Z
UID:10005907-1745501400-1745501400@chassellmarket.com
SUMMARY:Preschool Story Time
DESCRIPTION:Preschool story time meets each Wednesday at 10:30 and Thursday at 1:30 in the children's area at the Portage Lake District Library. Children can enjoy a story\, and bring home a take-and-make craft bag.
URL:https://chassellmarket.com/community-calendar/preschool-story-time-180/
LOCATION:Portage Lake District Library\, 58 Huron St\, Houghton\, MI\, United States
CATEGORIES:Events
GEO:47.122079;-88.568186
X-APPLE-STRUCTURED-LOCATION;VALUE=URI;X-ADDRESS=Portage Lake District Library 58 Huron St Houghton MI United States;X-APPLE-RADIUS=500;X-TITLE=58 Huron St:geo:-88.568186,47.122079
END:VEVENT
BEGIN:VEVENT
DTSTART;TZID=America/New_York:20250424T150000
DTEND;TZID=America/New_York:20250424T180000
DTSTAMP:20260422T044702
CREATED:20250413T042828Z
LAST-MODIFIED:20250420T042715Z
UID:10005927-1745506800-1745517600@chassellmarket.com
SUMMARY:Veterans Spring Festival - L'Anse
DESCRIPTION:American Legion Post 144 in L’Anse will host its annual Veterans Spring Festival. Veterans\, family members and caregivers are invited to meet Baraga County veteran Service Officer Douglas Gray\, representatives from the VA\, Baraga County Memorial Hospital\, the Baraga County Community Foundation\, the Keweenaw Bay Indian Community\, and more than a dozen other local organizations that provide services to vets. Information for current and surviving spouses and children of veterans will also be available.  \nPlease bring proof of service. For more information\, click here\, or contact Baraga CountyVeteran Service Officer Douglas Gray at bcvso@baragacounty.org\, 524-5454\, or in person at the Baraga County Veterans Office at 2 S. Main St. in L’Anse.
URL:https://chassellmarket.com/community-calendar/veterans-spring-festival-lanse/
LOCATION:American Legion\, 301 Front St\, L'Anse\, MI\, United States
CATEGORIES:Events
GEO:46.76115;-88.45173
X-APPLE-STRUCTURED-LOCATION;VALUE=URI;X-ADDRESS=American Legion 301 Front St L'Anse MI United States;X-APPLE-RADIUS=500;X-TITLE=301 Front St:geo:-88.45173,46.76115
END:VEVENT
BEGIN:VEVENT
DTSTART;TZID=America/New_York:20250424T170000
DTEND;TZID=America/New_York:20250424T180000
DTSTAMP:20260422T044702
CREATED:20250420T042718Z
LAST-MODIFIED:20250420T042718Z
UID:10005940-1745514000-1745517600@chassellmarket.com
SUMMARY:Explore the Store
DESCRIPTION:Andy the Apple will lead kids on an exploration of Larry’s Market in Baraga. Families can take part in a scavenger hunt\, and kids can learn about how a grocery store works\, and what it sells. This program is presented by the Copper Country Great Start Collaborative.
URL:https://chassellmarket.com/community-calendar/explore-the-store-5/
LOCATION:Larry’s Market\, 46001 Hwy US 41\, Houghton\, MI\, United States
CATEGORIES:Events
GEO:47.08307;-88.516647
X-APPLE-STRUCTURED-LOCATION;VALUE=URI;X-ADDRESS=Larry’s Market 46001 Hwy US 41 Houghton MI United States;X-APPLE-RADIUS=500;X-TITLE=46001 Hwy US 41:geo:-88.516647,47.08307
END:VEVENT
BEGIN:VEVENT
DTSTART;TZID=America/New_York:20250425T000000
DTEND;TZID=America/New_York:20250425T235959
DTSTAMP:20260422T044702
CREATED:20250412T081417Z
LAST-MODIFIED:20250420T042718Z
UID:10005912-1745539200-1745625599@chassellmarket.com
SUMMARY:AA Meetings
DESCRIPTION:For an up to date list of all AA meetings in the Copper Country\, click here.
URL:https://chassellmarket.com/community-calendar/aa-meetings-751/
LOCATION:MI
CATEGORIES:Events
END:VEVENT
END:VCALENDAR